BEGIN:VCALENDAR
VERSION:2.0
PRODID:-//KINDERSCHUTZ MÜNCHEN - ECPv6.15.20//NONSGML v1.0//EN
CALSCALE:GREGORIAN
METHOD:PUBLISH
X-WR-CALNAME:KINDERSCHUTZ MÜNCHEN
X-ORIGINAL-URL:https://www.kinderschutz.de
X-WR-CALDESC:Veranstaltungen für KINDERSCHUTZ MÜNCHEN
REFRESH-INTERVAL;VALUE=DURATION:PT1H
X-Robots-Tag:noindex
X-PUBLISHED-TTL:PT1H
BEGIN:VTIMEZONE
TZID:Europe/Berlin
BEGIN:DAYLIGHT
TZOFFSETFROM:+0100
TZOFFSETTO:+0200
TZNAME:CEST
DTSTART:20250330T010000
END:DAYLIGHT
BEGIN:STANDARD
TZOFFSETFROM:+0200
TZOFFSETTO:+0100
TZNAME:CET
DTSTART:20251026T010000
END:STANDARD
BEGIN:DAYLIGHT
TZOFFSETFROM:+0100
TZOFFSETTO:+0200
TZNAME:CEST
DTSTART:20260329T010000
END:DAYLIGHT
BEGIN:STANDARD
TZOFFSETFROM:+0200
TZOFFSETTO:+0100
TZNAME:CET
DTSTART:20261025T010000
END:STANDARD
BEGIN:DAYLIGHT
TZOFFSETFROM:+0100
TZOFFSETTO:+0200
TZNAME:CEST
DTSTART:20270328T010000
END:DAYLIGHT
BEGIN:STANDARD
TZOFFSETFROM:+0200
TZOFFSETTO:+0100
TZNAME:CET
DTSTART:20271031T010000
END:STANDARD
END:VTIMEZONE
BEGIN:VEVENT
DTSTART;TZID=Europe/Berlin:20260426T120000
DTEND;TZID=Europe/Berlin:20260426T143000
DTSTAMP:20260420T144352
CREATED:20240714T145814Z
LAST-MODIFIED:20240714T145814Z
UID:10013243-1777204800-1777213800@www.kinderschutz.de
SUMMARY:Arabisch lesen lernen für Jungen und Männer
DESCRIPTION:
URL:https://www.kinderschutz.de/veranstaltung/arabisch-lesen-lernen-fuer-jungen-und-maenner/2026-04-26/
LOCATION:GaleriaTreff Nachbarschaftstreff\, Lehrer-Wirth-Straße 21\, München\, Bayern\, 81829\, Germany
CATEGORIES:Messestadt Riem,Wochenprogramm
END:VEVENT
BEGIN:VEVENT
DTSTART;TZID=Europe/Berlin:20260503T120000
DTEND;TZID=Europe/Berlin:20260503T143000
DTSTAMP:20260420T144352
CREATED:20240714T145814Z
LAST-MODIFIED:20240714T145814Z
UID:10013244-1777809600-1777818600@www.kinderschutz.de
SUMMARY:Arabisch lesen lernen für Jungen und Männer
DESCRIPTION:
URL:https://www.kinderschutz.de/veranstaltung/arabisch-lesen-lernen-fuer-jungen-und-maenner/2026-05-03/
LOCATION:GaleriaTreff Nachbarschaftstreff\, Lehrer-Wirth-Straße 21\, München\, Bayern\, 81829\, Germany
CATEGORIES:Messestadt Riem,Wochenprogramm
END:VEVENT
BEGIN:VEVENT
DTSTART;TZID=Europe/Berlin:20260510T120000
DTEND;TZID=Europe/Berlin:20260510T143000
DTSTAMP:20260420T144352
CREATED:20240714T145814Z
LAST-MODIFIED:20240714T145814Z
UID:10013245-1778414400-1778423400@www.kinderschutz.de
SUMMARY:Arabisch lesen lernen für Jungen und Männer
DESCRIPTION:
URL:https://www.kinderschutz.de/veranstaltung/arabisch-lesen-lernen-fuer-jungen-und-maenner/2026-05-10/
LOCATION:GaleriaTreff Nachbarschaftstreff\, Lehrer-Wirth-Straße 21\, München\, Bayern\, 81829\, Germany
CATEGORIES:Messestadt Riem,Wochenprogramm
END:VEVENT
BEGIN:VEVENT
DTSTART;TZID=Europe/Berlin:20260517T120000
DTEND;TZID=Europe/Berlin:20260517T143000
DTSTAMP:20260420T144352
CREATED:20240714T145814Z
LAST-MODIFIED:20240714T145814Z
UID:10013246-1779019200-1779028200@www.kinderschutz.de
SUMMARY:Arabisch lesen lernen für Jungen und Männer
DESCRIPTION:
URL:https://www.kinderschutz.de/veranstaltung/arabisch-lesen-lernen-fuer-jungen-und-maenner/2026-05-17/
LOCATION:GaleriaTreff Nachbarschaftstreff\, Lehrer-Wirth-Straße 21\, München\, Bayern\, 81829\, Germany
CATEGORIES:Messestadt Riem,Wochenprogramm
END:VEVENT
BEGIN:VEVENT
DTSTART;TZID=Europe/Berlin:20260524T120000
DTEND;TZID=Europe/Berlin:20260524T143000
DTSTAMP:20260420T144352
CREATED:20240714T145814Z
LAST-MODIFIED:20240714T145814Z
UID:10013247-1779624000-1779633000@www.kinderschutz.de
SUMMARY:Arabisch lesen lernen für Jungen und Männer
DESCRIPTION:
URL:https://www.kinderschutz.de/veranstaltung/arabisch-lesen-lernen-fuer-jungen-und-maenner/2026-05-24/
LOCATION:GaleriaTreff Nachbarschaftstreff\, Lehrer-Wirth-Straße 21\, München\, Bayern\, 81829\, Germany
CATEGORIES:Messestadt Riem,Wochenprogramm
END:VEVENT
BEGIN:VEVENT
DTSTART;TZID=Europe/Berlin:20260531T120000
DTEND;TZID=Europe/Berlin:20260531T143000
DTSTAMP:20260420T144352
CREATED:20240714T145814Z
LAST-MODIFIED:20240714T145814Z
UID:10013248-1780228800-1780237800@www.kinderschutz.de
SUMMARY:Arabisch lesen lernen für Jungen und Männer
DESCRIPTION:
URL:https://www.kinderschutz.de/veranstaltung/arabisch-lesen-lernen-fuer-jungen-und-maenner/2026-05-31/
LOCATION:GaleriaTreff Nachbarschaftstreff\, Lehrer-Wirth-Straße 21\, München\, Bayern\, 81829\, Germany
CATEGORIES:Messestadt Riem,Wochenprogramm
END:VEVENT
BEGIN:VEVENT
DTSTART;TZID=Europe/Berlin:20260607T120000
DTEND;TZID=Europe/Berlin:20260607T143000
DTSTAMP:20260420T144352
CREATED:20240714T145814Z
LAST-MODIFIED:20240714T145814Z
UID:10013249-1780833600-1780842600@www.kinderschutz.de
SUMMARY:Arabisch lesen lernen für Jungen und Männer
DESCRIPTION:
URL:https://www.kinderschutz.de/veranstaltung/arabisch-lesen-lernen-fuer-jungen-und-maenner/2026-06-07/
LOCATION:GaleriaTreff Nachbarschaftstreff\, Lehrer-Wirth-Straße 21\, München\, Bayern\, 81829\, Germany
CATEGORIES:Messestadt Riem,Wochenprogramm
END:VEVENT
BEGIN:VEVENT
DTSTART;TZID=Europe/Berlin:20260614T120000
DTEND;TZID=Europe/Berlin:20260614T143000
DTSTAMP:20260420T144352
CREATED:20240714T145814Z
LAST-MODIFIED:20240714T145814Z
UID:10013250-1781438400-1781447400@www.kinderschutz.de
SUMMARY:Arabisch lesen lernen für Jungen und Männer
DESCRIPTION:
URL:https://www.kinderschutz.de/veranstaltung/arabisch-lesen-lernen-fuer-jungen-und-maenner/2026-06-14/
LOCATION:GaleriaTreff Nachbarschaftstreff\, Lehrer-Wirth-Straße 21\, München\, Bayern\, 81829\, Germany
CATEGORIES:Messestadt Riem,Wochenprogramm
END:VEVENT
BEGIN:VEVENT
DTSTART;TZID=Europe/Berlin:20260621T120000
DTEND;TZID=Europe/Berlin:20260621T143000
DTSTAMP:20260420T144353
CREATED:20240714T145814Z
LAST-MODIFIED:20240714T145814Z
UID:10013251-1782043200-1782052200@www.kinderschutz.de
SUMMARY:Arabisch lesen lernen für Jungen und Männer
DESCRIPTION:
URL:https://www.kinderschutz.de/veranstaltung/arabisch-lesen-lernen-fuer-jungen-und-maenner/2026-06-21/
LOCATION:GaleriaTreff Nachbarschaftstreff\, Lehrer-Wirth-Straße 21\, München\, Bayern\, 81829\, Germany
CATEGORIES:Messestadt Riem,Wochenprogramm
END:VEVENT
BEGIN:VEVENT
DTSTART;TZID=Europe/Berlin:20260628T120000
DTEND;TZID=Europe/Berlin:20260628T143000
DTSTAMP:20260420T144353
CREATED:20240714T145814Z
LAST-MODIFIED:20240714T145814Z
UID:10013252-1782648000-1782657000@www.kinderschutz.de
SUMMARY:Arabisch lesen lernen für Jungen und Männer
DESCRIPTION:
URL:https://www.kinderschutz.de/veranstaltung/arabisch-lesen-lernen-fuer-jungen-und-maenner/2026-06-28/
LOCATION:GaleriaTreff Nachbarschaftstreff\, Lehrer-Wirth-Straße 21\, München\, Bayern\, 81829\, Germany
CATEGORIES:Messestadt Riem,Wochenprogramm
END:VEVENT
BEGIN:VEVENT
DTSTART;TZID=Europe/Berlin:20260705T120000
DTEND;TZID=Europe/Berlin:20260705T143000
DTSTAMP:20260420T144353
CREATED:20240714T145814Z
LAST-MODIFIED:20240714T145814Z
UID:10013253-1783252800-1783261800@www.kinderschutz.de
SUMMARY:Arabisch lesen lernen für Jungen und Männer
DESCRIPTION:
URL:https://www.kinderschutz.de/veranstaltung/arabisch-lesen-lernen-fuer-jungen-und-maenner/2026-07-05/
LOCATION:GaleriaTreff Nachbarschaftstreff\, Lehrer-Wirth-Straße 21\, München\, Bayern\, 81829\, Germany
CATEGORIES:Messestadt Riem,Wochenprogramm
END:VEVENT
BEGIN:VEVENT
DTSTART;TZID=Europe/Berlin:20260712T120000
DTEND;TZID=Europe/Berlin:20260712T143000
DTSTAMP:20260420T144353
CREATED:20240714T145814Z
LAST-MODIFIED:20240714T145814Z
UID:10013254-1783857600-1783866600@www.kinderschutz.de
SUMMARY:Arabisch lesen lernen für Jungen und Männer
DESCRIPTION:
URL:https://www.kinderschutz.de/veranstaltung/arabisch-lesen-lernen-fuer-jungen-und-maenner/2026-07-12/
LOCATION:GaleriaTreff Nachbarschaftstreff\, Lehrer-Wirth-Straße 21\, München\, Bayern\, 81829\, Germany
CATEGORIES:Messestadt Riem,Wochenprogramm
END:VEVENT
BEGIN:VEVENT
DTSTART;TZID=Europe/Berlin:20260719T120000
DTEND;TZID=Europe/Berlin:20260719T143000
DTSTAMP:20260420T144353
CREATED:20240714T145814Z
LAST-MODIFIED:20240714T145814Z
UID:10013255-1784462400-1784471400@www.kinderschutz.de
SUMMARY:Arabisch lesen lernen für Jungen und Männer
DESCRIPTION:
URL:https://www.kinderschutz.de/veranstaltung/arabisch-lesen-lernen-fuer-jungen-und-maenner/2026-07-19/
LOCATION:GaleriaTreff Nachbarschaftstreff\, Lehrer-Wirth-Straße 21\, München\, Bayern\, 81829\, Germany
CATEGORIES:Messestadt Riem,Wochenprogramm
END:VEVENT
BEGIN:VEVENT
DTSTART;TZID=Europe/Berlin:20260726T120000
DTEND;TZID=Europe/Berlin:20260726T143000
DTSTAMP:20260420T144353
CREATED:20240714T145814Z
LAST-MODIFIED:20240714T145814Z
UID:10013256-1785067200-1785076200@www.kinderschutz.de
SUMMARY:Arabisch lesen lernen für Jungen und Männer
DESCRIPTION:
URL:https://www.kinderschutz.de/veranstaltung/arabisch-lesen-lernen-fuer-jungen-und-maenner/2026-07-26/
LOCATION:GaleriaTreff Nachbarschaftstreff\, Lehrer-Wirth-Straße 21\, München\, Bayern\, 81829\, Germany
CATEGORIES:Messestadt Riem,Wochenprogramm
END:VEVENT
BEGIN:VEVENT
DTSTART;TZID=Europe/Berlin:20260802T120000
DTEND;TZID=Europe/Berlin:20260802T143000
DTSTAMP:20260420T144353
CREATED:20240714T145814Z
LAST-MODIFIED:20240714T145814Z
UID:10013257-1785672000-1785681000@www.kinderschutz.de
SUMMARY:Arabisch lesen lernen für Jungen und Männer
DESCRIPTION:
URL:https://www.kinderschutz.de/veranstaltung/arabisch-lesen-lernen-fuer-jungen-und-maenner/2026-08-02/
LOCATION:GaleriaTreff Nachbarschaftstreff\, Lehrer-Wirth-Straße 21\, München\, Bayern\, 81829\, Germany
CATEGORIES:Messestadt Riem,Wochenprogramm
END:VEVENT
BEGIN:VEVENT
DTSTART;TZID=Europe/Berlin:20260809T120000
DTEND;TZID=Europe/Berlin:20260809T143000
DTSTAMP:20260420T144353
CREATED:20240714T145814Z
LAST-MODIFIED:20240714T145814Z
UID:10013258-1786276800-1786285800@www.kinderschutz.de
SUMMARY:Arabisch lesen lernen für Jungen und Männer
DESCRIPTION:
URL:https://www.kinderschutz.de/veranstaltung/arabisch-lesen-lernen-fuer-jungen-und-maenner/2026-08-09/
LOCATION:GaleriaTreff Nachbarschaftstreff\, Lehrer-Wirth-Straße 21\, München\, Bayern\, 81829\, Germany
CATEGORIES:Messestadt Riem,Wochenprogramm
END:VEVENT
BEGIN:VEVENT
DTSTART;TZID=Europe/Berlin:20260816T120000
DTEND;TZID=Europe/Berlin:20260816T143000
DTSTAMP:20260420T144353
CREATED:20240714T145814Z
LAST-MODIFIED:20240714T145814Z
UID:10013259-1786881600-1786890600@www.kinderschutz.de
SUMMARY:Arabisch lesen lernen für Jungen und Männer
DESCRIPTION:
URL:https://www.kinderschutz.de/veranstaltung/arabisch-lesen-lernen-fuer-jungen-und-maenner/2026-08-16/
LOCATION:GaleriaTreff Nachbarschaftstreff\, Lehrer-Wirth-Straße 21\, München\, Bayern\, 81829\, Germany
CATEGORIES:Messestadt Riem,Wochenprogramm
END:VEVENT
BEGIN:VEVENT
DTSTART;TZID=Europe/Berlin:20260823T120000
DTEND;TZID=Europe/Berlin:20260823T143000
DTSTAMP:20260420T144353
CREATED:20240714T145814Z
LAST-MODIFIED:20240714T145814Z
UID:10013260-1787486400-1787495400@www.kinderschutz.de
SUMMARY:Arabisch lesen lernen für Jungen und Männer
DESCRIPTION:
URL:https://www.kinderschutz.de/veranstaltung/arabisch-lesen-lernen-fuer-jungen-und-maenner/2026-08-23/
LOCATION:GaleriaTreff Nachbarschaftstreff\, Lehrer-Wirth-Straße 21\, München\, Bayern\, 81829\, Germany
CATEGORIES:Messestadt Riem,Wochenprogramm
END:VEVENT
BEGIN:VEVENT
DTSTART;TZID=Europe/Berlin:20260830T120000
DTEND;TZID=Europe/Berlin:20260830T143000
DTSTAMP:20260420T144353
CREATED:20240714T145814Z
LAST-MODIFIED:20240714T145814Z
UID:10013261-1788091200-1788100200@www.kinderschutz.de
SUMMARY:Arabisch lesen lernen für Jungen und Männer
DESCRIPTION:
URL:https://www.kinderschutz.de/veranstaltung/arabisch-lesen-lernen-fuer-jungen-und-maenner/2026-08-30/
LOCATION:GaleriaTreff Nachbarschaftstreff\, Lehrer-Wirth-Straße 21\, München\, Bayern\, 81829\, Germany
CATEGORIES:Messestadt Riem,Wochenprogramm
END:VEVENT
BEGIN:VEVENT
DTSTART;TZID=Europe/Berlin:20260906T120000
DTEND;TZID=Europe/Berlin:20260906T143000
DTSTAMP:20260420T144353
CREATED:20240714T145814Z
LAST-MODIFIED:20240714T145814Z
UID:10013262-1788696000-1788705000@www.kinderschutz.de
SUMMARY:Arabisch lesen lernen für Jungen und Männer
DESCRIPTION:
URL:https://www.kinderschutz.de/veranstaltung/arabisch-lesen-lernen-fuer-jungen-und-maenner/2026-09-06/
LOCATION:GaleriaTreff Nachbarschaftstreff\, Lehrer-Wirth-Straße 21\, München\, Bayern\, 81829\, Germany
CATEGORIES:Messestadt Riem,Wochenprogramm
END:VEVENT
BEGIN:VEVENT
DTSTART;TZID=Europe/Berlin:20260913T120000
DTEND;TZID=Europe/Berlin:20260913T143000
DTSTAMP:20260420T144353
CREATED:20240714T145814Z
LAST-MODIFIED:20240714T145814Z
UID:10013263-1789300800-1789309800@www.kinderschutz.de
SUMMARY:Arabisch lesen lernen für Jungen und Männer
DESCRIPTION:
URL:https://www.kinderschutz.de/veranstaltung/arabisch-lesen-lernen-fuer-jungen-und-maenner/2026-09-13/
LOCATION:GaleriaTreff Nachbarschaftstreff\, Lehrer-Wirth-Straße 21\, München\, Bayern\, 81829\, Germany
CATEGORIES:Messestadt Riem,Wochenprogramm
END:VEVENT
BEGIN:VEVENT
DTSTART;TZID=Europe/Berlin:20260920T120000
DTEND;TZID=Europe/Berlin:20260920T143000
DTSTAMP:20260420T144353
CREATED:20240714T145814Z
LAST-MODIFIED:20240714T145814Z
UID:10013264-1789905600-1789914600@www.kinderschutz.de
SUMMARY:Arabisch lesen lernen für Jungen und Männer
DESCRIPTION:
URL:https://www.kinderschutz.de/veranstaltung/arabisch-lesen-lernen-fuer-jungen-und-maenner/2026-09-20/
LOCATION:GaleriaTreff Nachbarschaftstreff\, Lehrer-Wirth-Straße 21\, München\, Bayern\, 81829\, Germany
CATEGORIES:Messestadt Riem,Wochenprogramm
END:VEVENT
BEGIN:VEVENT
DTSTART;TZID=Europe/Berlin:20260927T120000
DTEND;TZID=Europe/Berlin:20260927T143000
DTSTAMP:20260420T144353
CREATED:20240714T145814Z
LAST-MODIFIED:20240714T145814Z
UID:10013265-1790510400-1790519400@www.kinderschutz.de
SUMMARY:Arabisch lesen lernen für Jungen und Männer
DESCRIPTION:
URL:https://www.kinderschutz.de/veranstaltung/arabisch-lesen-lernen-fuer-jungen-und-maenner/2026-09-27/
LOCATION:GaleriaTreff Nachbarschaftstreff\, Lehrer-Wirth-Straße 21\, München\, Bayern\, 81829\, Germany
CATEGORIES:Messestadt Riem,Wochenprogramm
END:VEVENT
BEGIN:VEVENT
DTSTART;TZID=Europe/Berlin:20261004T120000
DTEND;TZID=Europe/Berlin:20261004T143000
DTSTAMP:20260420T144353
CREATED:20240714T145814Z
LAST-MODIFIED:20240714T145814Z
UID:10013266-1791115200-1791124200@www.kinderschutz.de
SUMMARY:Arabisch lesen lernen für Jungen und Männer
DESCRIPTION:
URL:https://www.kinderschutz.de/veranstaltung/arabisch-lesen-lernen-fuer-jungen-und-maenner/2026-10-04/
LOCATION:GaleriaTreff Nachbarschaftstreff\, Lehrer-Wirth-Straße 21\, München\, Bayern\, 81829\, Germany
CATEGORIES:Messestadt Riem,Wochenprogramm
END:VEVENT
BEGIN:VEVENT
DTSTART;TZID=Europe/Berlin:20261011T120000
DTEND;TZID=Europe/Berlin:20261011T143000
DTSTAMP:20260420T144353
CREATED:20240714T145814Z
LAST-MODIFIED:20240714T145814Z
UID:10013267-1791720000-1791729000@www.kinderschutz.de
SUMMARY:Arabisch lesen lernen für Jungen und Männer
DESCRIPTION:
URL:https://www.kinderschutz.de/veranstaltung/arabisch-lesen-lernen-fuer-jungen-und-maenner/2026-10-11/
LOCATION:GaleriaTreff Nachbarschaftstreff\, Lehrer-Wirth-Straße 21\, München\, Bayern\, 81829\, Germany
CATEGORIES:Messestadt Riem,Wochenprogramm
END:VEVENT
BEGIN:VEVENT
DTSTART;TZID=Europe/Berlin:20261018T120000
DTEND;TZID=Europe/Berlin:20261018T143000
DTSTAMP:20260420T144353
CREATED:20240714T145814Z
LAST-MODIFIED:20240714T145814Z
UID:10013268-1792324800-1792333800@www.kinderschutz.de
SUMMARY:Arabisch lesen lernen für Jungen und Männer
DESCRIPTION:
URL:https://www.kinderschutz.de/veranstaltung/arabisch-lesen-lernen-fuer-jungen-und-maenner/2026-10-18/
LOCATION:GaleriaTreff Nachbarschaftstreff\, Lehrer-Wirth-Straße 21\, München\, Bayern\, 81829\, Germany
CATEGORIES:Messestadt Riem,Wochenprogramm
END:VEVENT
BEGIN:VEVENT
DTSTART;TZID=Europe/Berlin:20261025T120000
DTEND;TZID=Europe/Berlin:20261025T143000
DTSTAMP:20260420T144353
CREATED:20240714T145814Z
LAST-MODIFIED:20240714T145814Z
UID:10013269-1792929600-1792938600@www.kinderschutz.de
SUMMARY:Arabisch lesen lernen für Jungen und Männer
DESCRIPTION:
URL:https://www.kinderschutz.de/veranstaltung/arabisch-lesen-lernen-fuer-jungen-und-maenner/2026-10-25/
LOCATION:GaleriaTreff Nachbarschaftstreff\, Lehrer-Wirth-Straße 21\, München\, Bayern\, 81829\, Germany
CATEGORIES:Messestadt Riem,Wochenprogramm
END:VEVENT
BEGIN:VEVENT
DTSTART;TZID=Europe/Berlin:20261101T120000
DTEND;TZID=Europe/Berlin:20261101T143000
DTSTAMP:20260420T144353
CREATED:20240714T145814Z
LAST-MODIFIED:20240714T145814Z
UID:10013270-1793534400-1793543400@www.kinderschutz.de
SUMMARY:Arabisch lesen lernen für Jungen und Männer
DESCRIPTION:
URL:https://www.kinderschutz.de/veranstaltung/arabisch-lesen-lernen-fuer-jungen-und-maenner/2026-11-01/
LOCATION:GaleriaTreff Nachbarschaftstreff\, Lehrer-Wirth-Straße 21\, München\, Bayern\, 81829\, Germany
CATEGORIES:Messestadt Riem,Wochenprogramm
END:VEVENT
BEGIN:VEVENT
DTSTART;TZID=Europe/Berlin:20261108T120000
DTEND;TZID=Europe/Berlin:20261108T143000
DTSTAMP:20260420T144353
CREATED:20240714T145814Z
LAST-MODIFIED:20240714T145814Z
UID:10013271-1794139200-1794148200@www.kinderschutz.de
SUMMARY:Arabisch lesen lernen für Jungen und Männer
DESCRIPTION:
URL:https://www.kinderschutz.de/veranstaltung/arabisch-lesen-lernen-fuer-jungen-und-maenner/2026-11-08/
LOCATION:GaleriaTreff Nachbarschaftstreff\, Lehrer-Wirth-Straße 21\, München\, Bayern\, 81829\, Germany
CATEGORIES:Messestadt Riem,Wochenprogramm
END:VEVENT
BEGIN:VEVENT
DTSTART;TZID=Europe/Berlin:20261115T120000
DTEND;TZID=Europe/Berlin:20261115T143000
DTSTAMP:20260420T144353
CREATED:20240714T145814Z
LAST-MODIFIED:20240714T145814Z
UID:10013272-1794744000-1794753000@www.kinderschutz.de
SUMMARY:Arabisch lesen lernen für Jungen und Männer
DESCRIPTION:
URL:https://www.kinderschutz.de/veranstaltung/arabisch-lesen-lernen-fuer-jungen-und-maenner/2026-11-15/
LOCATION:GaleriaTreff Nachbarschaftstreff\, Lehrer-Wirth-Straße 21\, München\, Bayern\, 81829\, Germany
CATEGORIES:Messestadt Riem,Wochenprogramm
END:VEVENT
END:VCALENDAR