BEGIN:VCALENDAR
VERSION:2.0
PRODID:-//KINDERSCHUTZ MÜNCHEN - ECPv6.15.20//NONSGML v1.0//EN
CALSCALE:GREGORIAN
METHOD:PUBLISH
X-WR-CALNAME:KINDERSCHUTZ MÜNCHEN
X-ORIGINAL-URL:https://www.kinderschutz.de
X-WR-CALDESC:Veranstaltungen für KINDERSCHUTZ MÜNCHEN
REFRESH-INTERVAL;VALUE=DURATION:PT1H
X-Robots-Tag:noindex
X-PUBLISHED-TTL:PT1H
BEGIN:VTIMEZONE
TZID:Europe/Berlin
BEGIN:DAYLIGHT
TZOFFSETFROM:+0100
TZOFFSETTO:+0200
TZNAME:CEST
DTSTART:20250330T010000
END:DAYLIGHT
BEGIN:STANDARD
TZOFFSETFROM:+0200
TZOFFSETTO:+0100
TZNAME:CET
DTSTART:20251026T010000
END:STANDARD
BEGIN:DAYLIGHT
TZOFFSETFROM:+0100
TZOFFSETTO:+0200
TZNAME:CEST
DTSTART:20260329T010000
END:DAYLIGHT
BEGIN:STANDARD
TZOFFSETFROM:+0200
TZOFFSETTO:+0100
TZNAME:CET
DTSTART:20261025T010000
END:STANDARD
BEGIN:DAYLIGHT
TZOFFSETFROM:+0100
TZOFFSETTO:+0200
TZNAME:CEST
DTSTART:20270328T010000
END:DAYLIGHT
BEGIN:STANDARD
TZOFFSETFROM:+0200
TZOFFSETTO:+0100
TZNAME:CET
DTSTART:20271031T010000
END:STANDARD
END:VTIMEZONE
BEGIN:VEVENT
DTSTART;TZID=Europe/Berlin:20260430T160000
DTEND;TZID=Europe/Berlin:20260430T173000
DTSTAMP:20260424T171808
CREATED:20250207T102814Z
LAST-MODIFIED:20250207T102815Z
UID:10033888-1777564800-1777570200@www.kinderschutz.de
SUMMARY:Bürosprechstunde Private Raumnutzung
DESCRIPTION:
URL:https://www.kinderschutz.de/veranstaltung/buerosprechstunde-private-raumnutzung-2/2026-04-30/
LOCATION:Nachbarschaftstreff Heinrich trifft Böll
CATEGORIES:Messestadt Riem,Wochenprogramm
END:VEVENT
BEGIN:VEVENT
DTSTART;TZID=Europe/Berlin:20260507T160000
DTEND;TZID=Europe/Berlin:20260507T173000
DTSTAMP:20260424T171808
CREATED:20250207T102814Z
LAST-MODIFIED:20250207T102815Z
UID:10033889-1778169600-1778175000@www.kinderschutz.de
SUMMARY:Bürosprechstunde Private Raumnutzung
DESCRIPTION:
URL:https://www.kinderschutz.de/veranstaltung/buerosprechstunde-private-raumnutzung-2/2026-05-07/
LOCATION:Nachbarschaftstreff Heinrich trifft Böll
CATEGORIES:Messestadt Riem,Wochenprogramm
END:VEVENT
BEGIN:VEVENT
DTSTART;TZID=Europe/Berlin:20260514T160000
DTEND;TZID=Europe/Berlin:20260514T173000
DTSTAMP:20260424T171808
CREATED:20250207T102814Z
LAST-MODIFIED:20250207T102815Z
UID:10033890-1778774400-1778779800@www.kinderschutz.de
SUMMARY:Bürosprechstunde Private Raumnutzung
DESCRIPTION:
URL:https://www.kinderschutz.de/veranstaltung/buerosprechstunde-private-raumnutzung-2/2026-05-14/
LOCATION:Nachbarschaftstreff Heinrich trifft Böll
CATEGORIES:Messestadt Riem,Wochenprogramm
END:VEVENT
BEGIN:VEVENT
DTSTART;TZID=Europe/Berlin:20260521T160000
DTEND;TZID=Europe/Berlin:20260521T173000
DTSTAMP:20260424T171808
CREATED:20250207T102814Z
LAST-MODIFIED:20250207T102815Z
UID:10033891-1779379200-1779384600@www.kinderschutz.de
SUMMARY:Bürosprechstunde Private Raumnutzung
DESCRIPTION:
URL:https://www.kinderschutz.de/veranstaltung/buerosprechstunde-private-raumnutzung-2/2026-05-21/
LOCATION:Nachbarschaftstreff Heinrich trifft Böll
CATEGORIES:Messestadt Riem,Wochenprogramm
END:VEVENT
BEGIN:VEVENT
DTSTART;TZID=Europe/Berlin:20260528T160000
DTEND;TZID=Europe/Berlin:20260528T173000
DTSTAMP:20260424T171808
CREATED:20250207T102814Z
LAST-MODIFIED:20250207T102815Z
UID:10033892-1779984000-1779989400@www.kinderschutz.de
SUMMARY:Bürosprechstunde Private Raumnutzung
DESCRIPTION:
URL:https://www.kinderschutz.de/veranstaltung/buerosprechstunde-private-raumnutzung-2/2026-05-28/
LOCATION:Nachbarschaftstreff Heinrich trifft Böll
CATEGORIES:Messestadt Riem,Wochenprogramm
END:VEVENT
BEGIN:VEVENT
DTSTART;TZID=Europe/Berlin:20260604T160000
DTEND;TZID=Europe/Berlin:20260604T173000
DTSTAMP:20260424T171809
CREATED:20250207T102814Z
LAST-MODIFIED:20250207T102815Z
UID:10033893-1780588800-1780594200@www.kinderschutz.de
SUMMARY:Bürosprechstunde Private Raumnutzung
DESCRIPTION:
URL:https://www.kinderschutz.de/veranstaltung/buerosprechstunde-private-raumnutzung-2/2026-06-04/
LOCATION:Nachbarschaftstreff Heinrich trifft Böll
CATEGORIES:Messestadt Riem,Wochenprogramm
END:VEVENT
BEGIN:VEVENT
DTSTART;TZID=Europe/Berlin:20260611T160000
DTEND;TZID=Europe/Berlin:20260611T173000
DTSTAMP:20260424T171809
CREATED:20250207T102814Z
LAST-MODIFIED:20250207T102815Z
UID:10033894-1781193600-1781199000@www.kinderschutz.de
SUMMARY:Bürosprechstunde Private Raumnutzung
DESCRIPTION:
URL:https://www.kinderschutz.de/veranstaltung/buerosprechstunde-private-raumnutzung-2/2026-06-11/
LOCATION:Nachbarschaftstreff Heinrich trifft Böll
CATEGORIES:Messestadt Riem,Wochenprogramm
END:VEVENT
BEGIN:VEVENT
DTSTART;TZID=Europe/Berlin:20260618T160000
DTEND;TZID=Europe/Berlin:20260618T173000
DTSTAMP:20260424T171809
CREATED:20250207T102814Z
LAST-MODIFIED:20250207T102815Z
UID:10033895-1781798400-1781803800@www.kinderschutz.de
SUMMARY:Bürosprechstunde Private Raumnutzung
DESCRIPTION:
URL:https://www.kinderschutz.de/veranstaltung/buerosprechstunde-private-raumnutzung-2/2026-06-18/
LOCATION:Nachbarschaftstreff Heinrich trifft Böll
CATEGORIES:Messestadt Riem,Wochenprogramm
END:VEVENT
BEGIN:VEVENT
DTSTART;TZID=Europe/Berlin:20260625T160000
DTEND;TZID=Europe/Berlin:20260625T173000
DTSTAMP:20260424T171809
CREATED:20250207T102814Z
LAST-MODIFIED:20250207T102815Z
UID:10033896-1782403200-1782408600@www.kinderschutz.de
SUMMARY:Bürosprechstunde Private Raumnutzung
DESCRIPTION:
URL:https://www.kinderschutz.de/veranstaltung/buerosprechstunde-private-raumnutzung-2/2026-06-25/
LOCATION:Nachbarschaftstreff Heinrich trifft Böll
CATEGORIES:Messestadt Riem,Wochenprogramm
END:VEVENT
BEGIN:VEVENT
DTSTART;TZID=Europe/Berlin:20260702T160000
DTEND;TZID=Europe/Berlin:20260702T173000
DTSTAMP:20260424T171809
CREATED:20250207T102814Z
LAST-MODIFIED:20250207T102815Z
UID:10033897-1783008000-1783013400@www.kinderschutz.de
SUMMARY:Bürosprechstunde Private Raumnutzung
DESCRIPTION:
URL:https://www.kinderschutz.de/veranstaltung/buerosprechstunde-private-raumnutzung-2/2026-07-02/
LOCATION:Nachbarschaftstreff Heinrich trifft Böll
CATEGORIES:Messestadt Riem,Wochenprogramm
END:VEVENT
BEGIN:VEVENT
DTSTART;TZID=Europe/Berlin:20260709T160000
DTEND;TZID=Europe/Berlin:20260709T173000
DTSTAMP:20260424T171809
CREATED:20250207T102814Z
LAST-MODIFIED:20250207T102815Z
UID:10033898-1783612800-1783618200@www.kinderschutz.de
SUMMARY:Bürosprechstunde Private Raumnutzung
DESCRIPTION:
URL:https://www.kinderschutz.de/veranstaltung/buerosprechstunde-private-raumnutzung-2/2026-07-09/
LOCATION:Nachbarschaftstreff Heinrich trifft Böll
CATEGORIES:Messestadt Riem,Wochenprogramm
END:VEVENT
BEGIN:VEVENT
DTSTART;TZID=Europe/Berlin:20260716T160000
DTEND;TZID=Europe/Berlin:20260716T173000
DTSTAMP:20260424T171809
CREATED:20250207T102814Z
LAST-MODIFIED:20250207T102815Z
UID:10033899-1784217600-1784223000@www.kinderschutz.de
SUMMARY:Bürosprechstunde Private Raumnutzung
DESCRIPTION:
URL:https://www.kinderschutz.de/veranstaltung/buerosprechstunde-private-raumnutzung-2/2026-07-16/
LOCATION:Nachbarschaftstreff Heinrich trifft Böll
CATEGORIES:Messestadt Riem,Wochenprogramm
END:VEVENT
BEGIN:VEVENT
DTSTART;TZID=Europe/Berlin:20260723T160000
DTEND;TZID=Europe/Berlin:20260723T173000
DTSTAMP:20260424T171809
CREATED:20250207T102814Z
LAST-MODIFIED:20250207T102815Z
UID:10033900-1784822400-1784827800@www.kinderschutz.de
SUMMARY:Bürosprechstunde Private Raumnutzung
DESCRIPTION:
URL:https://www.kinderschutz.de/veranstaltung/buerosprechstunde-private-raumnutzung-2/2026-07-23/
LOCATION:Nachbarschaftstreff Heinrich trifft Böll
CATEGORIES:Messestadt Riem,Wochenprogramm
END:VEVENT
BEGIN:VEVENT
DTSTART;TZID=Europe/Berlin:20260730T160000
DTEND;TZID=Europe/Berlin:20260730T173000
DTSTAMP:20260424T171809
CREATED:20250207T102814Z
LAST-MODIFIED:20250207T102815Z
UID:10033901-1785427200-1785432600@www.kinderschutz.de
SUMMARY:Bürosprechstunde Private Raumnutzung
DESCRIPTION:
URL:https://www.kinderschutz.de/veranstaltung/buerosprechstunde-private-raumnutzung-2/2026-07-30/
LOCATION:Nachbarschaftstreff Heinrich trifft Böll
CATEGORIES:Messestadt Riem,Wochenprogramm
END:VEVENT
BEGIN:VEVENT
DTSTART;TZID=Europe/Berlin:20260806T160000
DTEND;TZID=Europe/Berlin:20260806T173000
DTSTAMP:20260424T171809
CREATED:20250207T102814Z
LAST-MODIFIED:20250207T102815Z
UID:10033902-1786032000-1786037400@www.kinderschutz.de
SUMMARY:Bürosprechstunde Private Raumnutzung
DESCRIPTION:
URL:https://www.kinderschutz.de/veranstaltung/buerosprechstunde-private-raumnutzung-2/2026-08-06/
LOCATION:Nachbarschaftstreff Heinrich trifft Böll
CATEGORIES:Messestadt Riem,Wochenprogramm
END:VEVENT
BEGIN:VEVENT
DTSTART;TZID=Europe/Berlin:20260813T160000
DTEND;TZID=Europe/Berlin:20260813T173000
DTSTAMP:20260424T171809
CREATED:20250207T102814Z
LAST-MODIFIED:20250207T102815Z
UID:10033903-1786636800-1786642200@www.kinderschutz.de
SUMMARY:Bürosprechstunde Private Raumnutzung
DESCRIPTION:
URL:https://www.kinderschutz.de/veranstaltung/buerosprechstunde-private-raumnutzung-2/2026-08-13/
LOCATION:Nachbarschaftstreff Heinrich trifft Böll
CATEGORIES:Messestadt Riem,Wochenprogramm
END:VEVENT
BEGIN:VEVENT
DTSTART;TZID=Europe/Berlin:20260820T160000
DTEND;TZID=Europe/Berlin:20260820T173000
DTSTAMP:20260424T171809
CREATED:20250207T102814Z
LAST-MODIFIED:20250207T102815Z
UID:10033904-1787241600-1787247000@www.kinderschutz.de
SUMMARY:Bürosprechstunde Private Raumnutzung
DESCRIPTION:
URL:https://www.kinderschutz.de/veranstaltung/buerosprechstunde-private-raumnutzung-2/2026-08-20/
LOCATION:Nachbarschaftstreff Heinrich trifft Böll
CATEGORIES:Messestadt Riem,Wochenprogramm
END:VEVENT
BEGIN:VEVENT
DTSTART;TZID=Europe/Berlin:20260827T160000
DTEND;TZID=Europe/Berlin:20260827T173000
DTSTAMP:20260424T171809
CREATED:20250207T102814Z
LAST-MODIFIED:20250207T102815Z
UID:10033905-1787846400-1787851800@www.kinderschutz.de
SUMMARY:Bürosprechstunde Private Raumnutzung
DESCRIPTION:
URL:https://www.kinderschutz.de/veranstaltung/buerosprechstunde-private-raumnutzung-2/2026-08-27/
LOCATION:Nachbarschaftstreff Heinrich trifft Böll
CATEGORIES:Messestadt Riem,Wochenprogramm
END:VEVENT
BEGIN:VEVENT
DTSTART;TZID=Europe/Berlin:20260903T160000
DTEND;TZID=Europe/Berlin:20260903T173000
DTSTAMP:20260424T171809
CREATED:20250207T102814Z
LAST-MODIFIED:20250207T102815Z
UID:10033906-1788451200-1788456600@www.kinderschutz.de
SUMMARY:Bürosprechstunde Private Raumnutzung
DESCRIPTION:
URL:https://www.kinderschutz.de/veranstaltung/buerosprechstunde-private-raumnutzung-2/2026-09-03/
LOCATION:Nachbarschaftstreff Heinrich trifft Böll
CATEGORIES:Messestadt Riem,Wochenprogramm
END:VEVENT
BEGIN:VEVENT
DTSTART;TZID=Europe/Berlin:20260910T160000
DTEND;TZID=Europe/Berlin:20260910T173000
DTSTAMP:20260424T171809
CREATED:20250207T102814Z
LAST-MODIFIED:20250207T102815Z
UID:10033907-1789056000-1789061400@www.kinderschutz.de
SUMMARY:Bürosprechstunde Private Raumnutzung
DESCRIPTION:
URL:https://www.kinderschutz.de/veranstaltung/buerosprechstunde-private-raumnutzung-2/2026-09-10/
LOCATION:Nachbarschaftstreff Heinrich trifft Böll
CATEGORIES:Messestadt Riem,Wochenprogramm
END:VEVENT
BEGIN:VEVENT
DTSTART;TZID=Europe/Berlin:20260917T160000
DTEND;TZID=Europe/Berlin:20260917T173000
DTSTAMP:20260424T171809
CREATED:20250207T102814Z
LAST-MODIFIED:20250207T102815Z
UID:10033908-1789660800-1789666200@www.kinderschutz.de
SUMMARY:Bürosprechstunde Private Raumnutzung
DESCRIPTION:
URL:https://www.kinderschutz.de/veranstaltung/buerosprechstunde-private-raumnutzung-2/2026-09-17/
LOCATION:Nachbarschaftstreff Heinrich trifft Böll
CATEGORIES:Messestadt Riem,Wochenprogramm
END:VEVENT
BEGIN:VEVENT
DTSTART;TZID=Europe/Berlin:20260924T160000
DTEND;TZID=Europe/Berlin:20260924T173000
DTSTAMP:20260424T171809
CREATED:20250207T102814Z
LAST-MODIFIED:20250207T102815Z
UID:10033909-1790265600-1790271000@www.kinderschutz.de
SUMMARY:Bürosprechstunde Private Raumnutzung
DESCRIPTION:
URL:https://www.kinderschutz.de/veranstaltung/buerosprechstunde-private-raumnutzung-2/2026-09-24/
LOCATION:Nachbarschaftstreff Heinrich trifft Böll
CATEGORIES:Messestadt Riem,Wochenprogramm
END:VEVENT
BEGIN:VEVENT
DTSTART;TZID=Europe/Berlin:20261001T160000
DTEND;TZID=Europe/Berlin:20261001T173000
DTSTAMP:20260424T171809
CREATED:20250207T102814Z
LAST-MODIFIED:20250207T102815Z
UID:10033910-1790870400-1790875800@www.kinderschutz.de
SUMMARY:Bürosprechstunde Private Raumnutzung
DESCRIPTION:
URL:https://www.kinderschutz.de/veranstaltung/buerosprechstunde-private-raumnutzung-2/2026-10-01/
LOCATION:Nachbarschaftstreff Heinrich trifft Böll
CATEGORIES:Messestadt Riem,Wochenprogramm
END:VEVENT
BEGIN:VEVENT
DTSTART;TZID=Europe/Berlin:20261008T160000
DTEND;TZID=Europe/Berlin:20261008T173000
DTSTAMP:20260424T171809
CREATED:20250207T102814Z
LAST-MODIFIED:20250207T102815Z
UID:10033911-1791475200-1791480600@www.kinderschutz.de
SUMMARY:Bürosprechstunde Private Raumnutzung
DESCRIPTION:
URL:https://www.kinderschutz.de/veranstaltung/buerosprechstunde-private-raumnutzung-2/2026-10-08/
LOCATION:Nachbarschaftstreff Heinrich trifft Böll
CATEGORIES:Messestadt Riem,Wochenprogramm
END:VEVENT
BEGIN:VEVENT
DTSTART;TZID=Europe/Berlin:20261015T160000
DTEND;TZID=Europe/Berlin:20261015T173000
DTSTAMP:20260424T171809
CREATED:20250207T102814Z
LAST-MODIFIED:20250207T102815Z
UID:10033912-1792080000-1792085400@www.kinderschutz.de
SUMMARY:Bürosprechstunde Private Raumnutzung
DESCRIPTION:
URL:https://www.kinderschutz.de/veranstaltung/buerosprechstunde-private-raumnutzung-2/2026-10-15/
LOCATION:Nachbarschaftstreff Heinrich trifft Böll
CATEGORIES:Messestadt Riem,Wochenprogramm
END:VEVENT
BEGIN:VEVENT
DTSTART;TZID=Europe/Berlin:20261022T160000
DTEND;TZID=Europe/Berlin:20261022T173000
DTSTAMP:20260424T171809
CREATED:20250207T102814Z
LAST-MODIFIED:20250207T102815Z
UID:10033913-1792684800-1792690200@www.kinderschutz.de
SUMMARY:Bürosprechstunde Private Raumnutzung
DESCRIPTION:
URL:https://www.kinderschutz.de/veranstaltung/buerosprechstunde-private-raumnutzung-2/2026-10-22/
LOCATION:Nachbarschaftstreff Heinrich trifft Böll
CATEGORIES:Messestadt Riem,Wochenprogramm
END:VEVENT
BEGIN:VEVENT
DTSTART;TZID=Europe/Berlin:20261029T160000
DTEND;TZID=Europe/Berlin:20261029T173000
DTSTAMP:20260424T171810
CREATED:20250207T102814Z
LAST-MODIFIED:20250207T102815Z
UID:10033914-1793289600-1793295000@www.kinderschutz.de
SUMMARY:Bürosprechstunde Private Raumnutzung
DESCRIPTION:
URL:https://www.kinderschutz.de/veranstaltung/buerosprechstunde-private-raumnutzung-2/2026-10-29/
LOCATION:Nachbarschaftstreff Heinrich trifft Böll
CATEGORIES:Messestadt Riem,Wochenprogramm
END:VEVENT
BEGIN:VEVENT
DTSTART;TZID=Europe/Berlin:20261105T160000
DTEND;TZID=Europe/Berlin:20261105T173000
DTSTAMP:20260424T171810
CREATED:20250207T102814Z
LAST-MODIFIED:20250207T102815Z
UID:10033915-1793894400-1793899800@www.kinderschutz.de
SUMMARY:Bürosprechstunde Private Raumnutzung
DESCRIPTION:
URL:https://www.kinderschutz.de/veranstaltung/buerosprechstunde-private-raumnutzung-2/2026-11-05/
LOCATION:Nachbarschaftstreff Heinrich trifft Böll
CATEGORIES:Messestadt Riem,Wochenprogramm
END:VEVENT
BEGIN:VEVENT
DTSTART;TZID=Europe/Berlin:20261112T160000
DTEND;TZID=Europe/Berlin:20261112T173000
DTSTAMP:20260424T171810
CREATED:20250207T102814Z
LAST-MODIFIED:20250207T102815Z
UID:10033916-1794499200-1794504600@www.kinderschutz.de
SUMMARY:Bürosprechstunde Private Raumnutzung
DESCRIPTION:
URL:https://www.kinderschutz.de/veranstaltung/buerosprechstunde-private-raumnutzung-2/2026-11-12/
LOCATION:Nachbarschaftstreff Heinrich trifft Böll
CATEGORIES:Messestadt Riem,Wochenprogramm
END:VEVENT
BEGIN:VEVENT
DTSTART;TZID=Europe/Berlin:20261119T160000
DTEND;TZID=Europe/Berlin:20261119T173000
DTSTAMP:20260424T171810
CREATED:20250207T102814Z
LAST-MODIFIED:20250207T102815Z
UID:10033917-1795104000-1795109400@www.kinderschutz.de
SUMMARY:Bürosprechstunde Private Raumnutzung
DESCRIPTION:
URL:https://www.kinderschutz.de/veranstaltung/buerosprechstunde-private-raumnutzung-2/2026-11-19/
LOCATION:Nachbarschaftstreff Heinrich trifft Böll
CATEGORIES:Messestadt Riem,Wochenprogramm
END:VEVENT
END:VCALENDAR