BEGIN:VCALENDAR
VERSION:2.0
PRODID:-//KINDERSCHUTZ MÜNCHEN - ECPv6.15.20//NONSGML v1.0//EN
CALSCALE:GREGORIAN
METHOD:PUBLISH
X-WR-CALNAME:KINDERSCHUTZ MÜNCHEN
X-ORIGINAL-URL:https://www.kinderschutz.de
X-WR-CALDESC:Veranstaltungen für KINDERSCHUTZ MÜNCHEN
REFRESH-INTERVAL;VALUE=DURATION:PT1H
X-Robots-Tag:noindex
X-PUBLISHED-TTL:PT1H
BEGIN:VTIMEZONE
TZID:Europe/Berlin
BEGIN:DAYLIGHT
TZOFFSETFROM:+0100
TZOFFSETTO:+0200
TZNAME:CEST
DTSTART:20250330T010000
END:DAYLIGHT
BEGIN:STANDARD
TZOFFSETFROM:+0200
TZOFFSETTO:+0100
TZNAME:CET
DTSTART:20251026T010000
END:STANDARD
BEGIN:DAYLIGHT
TZOFFSETFROM:+0100
TZOFFSETTO:+0200
TZNAME:CEST
DTSTART:20260329T010000
END:DAYLIGHT
BEGIN:STANDARD
TZOFFSETFROM:+0200
TZOFFSETTO:+0100
TZNAME:CET
DTSTART:20261025T010000
END:STANDARD
BEGIN:DAYLIGHT
TZOFFSETFROM:+0100
TZOFFSETTO:+0200
TZNAME:CEST
DTSTART:20270328T010000
END:DAYLIGHT
BEGIN:STANDARD
TZOFFSETFROM:+0200
TZOFFSETTO:+0100
TZNAME:CET
DTSTART:20271031T010000
END:STANDARD
END:VTIMEZONE
BEGIN:VEVENT
DTSTART;TZID=Europe/Berlin:20260428T150000
DTEND;TZID=Europe/Berlin:20260428T170000
DTSTAMP:20260424T193012
CREATED:20240715T205024Z
LAST-MODIFIED:20260125T085210Z
UID:10017002-1777388400-1777395600@www.kinderschutz.de
SUMMARY:Formularunterstützung
DESCRIPTION:
URL:https://www.kinderschutz.de/veranstaltung/formular-service/2026-04-28/
LOCATION:Nachbarschaftstreff Heinrich trifft Böll
CATEGORIES:Messestadt Riem,Wochenprogramm
END:VEVENT
BEGIN:VEVENT
DTSTART;TZID=Europe/Berlin:20260505T150000
DTEND;TZID=Europe/Berlin:20260505T170000
DTSTAMP:20260424T193013
CREATED:20240715T205024Z
LAST-MODIFIED:20260125T085210Z
UID:10017003-1777993200-1778000400@www.kinderschutz.de
SUMMARY:Formularunterstützung
DESCRIPTION:
URL:https://www.kinderschutz.de/veranstaltung/formular-service/2026-05-05/
LOCATION:Nachbarschaftstreff Heinrich trifft Böll
CATEGORIES:Messestadt Riem,Wochenprogramm
END:VEVENT
BEGIN:VEVENT
DTSTART;TZID=Europe/Berlin:20260512T150000
DTEND;TZID=Europe/Berlin:20260512T170000
DTSTAMP:20260424T193013
CREATED:20240715T205024Z
LAST-MODIFIED:20260125T085210Z
UID:10017004-1778598000-1778605200@www.kinderschutz.de
SUMMARY:Formularunterstützung
DESCRIPTION:
URL:https://www.kinderschutz.de/veranstaltung/formular-service/2026-05-12/
LOCATION:Nachbarschaftstreff Heinrich trifft Böll
CATEGORIES:Messestadt Riem,Wochenprogramm
END:VEVENT
BEGIN:VEVENT
DTSTART;TZID=Europe/Berlin:20260519T150000
DTEND;TZID=Europe/Berlin:20260519T170000
DTSTAMP:20260424T193013
CREATED:20240715T205024Z
LAST-MODIFIED:20260125T085210Z
UID:10017005-1779202800-1779210000@www.kinderschutz.de
SUMMARY:Formularunterstützung
DESCRIPTION:
URL:https://www.kinderschutz.de/veranstaltung/formular-service/2026-05-19/
LOCATION:Nachbarschaftstreff Heinrich trifft Böll
CATEGORIES:Messestadt Riem,Wochenprogramm
END:VEVENT
BEGIN:VEVENT
DTSTART;TZID=Europe/Berlin:20260526T150000
DTEND;TZID=Europe/Berlin:20260526T170000
DTSTAMP:20260424T193013
CREATED:20240715T205024Z
LAST-MODIFIED:20260125T085210Z
UID:10017006-1779807600-1779814800@www.kinderschutz.de
SUMMARY:Formularunterstützung
DESCRIPTION:
URL:https://www.kinderschutz.de/veranstaltung/formular-service/2026-05-26/
LOCATION:Nachbarschaftstreff Heinrich trifft Böll
CATEGORIES:Messestadt Riem,Wochenprogramm
END:VEVENT
BEGIN:VEVENT
DTSTART;TZID=Europe/Berlin:20260602T150000
DTEND;TZID=Europe/Berlin:20260602T170000
DTSTAMP:20260424T193013
CREATED:20240715T205024Z
LAST-MODIFIED:20260125T085210Z
UID:10017007-1780412400-1780419600@www.kinderschutz.de
SUMMARY:Formularunterstützung
DESCRIPTION:
URL:https://www.kinderschutz.de/veranstaltung/formular-service/2026-06-02/
LOCATION:Nachbarschaftstreff Heinrich trifft Böll
CATEGORIES:Messestadt Riem,Wochenprogramm
END:VEVENT
BEGIN:VEVENT
DTSTART;TZID=Europe/Berlin:20260609T150000
DTEND;TZID=Europe/Berlin:20260609T170000
DTSTAMP:20260424T193013
CREATED:20240715T205024Z
LAST-MODIFIED:20260125T085210Z
UID:10017008-1781017200-1781024400@www.kinderschutz.de
SUMMARY:Formularunterstützung
DESCRIPTION:
URL:https://www.kinderschutz.de/veranstaltung/formular-service/2026-06-09/
LOCATION:Nachbarschaftstreff Heinrich trifft Böll
CATEGORIES:Messestadt Riem,Wochenprogramm
END:VEVENT
BEGIN:VEVENT
DTSTART;TZID=Europe/Berlin:20260616T150000
DTEND;TZID=Europe/Berlin:20260616T170000
DTSTAMP:20260424T193013
CREATED:20240715T205024Z
LAST-MODIFIED:20260125T085210Z
UID:10017009-1781622000-1781629200@www.kinderschutz.de
SUMMARY:Formularunterstützung
DESCRIPTION:
URL:https://www.kinderschutz.de/veranstaltung/formular-service/2026-06-16/
LOCATION:Nachbarschaftstreff Heinrich trifft Böll
CATEGORIES:Messestadt Riem,Wochenprogramm
END:VEVENT
BEGIN:VEVENT
DTSTART;TZID=Europe/Berlin:20260623T150000
DTEND;TZID=Europe/Berlin:20260623T170000
DTSTAMP:20260424T193013
CREATED:20240715T205024Z
LAST-MODIFIED:20260125T085210Z
UID:10017010-1782226800-1782234000@www.kinderschutz.de
SUMMARY:Formularunterstützung
DESCRIPTION:
URL:https://www.kinderschutz.de/veranstaltung/formular-service/2026-06-23/
LOCATION:Nachbarschaftstreff Heinrich trifft Böll
CATEGORIES:Messestadt Riem,Wochenprogramm
END:VEVENT
BEGIN:VEVENT
DTSTART;TZID=Europe/Berlin:20260630T150000
DTEND;TZID=Europe/Berlin:20260630T170000
DTSTAMP:20260424T193013
CREATED:20240715T205024Z
LAST-MODIFIED:20260125T085210Z
UID:10017011-1782831600-1782838800@www.kinderschutz.de
SUMMARY:Formularunterstützung
DESCRIPTION:
URL:https://www.kinderschutz.de/veranstaltung/formular-service/2026-06-30/
LOCATION:Nachbarschaftstreff Heinrich trifft Böll
CATEGORIES:Messestadt Riem,Wochenprogramm
END:VEVENT
BEGIN:VEVENT
DTSTART;TZID=Europe/Berlin:20260707T150000
DTEND;TZID=Europe/Berlin:20260707T170000
DTSTAMP:20260424T193013
CREATED:20240715T205024Z
LAST-MODIFIED:20260125T085210Z
UID:10017012-1783436400-1783443600@www.kinderschutz.de
SUMMARY:Formularunterstützung
DESCRIPTION:
URL:https://www.kinderschutz.de/veranstaltung/formular-service/2026-07-07/
LOCATION:Nachbarschaftstreff Heinrich trifft Böll
CATEGORIES:Messestadt Riem,Wochenprogramm
END:VEVENT
BEGIN:VEVENT
DTSTART;TZID=Europe/Berlin:20260714T150000
DTEND;TZID=Europe/Berlin:20260714T170000
DTSTAMP:20260424T193013
CREATED:20240715T205024Z
LAST-MODIFIED:20260125T085210Z
UID:10017013-1784041200-1784048400@www.kinderschutz.de
SUMMARY:Formularunterstützung
DESCRIPTION:
URL:https://www.kinderschutz.de/veranstaltung/formular-service/2026-07-14/
LOCATION:Nachbarschaftstreff Heinrich trifft Böll
CATEGORIES:Messestadt Riem,Wochenprogramm
END:VEVENT
BEGIN:VEVENT
DTSTART;TZID=Europe/Berlin:20260721T150000
DTEND;TZID=Europe/Berlin:20260721T170000
DTSTAMP:20260424T193013
CREATED:20240715T205024Z
LAST-MODIFIED:20260125T085210Z
UID:10017014-1784646000-1784653200@www.kinderschutz.de
SUMMARY:Formularunterstützung
DESCRIPTION:
URL:https://www.kinderschutz.de/veranstaltung/formular-service/2026-07-21/
LOCATION:Nachbarschaftstreff Heinrich trifft Böll
CATEGORIES:Messestadt Riem,Wochenprogramm
END:VEVENT
BEGIN:VEVENT
DTSTART;TZID=Europe/Berlin:20260728T150000
DTEND;TZID=Europe/Berlin:20260728T170000
DTSTAMP:20260424T193013
CREATED:20240715T205024Z
LAST-MODIFIED:20260125T085210Z
UID:10017015-1785250800-1785258000@www.kinderschutz.de
SUMMARY:Formularunterstützung
DESCRIPTION:
URL:https://www.kinderschutz.de/veranstaltung/formular-service/2026-07-28/
LOCATION:Nachbarschaftstreff Heinrich trifft Böll
CATEGORIES:Messestadt Riem,Wochenprogramm
END:VEVENT
END:VCALENDAR