BEGIN:VCALENDAR
VERSION:2.0
PRODID:-//KINDERSCHUTZ MÜNCHEN - ECPv6.15.20//NONSGML v1.0//EN
CALSCALE:GREGORIAN
METHOD:PUBLISH
X-WR-CALNAME:KINDERSCHUTZ MÜNCHEN
X-ORIGINAL-URL:https://www.kinderschutz.de
X-WR-CALDESC:Veranstaltungen für KINDERSCHUTZ MÜNCHEN
REFRESH-INTERVAL;VALUE=DURATION:PT1H
X-Robots-Tag:noindex
X-PUBLISHED-TTL:PT1H
BEGIN:VTIMEZONE
TZID:Europe/Berlin
BEGIN:DAYLIGHT
TZOFFSETFROM:+0100
TZOFFSETTO:+0200
TZNAME:CEST
DTSTART:20250330T010000
END:DAYLIGHT
BEGIN:STANDARD
TZOFFSETFROM:+0200
TZOFFSETTO:+0100
TZNAME:CET
DTSTART:20251026T010000
END:STANDARD
BEGIN:DAYLIGHT
TZOFFSETFROM:+0100
TZOFFSETTO:+0200
TZNAME:CEST
DTSTART:20260329T010000
END:DAYLIGHT
BEGIN:STANDARD
TZOFFSETFROM:+0200
TZOFFSETTO:+0100
TZNAME:CET
DTSTART:20261025T010000
END:STANDARD
BEGIN:DAYLIGHT
TZOFFSETFROM:+0100
TZOFFSETTO:+0200
TZNAME:CEST
DTSTART:20270328T010000
END:DAYLIGHT
BEGIN:STANDARD
TZOFFSETFROM:+0200
TZOFFSETTO:+0100
TZNAME:CET
DTSTART:20271031T010000
END:STANDARD
END:VTIMEZONE
BEGIN:VEVENT
DTSTART;TZID=Europe/Berlin:20260429T150000
DTEND;TZID=Europe/Berlin:20260429T163000
DTSTAMP:20260424T231840
CREATED:20240717T083515Z
LAST-MODIFIED:20250801T072150Z
UID:10018680-1777474800-1777480200@www.kinderschutz.de
SUMMARY:Elterncafé
DESCRIPTION:
URL:https://www.kinderschutz.de/veranstaltung/elterncafe-2/2026-04-29/
LOCATION:HeideTreff Familienzentrum/ Familienstützpunkt\, Karl-Köglsperger-Straße 19\, München\, 80939
CATEGORIES:Freimann,Wochenprogramm
ATTACH;FMTTYPE=image/jpeg:https://www.kinderschutz.de/wp-content/uploads/2024/08/Elterncafe.jpg
END:VEVENT
BEGIN:VEVENT
DTSTART;TZID=Europe/Berlin:20260506T150000
DTEND;TZID=Europe/Berlin:20260506T163000
DTSTAMP:20260424T231840
CREATED:20240717T083515Z
LAST-MODIFIED:20250801T072150Z
UID:10018681-1778079600-1778085000@www.kinderschutz.de
SUMMARY:Elterncafé
DESCRIPTION:
URL:https://www.kinderschutz.de/veranstaltung/elterncafe-2/2026-05-06/
LOCATION:HeideTreff Familienzentrum/ Familienstützpunkt\, Karl-Köglsperger-Straße 19\, München\, 80939
CATEGORIES:Freimann,Wochenprogramm
ATTACH;FMTTYPE=image/jpeg:https://www.kinderschutz.de/wp-content/uploads/2024/08/Elterncafe.jpg
END:VEVENT
BEGIN:VEVENT
DTSTART;TZID=Europe/Berlin:20260513T150000
DTEND;TZID=Europe/Berlin:20260513T163000
DTSTAMP:20260424T231840
CREATED:20240717T083515Z
LAST-MODIFIED:20250801T072150Z
UID:10018682-1778684400-1778689800@www.kinderschutz.de
SUMMARY:Elterncafé
DESCRIPTION:
URL:https://www.kinderschutz.de/veranstaltung/elterncafe-2/2026-05-13/
LOCATION:HeideTreff Familienzentrum/ Familienstützpunkt\, Karl-Köglsperger-Straße 19\, München\, 80939
CATEGORIES:Freimann,Wochenprogramm
ATTACH;FMTTYPE=image/jpeg:https://www.kinderschutz.de/wp-content/uploads/2024/08/Elterncafe.jpg
END:VEVENT
BEGIN:VEVENT
DTSTART;TZID=Europe/Berlin:20260520T150000
DTEND;TZID=Europe/Berlin:20260520T163000
DTSTAMP:20260424T231840
CREATED:20240717T083515Z
LAST-MODIFIED:20250801T072150Z
UID:10018683-1779289200-1779294600@www.kinderschutz.de
SUMMARY:Elterncafé
DESCRIPTION:
URL:https://www.kinderschutz.de/veranstaltung/elterncafe-2/2026-05-20/
LOCATION:HeideTreff Familienzentrum/ Familienstützpunkt\, Karl-Köglsperger-Straße 19\, München\, 80939
CATEGORIES:Freimann,Wochenprogramm
ATTACH;FMTTYPE=image/jpeg:https://www.kinderschutz.de/wp-content/uploads/2024/08/Elterncafe.jpg
END:VEVENT
BEGIN:VEVENT
DTSTART;TZID=Europe/Berlin:20260527T150000
DTEND;TZID=Europe/Berlin:20260527T163000
DTSTAMP:20260424T231840
CREATED:20240717T083515Z
LAST-MODIFIED:20250801T072150Z
UID:10018684-1779894000-1779899400@www.kinderschutz.de
SUMMARY:Elterncafé
DESCRIPTION:
URL:https://www.kinderschutz.de/veranstaltung/elterncafe-2/2026-05-27/
LOCATION:HeideTreff Familienzentrum/ Familienstützpunkt\, Karl-Köglsperger-Straße 19\, München\, 80939
CATEGORIES:Freimann,Wochenprogramm
ATTACH;FMTTYPE=image/jpeg:https://www.kinderschutz.de/wp-content/uploads/2024/08/Elterncafe.jpg
END:VEVENT
BEGIN:VEVENT
DTSTART;TZID=Europe/Berlin:20260603T150000
DTEND;TZID=Europe/Berlin:20260603T163000
DTSTAMP:20260424T231840
CREATED:20240717T083515Z
LAST-MODIFIED:20250801T072150Z
UID:10018685-1780498800-1780504200@www.kinderschutz.de
SUMMARY:Elterncafé
DESCRIPTION:
URL:https://www.kinderschutz.de/veranstaltung/elterncafe-2/2026-06-03/
LOCATION:HeideTreff Familienzentrum/ Familienstützpunkt\, Karl-Köglsperger-Straße 19\, München\, 80939
CATEGORIES:Freimann,Wochenprogramm
ATTACH;FMTTYPE=image/jpeg:https://www.kinderschutz.de/wp-content/uploads/2024/08/Elterncafe.jpg
END:VEVENT
BEGIN:VEVENT
DTSTART;TZID=Europe/Berlin:20260610T150000
DTEND;TZID=Europe/Berlin:20260610T163000
DTSTAMP:20260424T231840
CREATED:20240717T083515Z
LAST-MODIFIED:20250801T072150Z
UID:10018686-1781103600-1781109000@www.kinderschutz.de
SUMMARY:Elterncafé
DESCRIPTION:
URL:https://www.kinderschutz.de/veranstaltung/elterncafe-2/2026-06-10/
LOCATION:HeideTreff Familienzentrum/ Familienstützpunkt\, Karl-Köglsperger-Straße 19\, München\, 80939
CATEGORIES:Freimann,Wochenprogramm
ATTACH;FMTTYPE=image/jpeg:https://www.kinderschutz.de/wp-content/uploads/2024/08/Elterncafe.jpg
END:VEVENT
BEGIN:VEVENT
DTSTART;TZID=Europe/Berlin:20260617T150000
DTEND;TZID=Europe/Berlin:20260617T163000
DTSTAMP:20260424T231840
CREATED:20240717T083515Z
LAST-MODIFIED:20250801T072150Z
UID:10018687-1781708400-1781713800@www.kinderschutz.de
SUMMARY:Elterncafé
DESCRIPTION:
URL:https://www.kinderschutz.de/veranstaltung/elterncafe-2/2026-06-17/
LOCATION:HeideTreff Familienzentrum/ Familienstützpunkt\, Karl-Köglsperger-Straße 19\, München\, 80939
CATEGORIES:Freimann,Wochenprogramm
ATTACH;FMTTYPE=image/jpeg:https://www.kinderschutz.de/wp-content/uploads/2024/08/Elterncafe.jpg
END:VEVENT
BEGIN:VEVENT
DTSTART;TZID=Europe/Berlin:20260624T150000
DTEND;TZID=Europe/Berlin:20260624T163000
DTSTAMP:20260424T231840
CREATED:20240717T083515Z
LAST-MODIFIED:20250801T072150Z
UID:10018688-1782313200-1782318600@www.kinderschutz.de
SUMMARY:Elterncafé
DESCRIPTION:
URL:https://www.kinderschutz.de/veranstaltung/elterncafe-2/2026-06-24/
LOCATION:HeideTreff Familienzentrum/ Familienstützpunkt\, Karl-Köglsperger-Straße 19\, München\, 80939
CATEGORIES:Freimann,Wochenprogramm
ATTACH;FMTTYPE=image/jpeg:https://www.kinderschutz.de/wp-content/uploads/2024/08/Elterncafe.jpg
END:VEVENT
BEGIN:VEVENT
DTSTART;TZID=Europe/Berlin:20260701T150000
DTEND;TZID=Europe/Berlin:20260701T163000
DTSTAMP:20260424T231840
CREATED:20240717T083515Z
LAST-MODIFIED:20250801T072150Z
UID:10018689-1782918000-1782923400@www.kinderschutz.de
SUMMARY:Elterncafé
DESCRIPTION:
URL:https://www.kinderschutz.de/veranstaltung/elterncafe-2/2026-07-01/
LOCATION:HeideTreff Familienzentrum/ Familienstützpunkt\, Karl-Köglsperger-Straße 19\, München\, 80939
CATEGORIES:Freimann,Wochenprogramm
ATTACH;FMTTYPE=image/jpeg:https://www.kinderschutz.de/wp-content/uploads/2024/08/Elterncafe.jpg
END:VEVENT
BEGIN:VEVENT
DTSTART;TZID=Europe/Berlin:20260708T150000
DTEND;TZID=Europe/Berlin:20260708T163000
DTSTAMP:20260424T231840
CREATED:20240717T083515Z
LAST-MODIFIED:20250801T072150Z
UID:10018690-1783522800-1783528200@www.kinderschutz.de
SUMMARY:Elterncafé
DESCRIPTION:
URL:https://www.kinderschutz.de/veranstaltung/elterncafe-2/2026-07-08/
LOCATION:HeideTreff Familienzentrum/ Familienstützpunkt\, Karl-Köglsperger-Straße 19\, München\, 80939
CATEGORIES:Freimann,Wochenprogramm
ATTACH;FMTTYPE=image/jpeg:https://www.kinderschutz.de/wp-content/uploads/2024/08/Elterncafe.jpg
END:VEVENT
BEGIN:VEVENT
DTSTART;TZID=Europe/Berlin:20260715T150000
DTEND;TZID=Europe/Berlin:20260715T163000
DTSTAMP:20260424T231841
CREATED:20240717T083515Z
LAST-MODIFIED:20250801T072150Z
UID:10018691-1784127600-1784133000@www.kinderschutz.de
SUMMARY:Elterncafé
DESCRIPTION:
URL:https://www.kinderschutz.de/veranstaltung/elterncafe-2/2026-07-15/
LOCATION:HeideTreff Familienzentrum/ Familienstützpunkt\, Karl-Köglsperger-Straße 19\, München\, 80939
CATEGORIES:Freimann,Wochenprogramm
ATTACH;FMTTYPE=image/jpeg:https://www.kinderschutz.de/wp-content/uploads/2024/08/Elterncafe.jpg
END:VEVENT
BEGIN:VEVENT
DTSTART;TZID=Europe/Berlin:20260722T150000
DTEND;TZID=Europe/Berlin:20260722T163000
DTSTAMP:20260424T231841
CREATED:20240717T083515Z
LAST-MODIFIED:20250801T072150Z
UID:10018692-1784732400-1784737800@www.kinderschutz.de
SUMMARY:Elterncafé
DESCRIPTION:
URL:https://www.kinderschutz.de/veranstaltung/elterncafe-2/2026-07-22/
LOCATION:HeideTreff Familienzentrum/ Familienstützpunkt\, Karl-Köglsperger-Straße 19\, München\, 80939
CATEGORIES:Freimann,Wochenprogramm
ATTACH;FMTTYPE=image/jpeg:https://www.kinderschutz.de/wp-content/uploads/2024/08/Elterncafe.jpg
END:VEVENT
BEGIN:VEVENT
DTSTART;TZID=Europe/Berlin:20260729T150000
DTEND;TZID=Europe/Berlin:20260729T163000
DTSTAMP:20260424T231841
CREATED:20240717T083515Z
LAST-MODIFIED:20250801T072150Z
UID:10018693-1785337200-1785342600@www.kinderschutz.de
SUMMARY:Elterncafé
DESCRIPTION:
URL:https://www.kinderschutz.de/veranstaltung/elterncafe-2/2026-07-29/
LOCATION:HeideTreff Familienzentrum/ Familienstützpunkt\, Karl-Köglsperger-Straße 19\, München\, 80939
CATEGORIES:Freimann,Wochenprogramm
ATTACH;FMTTYPE=image/jpeg:https://www.kinderschutz.de/wp-content/uploads/2024/08/Elterncafe.jpg
END:VEVENT
BEGIN:VEVENT
DTSTART;TZID=Europe/Berlin:20260805T150000
DTEND;TZID=Europe/Berlin:20260805T163000
DTSTAMP:20260424T231841
CREATED:20240717T083515Z
LAST-MODIFIED:20250801T072150Z
UID:10018694-1785942000-1785947400@www.kinderschutz.de
SUMMARY:Elterncafé
DESCRIPTION:
URL:https://www.kinderschutz.de/veranstaltung/elterncafe-2/2026-08-05/
LOCATION:HeideTreff Familienzentrum/ Familienstützpunkt\, Karl-Köglsperger-Straße 19\, München\, 80939
CATEGORIES:Freimann,Wochenprogramm
ATTACH;FMTTYPE=image/jpeg:https://www.kinderschutz.de/wp-content/uploads/2024/08/Elterncafe.jpg
END:VEVENT
BEGIN:VEVENT
DTSTART;TZID=Europe/Berlin:20260812T150000
DTEND;TZID=Europe/Berlin:20260812T163000
DTSTAMP:20260424T231841
CREATED:20240717T083515Z
LAST-MODIFIED:20250801T072150Z
UID:10018695-1786546800-1786552200@www.kinderschutz.de
SUMMARY:Elterncafé
DESCRIPTION:
URL:https://www.kinderschutz.de/veranstaltung/elterncafe-2/2026-08-12/
LOCATION:HeideTreff Familienzentrum/ Familienstützpunkt\, Karl-Köglsperger-Straße 19\, München\, 80939
CATEGORIES:Freimann,Wochenprogramm
ATTACH;FMTTYPE=image/jpeg:https://www.kinderschutz.de/wp-content/uploads/2024/08/Elterncafe.jpg
END:VEVENT
BEGIN:VEVENT
DTSTART;TZID=Europe/Berlin:20260819T150000
DTEND;TZID=Europe/Berlin:20260819T163000
DTSTAMP:20260424T231841
CREATED:20240717T083515Z
LAST-MODIFIED:20250801T072150Z
UID:10018696-1787151600-1787157000@www.kinderschutz.de
SUMMARY:Elterncafé
DESCRIPTION:
URL:https://www.kinderschutz.de/veranstaltung/elterncafe-2/2026-08-19/
LOCATION:HeideTreff Familienzentrum/ Familienstützpunkt\, Karl-Köglsperger-Straße 19\, München\, 80939
CATEGORIES:Freimann,Wochenprogramm
ATTACH;FMTTYPE=image/jpeg:https://www.kinderschutz.de/wp-content/uploads/2024/08/Elterncafe.jpg
END:VEVENT
BEGIN:VEVENT
DTSTART;TZID=Europe/Berlin:20260826T150000
DTEND;TZID=Europe/Berlin:20260826T163000
DTSTAMP:20260424T231841
CREATED:20240717T083515Z
LAST-MODIFIED:20250801T072150Z
UID:10018697-1787756400-1787761800@www.kinderschutz.de
SUMMARY:Elterncafé
DESCRIPTION:
URL:https://www.kinderschutz.de/veranstaltung/elterncafe-2/2026-08-26/
LOCATION:HeideTreff Familienzentrum/ Familienstützpunkt\, Karl-Köglsperger-Straße 19\, München\, 80939
CATEGORIES:Freimann,Wochenprogramm
ATTACH;FMTTYPE=image/jpeg:https://www.kinderschutz.de/wp-content/uploads/2024/08/Elterncafe.jpg
END:VEVENT
BEGIN:VEVENT
DTSTART;TZID=Europe/Berlin:20260902T150000
DTEND;TZID=Europe/Berlin:20260902T163000
DTSTAMP:20260424T231841
CREATED:20240717T083515Z
LAST-MODIFIED:20250801T072150Z
UID:10018698-1788361200-1788366600@www.kinderschutz.de
SUMMARY:Elterncafé
DESCRIPTION:
URL:https://www.kinderschutz.de/veranstaltung/elterncafe-2/2026-09-02/
LOCATION:HeideTreff Familienzentrum/ Familienstützpunkt\, Karl-Köglsperger-Straße 19\, München\, 80939
CATEGORIES:Freimann,Wochenprogramm
ATTACH;FMTTYPE=image/jpeg:https://www.kinderschutz.de/wp-content/uploads/2024/08/Elterncafe.jpg
END:VEVENT
BEGIN:VEVENT
DTSTART;TZID=Europe/Berlin:20260909T150000
DTEND;TZID=Europe/Berlin:20260909T163000
DTSTAMP:20260424T231841
CREATED:20240717T083515Z
LAST-MODIFIED:20250801T072150Z
UID:10018699-1788966000-1788971400@www.kinderschutz.de
SUMMARY:Elterncafé
DESCRIPTION:
URL:https://www.kinderschutz.de/veranstaltung/elterncafe-2/2026-09-09/
LOCATION:HeideTreff Familienzentrum/ Familienstützpunkt\, Karl-Köglsperger-Straße 19\, München\, 80939
CATEGORIES:Freimann,Wochenprogramm
ATTACH;FMTTYPE=image/jpeg:https://www.kinderschutz.de/wp-content/uploads/2024/08/Elterncafe.jpg
END:VEVENT
BEGIN:VEVENT
DTSTART;TZID=Europe/Berlin:20260916T150000
DTEND;TZID=Europe/Berlin:20260916T163000
DTSTAMP:20260424T231841
CREATED:20240717T083515Z
LAST-MODIFIED:20250801T072150Z
UID:10018700-1789570800-1789576200@www.kinderschutz.de
SUMMARY:Elterncafé
DESCRIPTION:
URL:https://www.kinderschutz.de/veranstaltung/elterncafe-2/2026-09-16/
LOCATION:HeideTreff Familienzentrum/ Familienstützpunkt\, Karl-Köglsperger-Straße 19\, München\, 80939
CATEGORIES:Freimann,Wochenprogramm
ATTACH;FMTTYPE=image/jpeg:https://www.kinderschutz.de/wp-content/uploads/2024/08/Elterncafe.jpg
END:VEVENT
BEGIN:VEVENT
DTSTART;TZID=Europe/Berlin:20260923T150000
DTEND;TZID=Europe/Berlin:20260923T163000
DTSTAMP:20260424T231841
CREATED:20240717T083515Z
LAST-MODIFIED:20250801T072150Z
UID:10018701-1790175600-1790181000@www.kinderschutz.de
SUMMARY:Elterncafé
DESCRIPTION:
URL:https://www.kinderschutz.de/veranstaltung/elterncafe-2/2026-09-23/
LOCATION:HeideTreff Familienzentrum/ Familienstützpunkt\, Karl-Köglsperger-Straße 19\, München\, 80939
CATEGORIES:Freimann,Wochenprogramm
ATTACH;FMTTYPE=image/jpeg:https://www.kinderschutz.de/wp-content/uploads/2024/08/Elterncafe.jpg
END:VEVENT
BEGIN:VEVENT
DTSTART;TZID=Europe/Berlin:20260930T150000
DTEND;TZID=Europe/Berlin:20260930T163000
DTSTAMP:20260424T231841
CREATED:20240717T083515Z
LAST-MODIFIED:20250801T072150Z
UID:10018702-1790780400-1790785800@www.kinderschutz.de
SUMMARY:Elterncafé
DESCRIPTION:
URL:https://www.kinderschutz.de/veranstaltung/elterncafe-2/2026-09-30/
LOCATION:HeideTreff Familienzentrum/ Familienstützpunkt\, Karl-Köglsperger-Straße 19\, München\, 80939
CATEGORIES:Freimann,Wochenprogramm
ATTACH;FMTTYPE=image/jpeg:https://www.kinderschutz.de/wp-content/uploads/2024/08/Elterncafe.jpg
END:VEVENT
BEGIN:VEVENT
DTSTART;TZID=Europe/Berlin:20261007T150000
DTEND;TZID=Europe/Berlin:20261007T163000
DTSTAMP:20260424T231841
CREATED:20240717T083515Z
LAST-MODIFIED:20250801T072150Z
UID:10018703-1791385200-1791390600@www.kinderschutz.de
SUMMARY:Elterncafé
DESCRIPTION:
URL:https://www.kinderschutz.de/veranstaltung/elterncafe-2/2026-10-07/
LOCATION:HeideTreff Familienzentrum/ Familienstützpunkt\, Karl-Köglsperger-Straße 19\, München\, 80939
CATEGORIES:Freimann,Wochenprogramm
ATTACH;FMTTYPE=image/jpeg:https://www.kinderschutz.de/wp-content/uploads/2024/08/Elterncafe.jpg
END:VEVENT
BEGIN:VEVENT
DTSTART;TZID=Europe/Berlin:20261014T150000
DTEND;TZID=Europe/Berlin:20261014T163000
DTSTAMP:20260424T231841
CREATED:20240717T083515Z
LAST-MODIFIED:20250801T072150Z
UID:10018704-1791990000-1791995400@www.kinderschutz.de
SUMMARY:Elterncafé
DESCRIPTION:
URL:https://www.kinderschutz.de/veranstaltung/elterncafe-2/2026-10-14/
LOCATION:HeideTreff Familienzentrum/ Familienstützpunkt\, Karl-Köglsperger-Straße 19\, München\, 80939
CATEGORIES:Freimann,Wochenprogramm
ATTACH;FMTTYPE=image/jpeg:https://www.kinderschutz.de/wp-content/uploads/2024/08/Elterncafe.jpg
END:VEVENT
BEGIN:VEVENT
DTSTART;TZID=Europe/Berlin:20261021T150000
DTEND;TZID=Europe/Berlin:20261021T163000
DTSTAMP:20260424T231842
CREATED:20240717T083515Z
LAST-MODIFIED:20250801T072150Z
UID:10018705-1792594800-1792600200@www.kinderschutz.de
SUMMARY:Elterncafé
DESCRIPTION:
URL:https://www.kinderschutz.de/veranstaltung/elterncafe-2/2026-10-21/
LOCATION:HeideTreff Familienzentrum/ Familienstützpunkt\, Karl-Köglsperger-Straße 19\, München\, 80939
CATEGORIES:Freimann,Wochenprogramm
ATTACH;FMTTYPE=image/jpeg:https://www.kinderschutz.de/wp-content/uploads/2024/08/Elterncafe.jpg
END:VEVENT
BEGIN:VEVENT
DTSTART;TZID=Europe/Berlin:20261028T150000
DTEND;TZID=Europe/Berlin:20261028T163000
DTSTAMP:20260424T231842
CREATED:20240717T083515Z
LAST-MODIFIED:20250801T072150Z
UID:10018706-1793199600-1793205000@www.kinderschutz.de
SUMMARY:Elterncafé
DESCRIPTION:
URL:https://www.kinderschutz.de/veranstaltung/elterncafe-2/2026-10-28/
LOCATION:HeideTreff Familienzentrum/ Familienstützpunkt\, Karl-Köglsperger-Straße 19\, München\, 80939
CATEGORIES:Freimann,Wochenprogramm
ATTACH;FMTTYPE=image/jpeg:https://www.kinderschutz.de/wp-content/uploads/2024/08/Elterncafe.jpg
END:VEVENT
BEGIN:VEVENT
DTSTART;TZID=Europe/Berlin:20261104T150000
DTEND;TZID=Europe/Berlin:20261104T163000
DTSTAMP:20260424T231842
CREATED:20240717T083515Z
LAST-MODIFIED:20250801T072150Z
UID:10018707-1793804400-1793809800@www.kinderschutz.de
SUMMARY:Elterncafé
DESCRIPTION:
URL:https://www.kinderschutz.de/veranstaltung/elterncafe-2/2026-11-04/
LOCATION:HeideTreff Familienzentrum/ Familienstützpunkt\, Karl-Köglsperger-Straße 19\, München\, 80939
CATEGORIES:Freimann,Wochenprogramm
ATTACH;FMTTYPE=image/jpeg:https://www.kinderschutz.de/wp-content/uploads/2024/08/Elterncafe.jpg
END:VEVENT
BEGIN:VEVENT
DTSTART;TZID=Europe/Berlin:20261111T150000
DTEND;TZID=Europe/Berlin:20261111T163000
DTSTAMP:20260424T231842
CREATED:20240717T083515Z
LAST-MODIFIED:20250801T072150Z
UID:10018708-1794409200-1794414600@www.kinderschutz.de
SUMMARY:Elterncafé
DESCRIPTION:
URL:https://www.kinderschutz.de/veranstaltung/elterncafe-2/2026-11-11/
LOCATION:HeideTreff Familienzentrum/ Familienstützpunkt\, Karl-Köglsperger-Straße 19\, München\, 80939
CATEGORIES:Freimann,Wochenprogramm
ATTACH;FMTTYPE=image/jpeg:https://www.kinderschutz.de/wp-content/uploads/2024/08/Elterncafe.jpg
END:VEVENT
BEGIN:VEVENT
DTSTART;TZID=Europe/Berlin:20261118T150000
DTEND;TZID=Europe/Berlin:20261118T163000
DTSTAMP:20260424T231842
CREATED:20240717T083515Z
LAST-MODIFIED:20250801T072150Z
UID:10018709-1795014000-1795019400@www.kinderschutz.de
SUMMARY:Elterncafé
DESCRIPTION:
URL:https://www.kinderschutz.de/veranstaltung/elterncafe-2/2026-11-18/
LOCATION:HeideTreff Familienzentrum/ Familienstützpunkt\, Karl-Köglsperger-Straße 19\, München\, 80939
CATEGORIES:Freimann,Wochenprogramm
ATTACH;FMTTYPE=image/jpeg:https://www.kinderschutz.de/wp-content/uploads/2024/08/Elterncafe.jpg
END:VEVENT
END:VCALENDAR