BEGIN:VCALENDAR
VERSION:2.0
PRODID:-//KINDERSCHUTZ MÜNCHEN - ECPv6.15.20//NONSGML v1.0//EN
CALSCALE:GREGORIAN
METHOD:PUBLISH
X-WR-CALNAME:KINDERSCHUTZ MÜNCHEN
X-ORIGINAL-URL:https://www.kinderschutz.de
X-WR-CALDESC:Veranstaltungen für KINDERSCHUTZ MÜNCHEN
REFRESH-INTERVAL;VALUE=DURATION:PT1H
X-Robots-Tag:noindex
X-PUBLISHED-TTL:PT1H
BEGIN:VTIMEZONE
TZID:Europe/Berlin
BEGIN:DAYLIGHT
TZOFFSETFROM:+0100
TZOFFSETTO:+0200
TZNAME:CEST
DTSTART:20250330T010000
END:DAYLIGHT
BEGIN:STANDARD
TZOFFSETFROM:+0200
TZOFFSETTO:+0100
TZNAME:CET
DTSTART:20251026T010000
END:STANDARD
BEGIN:DAYLIGHT
TZOFFSETFROM:+0100
TZOFFSETTO:+0200
TZNAME:CEST
DTSTART:20260329T010000
END:DAYLIGHT
BEGIN:STANDARD
TZOFFSETFROM:+0200
TZOFFSETTO:+0100
TZNAME:CET
DTSTART:20261025T010000
END:STANDARD
BEGIN:DAYLIGHT
TZOFFSETFROM:+0100
TZOFFSETTO:+0200
TZNAME:CEST
DTSTART:20270328T010000
END:DAYLIGHT
BEGIN:STANDARD
TZOFFSETFROM:+0200
TZOFFSETTO:+0100
TZNAME:CET
DTSTART:20271031T010000
END:STANDARD
END:VTIMEZONE
BEGIN:VEVENT
DTSTART;TZID=Europe/Berlin:20260430T140000
DTEND;TZID=Europe/Berlin:20260430T160000
DTSTAMP:20260424T171809
CREATED:20250704T120237Z
LAST-MODIFIED:20250704T120238Z
UID:10042618-1777557600-1777564800@www.kinderschutz.de
SUMMARY:Mittagessen to go
DESCRIPTION:Mit Voranmeldung
URL:https://www.kinderschutz.de/veranstaltung/mittagessen-to-go-2/2026-04-30/
LOCATION:HeideTreff Nachbarschaftstreff\, Karl-Köglsperger-Straße 13\, München\, Bayern\, 80939\, Germany
CATEGORIES:Freimann,Wochenprogramm
ATTACH;FMTTYPE=image/jpeg:https://www.kinderschutz.de/wp-content/uploads/2025/01/Mittagessen.jpg
END:VEVENT
BEGIN:VEVENT
DTSTART;TZID=Europe/Berlin:20260507T140000
DTEND;TZID=Europe/Berlin:20260507T160000
DTSTAMP:20260424T171809
CREATED:20250704T120237Z
LAST-MODIFIED:20250704T120238Z
UID:10042619-1778162400-1778169600@www.kinderschutz.de
SUMMARY:Mittagessen to go
DESCRIPTION:Mit Voranmeldung
URL:https://www.kinderschutz.de/veranstaltung/mittagessen-to-go-2/2026-05-07/
LOCATION:HeideTreff Nachbarschaftstreff\, Karl-Köglsperger-Straße 13\, München\, Bayern\, 80939\, Germany
CATEGORIES:Freimann,Wochenprogramm
ATTACH;FMTTYPE=image/jpeg:https://www.kinderschutz.de/wp-content/uploads/2025/01/Mittagessen.jpg
END:VEVENT
BEGIN:VEVENT
DTSTART;TZID=Europe/Berlin:20260514T140000
DTEND;TZID=Europe/Berlin:20260514T160000
DTSTAMP:20260424T171809
CREATED:20250704T120237Z
LAST-MODIFIED:20250704T120238Z
UID:10042620-1778767200-1778774400@www.kinderschutz.de
SUMMARY:Mittagessen to go
DESCRIPTION:Mit Voranmeldung
URL:https://www.kinderschutz.de/veranstaltung/mittagessen-to-go-2/2026-05-14/
LOCATION:HeideTreff Nachbarschaftstreff\, Karl-Köglsperger-Straße 13\, München\, Bayern\, 80939\, Germany
CATEGORIES:Freimann,Wochenprogramm
ATTACH;FMTTYPE=image/jpeg:https://www.kinderschutz.de/wp-content/uploads/2025/01/Mittagessen.jpg
END:VEVENT
BEGIN:VEVENT
DTSTART;TZID=Europe/Berlin:20260521T140000
DTEND;TZID=Europe/Berlin:20260521T160000
DTSTAMP:20260424T171809
CREATED:20250704T120237Z
LAST-MODIFIED:20250704T120238Z
UID:10042621-1779372000-1779379200@www.kinderschutz.de
SUMMARY:Mittagessen to go
DESCRIPTION:Mit Voranmeldung
URL:https://www.kinderschutz.de/veranstaltung/mittagessen-to-go-2/2026-05-21/
LOCATION:HeideTreff Nachbarschaftstreff\, Karl-Köglsperger-Straße 13\, München\, Bayern\, 80939\, Germany
CATEGORIES:Freimann,Wochenprogramm
ATTACH;FMTTYPE=image/jpeg:https://www.kinderschutz.de/wp-content/uploads/2025/01/Mittagessen.jpg
END:VEVENT
BEGIN:VEVENT
DTSTART;TZID=Europe/Berlin:20260528T140000
DTEND;TZID=Europe/Berlin:20260528T160000
DTSTAMP:20260424T171809
CREATED:20250704T120237Z
LAST-MODIFIED:20250704T120238Z
UID:10042622-1779976800-1779984000@www.kinderschutz.de
SUMMARY:Mittagessen to go
DESCRIPTION:Mit Voranmeldung
URL:https://www.kinderschutz.de/veranstaltung/mittagessen-to-go-2/2026-05-28/
LOCATION:HeideTreff Nachbarschaftstreff\, Karl-Köglsperger-Straße 13\, München\, Bayern\, 80939\, Germany
CATEGORIES:Freimann,Wochenprogramm
ATTACH;FMTTYPE=image/jpeg:https://www.kinderschutz.de/wp-content/uploads/2025/01/Mittagessen.jpg
END:VEVENT
BEGIN:VEVENT
DTSTART;TZID=Europe/Berlin:20260604T140000
DTEND;TZID=Europe/Berlin:20260604T160000
DTSTAMP:20260424T171809
CREATED:20250704T120237Z
LAST-MODIFIED:20250704T120238Z
UID:10042623-1780581600-1780588800@www.kinderschutz.de
SUMMARY:Mittagessen to go
DESCRIPTION:Mit Voranmeldung
URL:https://www.kinderschutz.de/veranstaltung/mittagessen-to-go-2/2026-06-04/
LOCATION:HeideTreff Nachbarschaftstreff\, Karl-Köglsperger-Straße 13\, München\, Bayern\, 80939\, Germany
CATEGORIES:Freimann,Wochenprogramm
ATTACH;FMTTYPE=image/jpeg:https://www.kinderschutz.de/wp-content/uploads/2025/01/Mittagessen.jpg
END:VEVENT
BEGIN:VEVENT
DTSTART;TZID=Europe/Berlin:20260611T140000
DTEND;TZID=Europe/Berlin:20260611T160000
DTSTAMP:20260424T171809
CREATED:20250704T120237Z
LAST-MODIFIED:20250704T120238Z
UID:10042624-1781186400-1781193600@www.kinderschutz.de
SUMMARY:Mittagessen to go
DESCRIPTION:Mit Voranmeldung
URL:https://www.kinderschutz.de/veranstaltung/mittagessen-to-go-2/2026-06-11/
LOCATION:HeideTreff Nachbarschaftstreff\, Karl-Köglsperger-Straße 13\, München\, Bayern\, 80939\, Germany
CATEGORIES:Freimann,Wochenprogramm
ATTACH;FMTTYPE=image/jpeg:https://www.kinderschutz.de/wp-content/uploads/2025/01/Mittagessen.jpg
END:VEVENT
BEGIN:VEVENT
DTSTART;TZID=Europe/Berlin:20260618T140000
DTEND;TZID=Europe/Berlin:20260618T160000
DTSTAMP:20260424T171809
CREATED:20250704T120237Z
LAST-MODIFIED:20250704T120238Z
UID:10042625-1781791200-1781798400@www.kinderschutz.de
SUMMARY:Mittagessen to go
DESCRIPTION:Mit Voranmeldung
URL:https://www.kinderschutz.de/veranstaltung/mittagessen-to-go-2/2026-06-18/
LOCATION:HeideTreff Nachbarschaftstreff\, Karl-Köglsperger-Straße 13\, München\, Bayern\, 80939\, Germany
CATEGORIES:Freimann,Wochenprogramm
ATTACH;FMTTYPE=image/jpeg:https://www.kinderschutz.de/wp-content/uploads/2025/01/Mittagessen.jpg
END:VEVENT
BEGIN:VEVENT
DTSTART;TZID=Europe/Berlin:20260625T140000
DTEND;TZID=Europe/Berlin:20260625T160000
DTSTAMP:20260424T171809
CREATED:20250704T120237Z
LAST-MODIFIED:20250704T120238Z
UID:10042626-1782396000-1782403200@www.kinderschutz.de
SUMMARY:Mittagessen to go
DESCRIPTION:Mit Voranmeldung
URL:https://www.kinderschutz.de/veranstaltung/mittagessen-to-go-2/2026-06-25/
LOCATION:HeideTreff Nachbarschaftstreff\, Karl-Köglsperger-Straße 13\, München\, Bayern\, 80939\, Germany
CATEGORIES:Freimann,Wochenprogramm
ATTACH;FMTTYPE=image/jpeg:https://www.kinderschutz.de/wp-content/uploads/2025/01/Mittagessen.jpg
END:VEVENT
BEGIN:VEVENT
DTSTART;TZID=Europe/Berlin:20260702T140000
DTEND;TZID=Europe/Berlin:20260702T160000
DTSTAMP:20260424T171809
CREATED:20250704T120237Z
LAST-MODIFIED:20250704T120238Z
UID:10042627-1783000800-1783008000@www.kinderschutz.de
SUMMARY:Mittagessen to go
DESCRIPTION:Mit Voranmeldung
URL:https://www.kinderschutz.de/veranstaltung/mittagessen-to-go-2/2026-07-02/
LOCATION:HeideTreff Nachbarschaftstreff\, Karl-Köglsperger-Straße 13\, München\, Bayern\, 80939\, Germany
CATEGORIES:Freimann,Wochenprogramm
ATTACH;FMTTYPE=image/jpeg:https://www.kinderschutz.de/wp-content/uploads/2025/01/Mittagessen.jpg
END:VEVENT
BEGIN:VEVENT
DTSTART;TZID=Europe/Berlin:20260709T140000
DTEND;TZID=Europe/Berlin:20260709T160000
DTSTAMP:20260424T171809
CREATED:20250704T120237Z
LAST-MODIFIED:20250704T120238Z
UID:10042628-1783605600-1783612800@www.kinderschutz.de
SUMMARY:Mittagessen to go
DESCRIPTION:Mit Voranmeldung
URL:https://www.kinderschutz.de/veranstaltung/mittagessen-to-go-2/2026-07-09/
LOCATION:HeideTreff Nachbarschaftstreff\, Karl-Köglsperger-Straße 13\, München\, Bayern\, 80939\, Germany
CATEGORIES:Freimann,Wochenprogramm
ATTACH;FMTTYPE=image/jpeg:https://www.kinderschutz.de/wp-content/uploads/2025/01/Mittagessen.jpg
END:VEVENT
BEGIN:VEVENT
DTSTART;TZID=Europe/Berlin:20260716T140000
DTEND;TZID=Europe/Berlin:20260716T160000
DTSTAMP:20260424T171809
CREATED:20250704T120237Z
LAST-MODIFIED:20250704T120238Z
UID:10042629-1784210400-1784217600@www.kinderschutz.de
SUMMARY:Mittagessen to go
DESCRIPTION:Mit Voranmeldung
URL:https://www.kinderschutz.de/veranstaltung/mittagessen-to-go-2/2026-07-16/
LOCATION:HeideTreff Nachbarschaftstreff\, Karl-Köglsperger-Straße 13\, München\, Bayern\, 80939\, Germany
CATEGORIES:Freimann,Wochenprogramm
ATTACH;FMTTYPE=image/jpeg:https://www.kinderschutz.de/wp-content/uploads/2025/01/Mittagessen.jpg
END:VEVENT
BEGIN:VEVENT
DTSTART;TZID=Europe/Berlin:20260723T140000
DTEND;TZID=Europe/Berlin:20260723T160000
DTSTAMP:20260424T171809
CREATED:20250704T120237Z
LAST-MODIFIED:20250704T120238Z
UID:10042630-1784815200-1784822400@www.kinderschutz.de
SUMMARY:Mittagessen to go
DESCRIPTION:Mit Voranmeldung
URL:https://www.kinderschutz.de/veranstaltung/mittagessen-to-go-2/2026-07-23/
LOCATION:HeideTreff Nachbarschaftstreff\, Karl-Köglsperger-Straße 13\, München\, Bayern\, 80939\, Germany
CATEGORIES:Freimann,Wochenprogramm
ATTACH;FMTTYPE=image/jpeg:https://www.kinderschutz.de/wp-content/uploads/2025/01/Mittagessen.jpg
END:VEVENT
BEGIN:VEVENT
DTSTART;TZID=Europe/Berlin:20260730T140000
DTEND;TZID=Europe/Berlin:20260730T160000
DTSTAMP:20260424T171810
CREATED:20250704T120237Z
LAST-MODIFIED:20250704T120238Z
UID:10042631-1785420000-1785427200@www.kinderschutz.de
SUMMARY:Mittagessen to go
DESCRIPTION:Mit Voranmeldung
URL:https://www.kinderschutz.de/veranstaltung/mittagessen-to-go-2/2026-07-30/
LOCATION:HeideTreff Nachbarschaftstreff\, Karl-Köglsperger-Straße 13\, München\, Bayern\, 80939\, Germany
CATEGORIES:Freimann,Wochenprogramm
ATTACH;FMTTYPE=image/jpeg:https://www.kinderschutz.de/wp-content/uploads/2025/01/Mittagessen.jpg
END:VEVENT
BEGIN:VEVENT
DTSTART;TZID=Europe/Berlin:20260806T140000
DTEND;TZID=Europe/Berlin:20260806T160000
DTSTAMP:20260424T171810
CREATED:20250704T120237Z
LAST-MODIFIED:20250704T120238Z
UID:10042632-1786024800-1786032000@www.kinderschutz.de
SUMMARY:Mittagessen to go
DESCRIPTION:Mit Voranmeldung
URL:https://www.kinderschutz.de/veranstaltung/mittagessen-to-go-2/2026-08-06/
LOCATION:HeideTreff Nachbarschaftstreff\, Karl-Köglsperger-Straße 13\, München\, Bayern\, 80939\, Germany
CATEGORIES:Freimann,Wochenprogramm
ATTACH;FMTTYPE=image/jpeg:https://www.kinderschutz.de/wp-content/uploads/2025/01/Mittagessen.jpg
END:VEVENT
BEGIN:VEVENT
DTSTART;TZID=Europe/Berlin:20260813T140000
DTEND;TZID=Europe/Berlin:20260813T160000
DTSTAMP:20260424T171810
CREATED:20250704T120237Z
LAST-MODIFIED:20250704T120238Z
UID:10042633-1786629600-1786636800@www.kinderschutz.de
SUMMARY:Mittagessen to go
DESCRIPTION:Mit Voranmeldung
URL:https://www.kinderschutz.de/veranstaltung/mittagessen-to-go-2/2026-08-13/
LOCATION:HeideTreff Nachbarschaftstreff\, Karl-Köglsperger-Straße 13\, München\, Bayern\, 80939\, Germany
CATEGORIES:Freimann,Wochenprogramm
ATTACH;FMTTYPE=image/jpeg:https://www.kinderschutz.de/wp-content/uploads/2025/01/Mittagessen.jpg
END:VEVENT
BEGIN:VEVENT
DTSTART;TZID=Europe/Berlin:20260820T140000
DTEND;TZID=Europe/Berlin:20260820T160000
DTSTAMP:20260424T171810
CREATED:20250704T120237Z
LAST-MODIFIED:20250704T120238Z
UID:10042634-1787234400-1787241600@www.kinderschutz.de
SUMMARY:Mittagessen to go
DESCRIPTION:Mit Voranmeldung
URL:https://www.kinderschutz.de/veranstaltung/mittagessen-to-go-2/2026-08-20/
LOCATION:HeideTreff Nachbarschaftstreff\, Karl-Köglsperger-Straße 13\, München\, Bayern\, 80939\, Germany
CATEGORIES:Freimann,Wochenprogramm
ATTACH;FMTTYPE=image/jpeg:https://www.kinderschutz.de/wp-content/uploads/2025/01/Mittagessen.jpg
END:VEVENT
BEGIN:VEVENT
DTSTART;TZID=Europe/Berlin:20260827T140000
DTEND;TZID=Europe/Berlin:20260827T160000
DTSTAMP:20260424T171810
CREATED:20250704T120237Z
LAST-MODIFIED:20250704T120238Z
UID:10042635-1787839200-1787846400@www.kinderschutz.de
SUMMARY:Mittagessen to go
DESCRIPTION:Mit Voranmeldung
URL:https://www.kinderschutz.de/veranstaltung/mittagessen-to-go-2/2026-08-27/
LOCATION:HeideTreff Nachbarschaftstreff\, Karl-Köglsperger-Straße 13\, München\, Bayern\, 80939\, Germany
CATEGORIES:Freimann,Wochenprogramm
ATTACH;FMTTYPE=image/jpeg:https://www.kinderschutz.de/wp-content/uploads/2025/01/Mittagessen.jpg
END:VEVENT
BEGIN:VEVENT
DTSTART;TZID=Europe/Berlin:20260903T140000
DTEND;TZID=Europe/Berlin:20260903T160000
DTSTAMP:20260424T171810
CREATED:20250704T120237Z
LAST-MODIFIED:20250704T120238Z
UID:10042636-1788444000-1788451200@www.kinderschutz.de
SUMMARY:Mittagessen to go
DESCRIPTION:Mit Voranmeldung
URL:https://www.kinderschutz.de/veranstaltung/mittagessen-to-go-2/2026-09-03/
LOCATION:HeideTreff Nachbarschaftstreff\, Karl-Köglsperger-Straße 13\, München\, Bayern\, 80939\, Germany
CATEGORIES:Freimann,Wochenprogramm
ATTACH;FMTTYPE=image/jpeg:https://www.kinderschutz.de/wp-content/uploads/2025/01/Mittagessen.jpg
END:VEVENT
BEGIN:VEVENT
DTSTART;TZID=Europe/Berlin:20260910T140000
DTEND;TZID=Europe/Berlin:20260910T160000
DTSTAMP:20260424T171810
CREATED:20250704T120237Z
LAST-MODIFIED:20250704T120238Z
UID:10042637-1789048800-1789056000@www.kinderschutz.de
SUMMARY:Mittagessen to go
DESCRIPTION:Mit Voranmeldung
URL:https://www.kinderschutz.de/veranstaltung/mittagessen-to-go-2/2026-09-10/
LOCATION:HeideTreff Nachbarschaftstreff\, Karl-Köglsperger-Straße 13\, München\, Bayern\, 80939\, Germany
CATEGORIES:Freimann,Wochenprogramm
ATTACH;FMTTYPE=image/jpeg:https://www.kinderschutz.de/wp-content/uploads/2025/01/Mittagessen.jpg
END:VEVENT
BEGIN:VEVENT
DTSTART;TZID=Europe/Berlin:20260917T140000
DTEND;TZID=Europe/Berlin:20260917T160000
DTSTAMP:20260424T171810
CREATED:20250704T120237Z
LAST-MODIFIED:20250704T120238Z
UID:10042638-1789653600-1789660800@www.kinderschutz.de
SUMMARY:Mittagessen to go
DESCRIPTION:Mit Voranmeldung
URL:https://www.kinderschutz.de/veranstaltung/mittagessen-to-go-2/2026-09-17/
LOCATION:HeideTreff Nachbarschaftstreff\, Karl-Köglsperger-Straße 13\, München\, Bayern\, 80939\, Germany
CATEGORIES:Freimann,Wochenprogramm
ATTACH;FMTTYPE=image/jpeg:https://www.kinderschutz.de/wp-content/uploads/2025/01/Mittagessen.jpg
END:VEVENT
BEGIN:VEVENT
DTSTART;TZID=Europe/Berlin:20260924T140000
DTEND;TZID=Europe/Berlin:20260924T160000
DTSTAMP:20260424T171810
CREATED:20250704T120237Z
LAST-MODIFIED:20250704T120238Z
UID:10042639-1790258400-1790265600@www.kinderschutz.de
SUMMARY:Mittagessen to go
DESCRIPTION:Mit Voranmeldung
URL:https://www.kinderschutz.de/veranstaltung/mittagessen-to-go-2/2026-09-24/
LOCATION:HeideTreff Nachbarschaftstreff\, Karl-Köglsperger-Straße 13\, München\, Bayern\, 80939\, Germany
CATEGORIES:Freimann,Wochenprogramm
ATTACH;FMTTYPE=image/jpeg:https://www.kinderschutz.de/wp-content/uploads/2025/01/Mittagessen.jpg
END:VEVENT
BEGIN:VEVENT
DTSTART;TZID=Europe/Berlin:20261001T140000
DTEND;TZID=Europe/Berlin:20261001T160000
DTSTAMP:20260424T171810
CREATED:20250704T120237Z
LAST-MODIFIED:20250704T120238Z
UID:10042640-1790863200-1790870400@www.kinderschutz.de
SUMMARY:Mittagessen to go
DESCRIPTION:Mit Voranmeldung
URL:https://www.kinderschutz.de/veranstaltung/mittagessen-to-go-2/2026-10-01/
LOCATION:HeideTreff Nachbarschaftstreff\, Karl-Köglsperger-Straße 13\, München\, Bayern\, 80939\, Germany
CATEGORIES:Freimann,Wochenprogramm
ATTACH;FMTTYPE=image/jpeg:https://www.kinderschutz.de/wp-content/uploads/2025/01/Mittagessen.jpg
END:VEVENT
BEGIN:VEVENT
DTSTART;TZID=Europe/Berlin:20261008T140000
DTEND;TZID=Europe/Berlin:20261008T160000
DTSTAMP:20260424T171810
CREATED:20250704T120237Z
LAST-MODIFIED:20250704T120238Z
UID:10042641-1791468000-1791475200@www.kinderschutz.de
SUMMARY:Mittagessen to go
DESCRIPTION:Mit Voranmeldung
URL:https://www.kinderschutz.de/veranstaltung/mittagessen-to-go-2/2026-10-08/
LOCATION:HeideTreff Nachbarschaftstreff\, Karl-Köglsperger-Straße 13\, München\, Bayern\, 80939\, Germany
CATEGORIES:Freimann,Wochenprogramm
ATTACH;FMTTYPE=image/jpeg:https://www.kinderschutz.de/wp-content/uploads/2025/01/Mittagessen.jpg
END:VEVENT
BEGIN:VEVENT
DTSTART;TZID=Europe/Berlin:20261015T140000
DTEND;TZID=Europe/Berlin:20261015T160000
DTSTAMP:20260424T171810
CREATED:20250704T120237Z
LAST-MODIFIED:20250704T120238Z
UID:10042642-1792072800-1792080000@www.kinderschutz.de
SUMMARY:Mittagessen to go
DESCRIPTION:Mit Voranmeldung
URL:https://www.kinderschutz.de/veranstaltung/mittagessen-to-go-2/2026-10-15/
LOCATION:HeideTreff Nachbarschaftstreff\, Karl-Köglsperger-Straße 13\, München\, Bayern\, 80939\, Germany
CATEGORIES:Freimann,Wochenprogramm
ATTACH;FMTTYPE=image/jpeg:https://www.kinderschutz.de/wp-content/uploads/2025/01/Mittagessen.jpg
END:VEVENT
BEGIN:VEVENT
DTSTART;TZID=Europe/Berlin:20261022T140000
DTEND;TZID=Europe/Berlin:20261022T160000
DTSTAMP:20260424T171810
CREATED:20250704T120237Z
LAST-MODIFIED:20250704T120238Z
UID:10042643-1792677600-1792684800@www.kinderschutz.de
SUMMARY:Mittagessen to go
DESCRIPTION:Mit Voranmeldung
URL:https://www.kinderschutz.de/veranstaltung/mittagessen-to-go-2/2026-10-22/
LOCATION:HeideTreff Nachbarschaftstreff\, Karl-Köglsperger-Straße 13\, München\, Bayern\, 80939\, Germany
CATEGORIES:Freimann,Wochenprogramm
ATTACH;FMTTYPE=image/jpeg:https://www.kinderschutz.de/wp-content/uploads/2025/01/Mittagessen.jpg
END:VEVENT
BEGIN:VEVENT
DTSTART;TZID=Europe/Berlin:20261029T140000
DTEND;TZID=Europe/Berlin:20261029T160000
DTSTAMP:20260424T171810
CREATED:20250704T120237Z
LAST-MODIFIED:20250704T120238Z
UID:10042644-1793282400-1793289600@www.kinderschutz.de
SUMMARY:Mittagessen to go
DESCRIPTION:Mit Voranmeldung
URL:https://www.kinderschutz.de/veranstaltung/mittagessen-to-go-2/2026-10-29/
LOCATION:HeideTreff Nachbarschaftstreff\, Karl-Köglsperger-Straße 13\, München\, Bayern\, 80939\, Germany
CATEGORIES:Freimann,Wochenprogramm
ATTACH;FMTTYPE=image/jpeg:https://www.kinderschutz.de/wp-content/uploads/2025/01/Mittagessen.jpg
END:VEVENT
BEGIN:VEVENT
DTSTART;TZID=Europe/Berlin:20261105T140000
DTEND;TZID=Europe/Berlin:20261105T160000
DTSTAMP:20260424T171810
CREATED:20250704T120237Z
LAST-MODIFIED:20250704T120238Z
UID:10042645-1793887200-1793894400@www.kinderschutz.de
SUMMARY:Mittagessen to go
DESCRIPTION:Mit Voranmeldung
URL:https://www.kinderschutz.de/veranstaltung/mittagessen-to-go-2/2026-11-05/
LOCATION:HeideTreff Nachbarschaftstreff\, Karl-Köglsperger-Straße 13\, München\, Bayern\, 80939\, Germany
CATEGORIES:Freimann,Wochenprogramm
ATTACH;FMTTYPE=image/jpeg:https://www.kinderschutz.de/wp-content/uploads/2025/01/Mittagessen.jpg
END:VEVENT
BEGIN:VEVENT
DTSTART;TZID=Europe/Berlin:20261112T140000
DTEND;TZID=Europe/Berlin:20261112T160000
DTSTAMP:20260424T171810
CREATED:20250704T120237Z
LAST-MODIFIED:20250704T120238Z
UID:10042646-1794492000-1794499200@www.kinderschutz.de
SUMMARY:Mittagessen to go
DESCRIPTION:Mit Voranmeldung
URL:https://www.kinderschutz.de/veranstaltung/mittagessen-to-go-2/2026-11-12/
LOCATION:HeideTreff Nachbarschaftstreff\, Karl-Köglsperger-Straße 13\, München\, Bayern\, 80939\, Germany
CATEGORIES:Freimann,Wochenprogramm
ATTACH;FMTTYPE=image/jpeg:https://www.kinderschutz.de/wp-content/uploads/2025/01/Mittagessen.jpg
END:VEVENT
BEGIN:VEVENT
DTSTART;TZID=Europe/Berlin:20261119T140000
DTEND;TZID=Europe/Berlin:20261119T160000
DTSTAMP:20260424T171810
CREATED:20250704T120237Z
LAST-MODIFIED:20250704T120238Z
UID:10042647-1795096800-1795104000@www.kinderschutz.de
SUMMARY:Mittagessen to go
DESCRIPTION:Mit Voranmeldung
URL:https://www.kinderschutz.de/veranstaltung/mittagessen-to-go-2/2026-11-19/
LOCATION:HeideTreff Nachbarschaftstreff\, Karl-Köglsperger-Straße 13\, München\, Bayern\, 80939\, Germany
CATEGORIES:Freimann,Wochenprogramm
ATTACH;FMTTYPE=image/jpeg:https://www.kinderschutz.de/wp-content/uploads/2025/01/Mittagessen.jpg
END:VEVENT
END:VCALENDAR