BEGIN:VCALENDAR
VERSION:2.0
PRODID:-//KINDERSCHUTZ MÜNCHEN - ECPv6.15.20//NONSGML v1.0//EN
CALSCALE:GREGORIAN
METHOD:PUBLISH
X-WR-CALNAME:KINDERSCHUTZ MÜNCHEN
X-ORIGINAL-URL:https://www.kinderschutz.de
X-WR-CALDESC:Veranstaltungen für KINDERSCHUTZ MÜNCHEN
REFRESH-INTERVAL;VALUE=DURATION:PT1H
X-Robots-Tag:noindex
X-PUBLISHED-TTL:PT1H
BEGIN:VTIMEZONE
TZID:Europe/Berlin
BEGIN:DAYLIGHT
TZOFFSETFROM:+0100
TZOFFSETTO:+0200
TZNAME:CEST
DTSTART:20250330T010000
END:DAYLIGHT
BEGIN:STANDARD
TZOFFSETFROM:+0200
TZOFFSETTO:+0100
TZNAME:CET
DTSTART:20251026T010000
END:STANDARD
BEGIN:DAYLIGHT
TZOFFSETFROM:+0100
TZOFFSETTO:+0200
TZNAME:CEST
DTSTART:20260329T010000
END:DAYLIGHT
BEGIN:STANDARD
TZOFFSETFROM:+0200
TZOFFSETTO:+0100
TZNAME:CET
DTSTART:20261025T010000
END:STANDARD
BEGIN:DAYLIGHT
TZOFFSETFROM:+0100
TZOFFSETTO:+0200
TZNAME:CEST
DTSTART:20270328T010000
END:DAYLIGHT
BEGIN:STANDARD
TZOFFSETFROM:+0200
TZOFFSETTO:+0100
TZNAME:CET
DTSTART:20271031T010000
END:STANDARD
END:VTIMEZONE
BEGIN:VEVENT
DTSTART;TZID=Europe/Berlin:20260424T110000
DTEND;TZID=Europe/Berlin:20260424T130000
DTSTAMP:20260420T140956
CREATED:20250930T121940Z
LAST-MODIFIED:20250930T121942Z
UID:10047417-1777028400-1777035600@www.kinderschutz.de
SUMMARY:Gemeinsam kochen und essen
DESCRIPTION:Mit Kinderbetreuung
URL:https://www.kinderschutz.de/veranstaltung/gemeinsam-kochen-und-essen-2-2-2/2026-04-24/
LOCATION:HeideTreff Familienzentrum/ Familienstützpunkt\, Karl-Köglsperger-Straße 19\, München\, 80939
CATEGORIES:Freimann,Wochenprogramm
ATTACH;FMTTYPE=image/jpeg:https://www.kinderschutz.de/wp-content/uploads/2024/10/Kochen.jpg
END:VEVENT
BEGIN:VEVENT
DTSTART;TZID=Europe/Berlin:20260501T110000
DTEND;TZID=Europe/Berlin:20260501T130000
DTSTAMP:20260420T140956
CREATED:20250930T121940Z
LAST-MODIFIED:20250930T121942Z
UID:10047418-1777633200-1777640400@www.kinderschutz.de
SUMMARY:Gemeinsam kochen und essen
DESCRIPTION:Mit Kinderbetreuung
URL:https://www.kinderschutz.de/veranstaltung/gemeinsam-kochen-und-essen-2-2-2/2026-05-01/
LOCATION:HeideTreff Familienzentrum/ Familienstützpunkt\, Karl-Köglsperger-Straße 19\, München\, 80939
CATEGORIES:Freimann,Wochenprogramm
ATTACH;FMTTYPE=image/jpeg:https://www.kinderschutz.de/wp-content/uploads/2024/10/Kochen.jpg
END:VEVENT
BEGIN:VEVENT
DTSTART;TZID=Europe/Berlin:20260508T110000
DTEND;TZID=Europe/Berlin:20260508T130000
DTSTAMP:20260420T140956
CREATED:20250930T121940Z
LAST-MODIFIED:20250930T121942Z
UID:10047419-1778238000-1778245200@www.kinderschutz.de
SUMMARY:Gemeinsam kochen und essen
DESCRIPTION:Mit Kinderbetreuung
URL:https://www.kinderschutz.de/veranstaltung/gemeinsam-kochen-und-essen-2-2-2/2026-05-08/
LOCATION:HeideTreff Familienzentrum/ Familienstützpunkt\, Karl-Köglsperger-Straße 19\, München\, 80939
CATEGORIES:Freimann,Wochenprogramm
ATTACH;FMTTYPE=image/jpeg:https://www.kinderschutz.de/wp-content/uploads/2024/10/Kochen.jpg
END:VEVENT
BEGIN:VEVENT
DTSTART;TZID=Europe/Berlin:20260515T110000
DTEND;TZID=Europe/Berlin:20260515T130000
DTSTAMP:20260420T140956
CREATED:20250930T121940Z
LAST-MODIFIED:20250930T121942Z
UID:10047420-1778842800-1778850000@www.kinderschutz.de
SUMMARY:Gemeinsam kochen und essen
DESCRIPTION:Mit Kinderbetreuung
URL:https://www.kinderschutz.de/veranstaltung/gemeinsam-kochen-und-essen-2-2-2/2026-05-15/
LOCATION:HeideTreff Familienzentrum/ Familienstützpunkt\, Karl-Köglsperger-Straße 19\, München\, 80939
CATEGORIES:Freimann,Wochenprogramm
ATTACH;FMTTYPE=image/jpeg:https://www.kinderschutz.de/wp-content/uploads/2024/10/Kochen.jpg
END:VEVENT
BEGIN:VEVENT
DTSTART;TZID=Europe/Berlin:20260522T110000
DTEND;TZID=Europe/Berlin:20260522T130000
DTSTAMP:20260420T140956
CREATED:20250930T121940Z
LAST-MODIFIED:20250930T121942Z
UID:10047421-1779447600-1779454800@www.kinderschutz.de
SUMMARY:Gemeinsam kochen und essen
DESCRIPTION:Mit Kinderbetreuung
URL:https://www.kinderschutz.de/veranstaltung/gemeinsam-kochen-und-essen-2-2-2/2026-05-22/
LOCATION:HeideTreff Familienzentrum/ Familienstützpunkt\, Karl-Köglsperger-Straße 19\, München\, 80939
CATEGORIES:Freimann,Wochenprogramm
ATTACH;FMTTYPE=image/jpeg:https://www.kinderschutz.de/wp-content/uploads/2024/10/Kochen.jpg
END:VEVENT
BEGIN:VEVENT
DTSTART;TZID=Europe/Berlin:20260529T110000
DTEND;TZID=Europe/Berlin:20260529T130000
DTSTAMP:20260420T140956
CREATED:20250930T121940Z
LAST-MODIFIED:20250930T121942Z
UID:10047422-1780052400-1780059600@www.kinderschutz.de
SUMMARY:Gemeinsam kochen und essen
DESCRIPTION:Mit Kinderbetreuung
URL:https://www.kinderschutz.de/veranstaltung/gemeinsam-kochen-und-essen-2-2-2/2026-05-29/
LOCATION:HeideTreff Familienzentrum/ Familienstützpunkt\, Karl-Köglsperger-Straße 19\, München\, 80939
CATEGORIES:Freimann,Wochenprogramm
ATTACH;FMTTYPE=image/jpeg:https://www.kinderschutz.de/wp-content/uploads/2024/10/Kochen.jpg
END:VEVENT
BEGIN:VEVENT
DTSTART;TZID=Europe/Berlin:20260605T110000
DTEND;TZID=Europe/Berlin:20260605T130000
DTSTAMP:20260420T140956
CREATED:20250930T121940Z
LAST-MODIFIED:20250930T121942Z
UID:10047423-1780657200-1780664400@www.kinderschutz.de
SUMMARY:Gemeinsam kochen und essen
DESCRIPTION:Mit Kinderbetreuung
URL:https://www.kinderschutz.de/veranstaltung/gemeinsam-kochen-und-essen-2-2-2/2026-06-05/
LOCATION:HeideTreff Familienzentrum/ Familienstützpunkt\, Karl-Köglsperger-Straße 19\, München\, 80939
CATEGORIES:Freimann,Wochenprogramm
ATTACH;FMTTYPE=image/jpeg:https://www.kinderschutz.de/wp-content/uploads/2024/10/Kochen.jpg
END:VEVENT
BEGIN:VEVENT
DTSTART;TZID=Europe/Berlin:20260612T110000
DTEND;TZID=Europe/Berlin:20260612T130000
DTSTAMP:20260420T140956
CREATED:20250930T121940Z
LAST-MODIFIED:20250930T121942Z
UID:10047424-1781262000-1781269200@www.kinderschutz.de
SUMMARY:Gemeinsam kochen und essen
DESCRIPTION:Mit Kinderbetreuung
URL:https://www.kinderschutz.de/veranstaltung/gemeinsam-kochen-und-essen-2-2-2/2026-06-12/
LOCATION:HeideTreff Familienzentrum/ Familienstützpunkt\, Karl-Köglsperger-Straße 19\, München\, 80939
CATEGORIES:Freimann,Wochenprogramm
ATTACH;FMTTYPE=image/jpeg:https://www.kinderschutz.de/wp-content/uploads/2024/10/Kochen.jpg
END:VEVENT
BEGIN:VEVENT
DTSTART;TZID=Europe/Berlin:20260619T110000
DTEND;TZID=Europe/Berlin:20260619T130000
DTSTAMP:20260420T140956
CREATED:20250930T121940Z
LAST-MODIFIED:20250930T121942Z
UID:10047425-1781866800-1781874000@www.kinderschutz.de
SUMMARY:Gemeinsam kochen und essen
DESCRIPTION:Mit Kinderbetreuung
URL:https://www.kinderschutz.de/veranstaltung/gemeinsam-kochen-und-essen-2-2-2/2026-06-19/
LOCATION:HeideTreff Familienzentrum/ Familienstützpunkt\, Karl-Köglsperger-Straße 19\, München\, 80939
CATEGORIES:Freimann,Wochenprogramm
ATTACH;FMTTYPE=image/jpeg:https://www.kinderschutz.de/wp-content/uploads/2024/10/Kochen.jpg
END:VEVENT
BEGIN:VEVENT
DTSTART;TZID=Europe/Berlin:20260626T110000
DTEND;TZID=Europe/Berlin:20260626T130000
DTSTAMP:20260420T140956
CREATED:20250930T121940Z
LAST-MODIFIED:20250930T121942Z
UID:10047426-1782471600-1782478800@www.kinderschutz.de
SUMMARY:Gemeinsam kochen und essen
DESCRIPTION:Mit Kinderbetreuung
URL:https://www.kinderschutz.de/veranstaltung/gemeinsam-kochen-und-essen-2-2-2/2026-06-26/
LOCATION:HeideTreff Familienzentrum/ Familienstützpunkt\, Karl-Köglsperger-Straße 19\, München\, 80939
CATEGORIES:Freimann,Wochenprogramm
ATTACH;FMTTYPE=image/jpeg:https://www.kinderschutz.de/wp-content/uploads/2024/10/Kochen.jpg
END:VEVENT
BEGIN:VEVENT
DTSTART;TZID=Europe/Berlin:20260703T110000
DTEND;TZID=Europe/Berlin:20260703T130000
DTSTAMP:20260420T140956
CREATED:20250930T121940Z
LAST-MODIFIED:20250930T121942Z
UID:10047427-1783076400-1783083600@www.kinderschutz.de
SUMMARY:Gemeinsam kochen und essen
DESCRIPTION:Mit Kinderbetreuung
URL:https://www.kinderschutz.de/veranstaltung/gemeinsam-kochen-und-essen-2-2-2/2026-07-03/
LOCATION:HeideTreff Familienzentrum/ Familienstützpunkt\, Karl-Köglsperger-Straße 19\, München\, 80939
CATEGORIES:Freimann,Wochenprogramm
ATTACH;FMTTYPE=image/jpeg:https://www.kinderschutz.de/wp-content/uploads/2024/10/Kochen.jpg
END:VEVENT
BEGIN:VEVENT
DTSTART;TZID=Europe/Berlin:20260710T110000
DTEND;TZID=Europe/Berlin:20260710T130000
DTSTAMP:20260420T140956
CREATED:20250930T121940Z
LAST-MODIFIED:20250930T121942Z
UID:10047428-1783681200-1783688400@www.kinderschutz.de
SUMMARY:Gemeinsam kochen und essen
DESCRIPTION:Mit Kinderbetreuung
URL:https://www.kinderschutz.de/veranstaltung/gemeinsam-kochen-und-essen-2-2-2/2026-07-10/
LOCATION:HeideTreff Familienzentrum/ Familienstützpunkt\, Karl-Köglsperger-Straße 19\, München\, 80939
CATEGORIES:Freimann,Wochenprogramm
ATTACH;FMTTYPE=image/jpeg:https://www.kinderschutz.de/wp-content/uploads/2024/10/Kochen.jpg
END:VEVENT
BEGIN:VEVENT
DTSTART;TZID=Europe/Berlin:20260717T110000
DTEND;TZID=Europe/Berlin:20260717T130000
DTSTAMP:20260420T140956
CREATED:20250930T121940Z
LAST-MODIFIED:20250930T121942Z
UID:10047429-1784286000-1784293200@www.kinderschutz.de
SUMMARY:Gemeinsam kochen und essen
DESCRIPTION:Mit Kinderbetreuung
URL:https://www.kinderschutz.de/veranstaltung/gemeinsam-kochen-und-essen-2-2-2/2026-07-17/
LOCATION:HeideTreff Familienzentrum/ Familienstützpunkt\, Karl-Köglsperger-Straße 19\, München\, 80939
CATEGORIES:Freimann,Wochenprogramm
ATTACH;FMTTYPE=image/jpeg:https://www.kinderschutz.de/wp-content/uploads/2024/10/Kochen.jpg
END:VEVENT
BEGIN:VEVENT
DTSTART;TZID=Europe/Berlin:20260724T110000
DTEND;TZID=Europe/Berlin:20260724T130000
DTSTAMP:20260420T140956
CREATED:20250930T121940Z
LAST-MODIFIED:20250930T121942Z
UID:10047430-1784890800-1784898000@www.kinderschutz.de
SUMMARY:Gemeinsam kochen und essen
DESCRIPTION:Mit Kinderbetreuung
URL:https://www.kinderschutz.de/veranstaltung/gemeinsam-kochen-und-essen-2-2-2/2026-07-24/
LOCATION:HeideTreff Familienzentrum/ Familienstützpunkt\, Karl-Köglsperger-Straße 19\, München\, 80939
CATEGORIES:Freimann,Wochenprogramm
ATTACH;FMTTYPE=image/jpeg:https://www.kinderschutz.de/wp-content/uploads/2024/10/Kochen.jpg
END:VEVENT
BEGIN:VEVENT
DTSTART;TZID=Europe/Berlin:20260731T110000
DTEND;TZID=Europe/Berlin:20260731T130000
DTSTAMP:20260420T140956
CREATED:20250930T121940Z
LAST-MODIFIED:20250930T121942Z
UID:10047431-1785495600-1785502800@www.kinderschutz.de
SUMMARY:Gemeinsam kochen und essen
DESCRIPTION:Mit Kinderbetreuung
URL:https://www.kinderschutz.de/veranstaltung/gemeinsam-kochen-und-essen-2-2-2/2026-07-31/
LOCATION:HeideTreff Familienzentrum/ Familienstützpunkt\, Karl-Köglsperger-Straße 19\, München\, 80939
CATEGORIES:Freimann,Wochenprogramm
ATTACH;FMTTYPE=image/jpeg:https://www.kinderschutz.de/wp-content/uploads/2024/10/Kochen.jpg
END:VEVENT
BEGIN:VEVENT
DTSTART;TZID=Europe/Berlin:20260807T110000
DTEND;TZID=Europe/Berlin:20260807T130000
DTSTAMP:20260420T140956
CREATED:20250930T121940Z
LAST-MODIFIED:20250930T121942Z
UID:10047432-1786100400-1786107600@www.kinderschutz.de
SUMMARY:Gemeinsam kochen und essen
DESCRIPTION:Mit Kinderbetreuung
URL:https://www.kinderschutz.de/veranstaltung/gemeinsam-kochen-und-essen-2-2-2/2026-08-07/
LOCATION:HeideTreff Familienzentrum/ Familienstützpunkt\, Karl-Köglsperger-Straße 19\, München\, 80939
CATEGORIES:Freimann,Wochenprogramm
ATTACH;FMTTYPE=image/jpeg:https://www.kinderschutz.de/wp-content/uploads/2024/10/Kochen.jpg
END:VEVENT
BEGIN:VEVENT
DTSTART;TZID=Europe/Berlin:20260814T110000
DTEND;TZID=Europe/Berlin:20260814T130000
DTSTAMP:20260420T140956
CREATED:20250930T121940Z
LAST-MODIFIED:20250930T121942Z
UID:10047433-1786705200-1786712400@www.kinderschutz.de
SUMMARY:Gemeinsam kochen und essen
DESCRIPTION:Mit Kinderbetreuung
URL:https://www.kinderschutz.de/veranstaltung/gemeinsam-kochen-und-essen-2-2-2/2026-08-14/
LOCATION:HeideTreff Familienzentrum/ Familienstützpunkt\, Karl-Köglsperger-Straße 19\, München\, 80939
CATEGORIES:Freimann,Wochenprogramm
ATTACH;FMTTYPE=image/jpeg:https://www.kinderschutz.de/wp-content/uploads/2024/10/Kochen.jpg
END:VEVENT
BEGIN:VEVENT
DTSTART;TZID=Europe/Berlin:20260821T110000
DTEND;TZID=Europe/Berlin:20260821T130000
DTSTAMP:20260420T140956
CREATED:20250930T121940Z
LAST-MODIFIED:20250930T121942Z
UID:10047434-1787310000-1787317200@www.kinderschutz.de
SUMMARY:Gemeinsam kochen und essen
DESCRIPTION:Mit Kinderbetreuung
URL:https://www.kinderschutz.de/veranstaltung/gemeinsam-kochen-und-essen-2-2-2/2026-08-21/
LOCATION:HeideTreff Familienzentrum/ Familienstützpunkt\, Karl-Köglsperger-Straße 19\, München\, 80939
CATEGORIES:Freimann,Wochenprogramm
ATTACH;FMTTYPE=image/jpeg:https://www.kinderschutz.de/wp-content/uploads/2024/10/Kochen.jpg
END:VEVENT
BEGIN:VEVENT
DTSTART;TZID=Europe/Berlin:20260828T110000
DTEND;TZID=Europe/Berlin:20260828T130000
DTSTAMP:20260420T140956
CREATED:20250930T121940Z
LAST-MODIFIED:20250930T121942Z
UID:10047435-1787914800-1787922000@www.kinderschutz.de
SUMMARY:Gemeinsam kochen und essen
DESCRIPTION:Mit Kinderbetreuung
URL:https://www.kinderschutz.de/veranstaltung/gemeinsam-kochen-und-essen-2-2-2/2026-08-28/
LOCATION:HeideTreff Familienzentrum/ Familienstützpunkt\, Karl-Köglsperger-Straße 19\, München\, 80939
CATEGORIES:Freimann,Wochenprogramm
ATTACH;FMTTYPE=image/jpeg:https://www.kinderschutz.de/wp-content/uploads/2024/10/Kochen.jpg
END:VEVENT
BEGIN:VEVENT
DTSTART;TZID=Europe/Berlin:20260904T110000
DTEND;TZID=Europe/Berlin:20260904T130000
DTSTAMP:20260420T140956
CREATED:20250930T121940Z
LAST-MODIFIED:20250930T121942Z
UID:10047436-1788519600-1788526800@www.kinderschutz.de
SUMMARY:Gemeinsam kochen und essen
DESCRIPTION:Mit Kinderbetreuung
URL:https://www.kinderschutz.de/veranstaltung/gemeinsam-kochen-und-essen-2-2-2/2026-09-04/
LOCATION:HeideTreff Familienzentrum/ Familienstützpunkt\, Karl-Köglsperger-Straße 19\, München\, 80939
CATEGORIES:Freimann,Wochenprogramm
ATTACH;FMTTYPE=image/jpeg:https://www.kinderschutz.de/wp-content/uploads/2024/10/Kochen.jpg
END:VEVENT
BEGIN:VEVENT
DTSTART;TZID=Europe/Berlin:20260911T110000
DTEND;TZID=Europe/Berlin:20260911T130000
DTSTAMP:20260420T140956
CREATED:20250930T121940Z
LAST-MODIFIED:20250930T121942Z
UID:10047437-1789124400-1789131600@www.kinderschutz.de
SUMMARY:Gemeinsam kochen und essen
DESCRIPTION:Mit Kinderbetreuung
URL:https://www.kinderschutz.de/veranstaltung/gemeinsam-kochen-und-essen-2-2-2/2026-09-11/
LOCATION:HeideTreff Familienzentrum/ Familienstützpunkt\, Karl-Köglsperger-Straße 19\, München\, 80939
CATEGORIES:Freimann,Wochenprogramm
ATTACH;FMTTYPE=image/jpeg:https://www.kinderschutz.de/wp-content/uploads/2024/10/Kochen.jpg
END:VEVENT
BEGIN:VEVENT
DTSTART;TZID=Europe/Berlin:20260918T110000
DTEND;TZID=Europe/Berlin:20260918T130000
DTSTAMP:20260420T140956
CREATED:20250930T121940Z
LAST-MODIFIED:20250930T121942Z
UID:10047438-1789729200-1789736400@www.kinderschutz.de
SUMMARY:Gemeinsam kochen und essen
DESCRIPTION:Mit Kinderbetreuung
URL:https://www.kinderschutz.de/veranstaltung/gemeinsam-kochen-und-essen-2-2-2/2026-09-18/
LOCATION:HeideTreff Familienzentrum/ Familienstützpunkt\, Karl-Köglsperger-Straße 19\, München\, 80939
CATEGORIES:Freimann,Wochenprogramm
ATTACH;FMTTYPE=image/jpeg:https://www.kinderschutz.de/wp-content/uploads/2024/10/Kochen.jpg
END:VEVENT
BEGIN:VEVENT
DTSTART;TZID=Europe/Berlin:20260925T110000
DTEND;TZID=Europe/Berlin:20260925T130000
DTSTAMP:20260420T140956
CREATED:20250930T121940Z
LAST-MODIFIED:20250930T121942Z
UID:10047439-1790334000-1790341200@www.kinderschutz.de
SUMMARY:Gemeinsam kochen und essen
DESCRIPTION:Mit Kinderbetreuung
URL:https://www.kinderschutz.de/veranstaltung/gemeinsam-kochen-und-essen-2-2-2/2026-09-25/
LOCATION:HeideTreff Familienzentrum/ Familienstützpunkt\, Karl-Köglsperger-Straße 19\, München\, 80939
CATEGORIES:Freimann,Wochenprogramm
ATTACH;FMTTYPE=image/jpeg:https://www.kinderschutz.de/wp-content/uploads/2024/10/Kochen.jpg
END:VEVENT
BEGIN:VEVENT
DTSTART;TZID=Europe/Berlin:20261002T110000
DTEND;TZID=Europe/Berlin:20261002T130000
DTSTAMP:20260420T140957
CREATED:20250930T121940Z
LAST-MODIFIED:20250930T121942Z
UID:10047440-1790938800-1790946000@www.kinderschutz.de
SUMMARY:Gemeinsam kochen und essen
DESCRIPTION:Mit Kinderbetreuung
URL:https://www.kinderschutz.de/veranstaltung/gemeinsam-kochen-und-essen-2-2-2/2026-10-02/
LOCATION:HeideTreff Familienzentrum/ Familienstützpunkt\, Karl-Köglsperger-Straße 19\, München\, 80939
CATEGORIES:Freimann,Wochenprogramm
ATTACH;FMTTYPE=image/jpeg:https://www.kinderschutz.de/wp-content/uploads/2024/10/Kochen.jpg
END:VEVENT
BEGIN:VEVENT
DTSTART;TZID=Europe/Berlin:20261009T110000
DTEND;TZID=Europe/Berlin:20261009T130000
DTSTAMP:20260420T140957
CREATED:20250930T121940Z
LAST-MODIFIED:20250930T121942Z
UID:10047441-1791543600-1791550800@www.kinderschutz.de
SUMMARY:Gemeinsam kochen und essen
DESCRIPTION:Mit Kinderbetreuung
URL:https://www.kinderschutz.de/veranstaltung/gemeinsam-kochen-und-essen-2-2-2/2026-10-09/
LOCATION:HeideTreff Familienzentrum/ Familienstützpunkt\, Karl-Köglsperger-Straße 19\, München\, 80939
CATEGORIES:Freimann,Wochenprogramm
ATTACH;FMTTYPE=image/jpeg:https://www.kinderschutz.de/wp-content/uploads/2024/10/Kochen.jpg
END:VEVENT
BEGIN:VEVENT
DTSTART;TZID=Europe/Berlin:20261016T110000
DTEND;TZID=Europe/Berlin:20261016T130000
DTSTAMP:20260420T140957
CREATED:20250930T121940Z
LAST-MODIFIED:20250930T121942Z
UID:10047442-1792148400-1792155600@www.kinderschutz.de
SUMMARY:Gemeinsam kochen und essen
DESCRIPTION:Mit Kinderbetreuung
URL:https://www.kinderschutz.de/veranstaltung/gemeinsam-kochen-und-essen-2-2-2/2026-10-16/
LOCATION:HeideTreff Familienzentrum/ Familienstützpunkt\, Karl-Köglsperger-Straße 19\, München\, 80939
CATEGORIES:Freimann,Wochenprogramm
ATTACH;FMTTYPE=image/jpeg:https://www.kinderschutz.de/wp-content/uploads/2024/10/Kochen.jpg
END:VEVENT
BEGIN:VEVENT
DTSTART;TZID=Europe/Berlin:20261023T110000
DTEND;TZID=Europe/Berlin:20261023T130000
DTSTAMP:20260420T140957
CREATED:20250930T121940Z
LAST-MODIFIED:20250930T121942Z
UID:10047443-1792753200-1792760400@www.kinderschutz.de
SUMMARY:Gemeinsam kochen und essen
DESCRIPTION:Mit Kinderbetreuung
URL:https://www.kinderschutz.de/veranstaltung/gemeinsam-kochen-und-essen-2-2-2/2026-10-23/
LOCATION:HeideTreff Familienzentrum/ Familienstützpunkt\, Karl-Köglsperger-Straße 19\, München\, 80939
CATEGORIES:Freimann,Wochenprogramm
ATTACH;FMTTYPE=image/jpeg:https://www.kinderschutz.de/wp-content/uploads/2024/10/Kochen.jpg
END:VEVENT
BEGIN:VEVENT
DTSTART;TZID=Europe/Berlin:20261030T110000
DTEND;TZID=Europe/Berlin:20261030T130000
DTSTAMP:20260420T140957
CREATED:20250930T121940Z
LAST-MODIFIED:20250930T121942Z
UID:10047444-1793358000-1793365200@www.kinderschutz.de
SUMMARY:Gemeinsam kochen und essen
DESCRIPTION:Mit Kinderbetreuung
URL:https://www.kinderschutz.de/veranstaltung/gemeinsam-kochen-und-essen-2-2-2/2026-10-30/
LOCATION:HeideTreff Familienzentrum/ Familienstützpunkt\, Karl-Köglsperger-Straße 19\, München\, 80939
CATEGORIES:Freimann,Wochenprogramm
ATTACH;FMTTYPE=image/jpeg:https://www.kinderschutz.de/wp-content/uploads/2024/10/Kochen.jpg
END:VEVENT
BEGIN:VEVENT
DTSTART;TZID=Europe/Berlin:20261106T110000
DTEND;TZID=Europe/Berlin:20261106T130000
DTSTAMP:20260420T140957
CREATED:20250930T121940Z
LAST-MODIFIED:20250930T121942Z
UID:10047445-1793962800-1793970000@www.kinderschutz.de
SUMMARY:Gemeinsam kochen und essen
DESCRIPTION:Mit Kinderbetreuung
URL:https://www.kinderschutz.de/veranstaltung/gemeinsam-kochen-und-essen-2-2-2/2026-11-06/
LOCATION:HeideTreff Familienzentrum/ Familienstützpunkt\, Karl-Köglsperger-Straße 19\, München\, 80939
CATEGORIES:Freimann,Wochenprogramm
ATTACH;FMTTYPE=image/jpeg:https://www.kinderschutz.de/wp-content/uploads/2024/10/Kochen.jpg
END:VEVENT
BEGIN:VEVENT
DTSTART;TZID=Europe/Berlin:20261113T110000
DTEND;TZID=Europe/Berlin:20261113T130000
DTSTAMP:20260420T140957
CREATED:20250930T121940Z
LAST-MODIFIED:20250930T121942Z
UID:10047446-1794567600-1794574800@www.kinderschutz.de
SUMMARY:Gemeinsam kochen und essen
DESCRIPTION:Mit Kinderbetreuung
URL:https://www.kinderschutz.de/veranstaltung/gemeinsam-kochen-und-essen-2-2-2/2026-11-13/
LOCATION:HeideTreff Familienzentrum/ Familienstützpunkt\, Karl-Köglsperger-Straße 19\, München\, 80939
CATEGORIES:Freimann,Wochenprogramm
ATTACH;FMTTYPE=image/jpeg:https://www.kinderschutz.de/wp-content/uploads/2024/10/Kochen.jpg
END:VEVENT
END:VCALENDAR