BEGIN:VCALENDAR
VERSION:2.0
PRODID:-//KINDERSCHUTZ MÜNCHEN - ECPv6.15.20//NONSGML v1.0//EN
CALSCALE:GREGORIAN
METHOD:PUBLISH
X-WR-CALNAME:KINDERSCHUTZ MÜNCHEN
X-ORIGINAL-URL:https://www.kinderschutz.de
X-WR-CALDESC:Veranstaltungen für KINDERSCHUTZ MÜNCHEN
REFRESH-INTERVAL;VALUE=DURATION:PT1H
X-Robots-Tag:noindex
X-PUBLISHED-TTL:PT1H
BEGIN:VTIMEZONE
TZID:Europe/Berlin
BEGIN:DAYLIGHT
TZOFFSETFROM:+0100
TZOFFSETTO:+0200
TZNAME:CEST
DTSTART:20230326T010000
END:DAYLIGHT
BEGIN:STANDARD
TZOFFSETFROM:+0200
TZOFFSETTO:+0100
TZNAME:CET
DTSTART:20231029T010000
END:STANDARD
BEGIN:DAYLIGHT
TZOFFSETFROM:+0100
TZOFFSETTO:+0200
TZNAME:CEST
DTSTART:20240331T010000
END:DAYLIGHT
BEGIN:STANDARD
TZOFFSETFROM:+0200
TZOFFSETTO:+0100
TZNAME:CET
DTSTART:20241027T010000
END:STANDARD
BEGIN:DAYLIGHT
TZOFFSETFROM:+0100
TZOFFSETTO:+0200
TZNAME:CEST
DTSTART:20250330T010000
END:DAYLIGHT
BEGIN:STANDARD
TZOFFSETFROM:+0200
TZOFFSETTO:+0100
TZNAME:CET
DTSTART:20251026T010000
END:STANDARD
BEGIN:DAYLIGHT
TZOFFSETFROM:+0100
TZOFFSETTO:+0200
TZNAME:CEST
DTSTART:20260329T010000
END:DAYLIGHT
BEGIN:STANDARD
TZOFFSETFROM:+0200
TZOFFSETTO:+0100
TZNAME:CET
DTSTART:20261025T010000
END:STANDARD
BEGIN:DAYLIGHT
TZOFFSETFROM:+0100
TZOFFSETTO:+0200
TZNAME:CEST
DTSTART:20270328T010000
END:DAYLIGHT
BEGIN:STANDARD
TZOFFSETFROM:+0200
TZOFFSETTO:+0100
TZNAME:CET
DTSTART:20271031T010000
END:STANDARD
BEGIN:DAYLIGHT
TZOFFSETFROM:+0100
TZOFFSETTO:+0200
TZNAME:CEST
DTSTART:20280326T010000
END:DAYLIGHT
BEGIN:STANDARD
TZOFFSETFROM:+0200
TZOFFSETTO:+0100
TZNAME:CET
DTSTART:20281029T010000
END:STANDARD
END:VTIMEZONE
BEGIN:VEVENT
DTSTART;VALUE=DATE:20240909
DTEND;VALUE=DATE:20270102
DTSTAMP:20260420T123950
CREATED:20240801T074730Z
LAST-MODIFIED:20260123T134037Z
UID:10025422-1725868800-1798790399@www.kinderschutz.de
SUMMARY:Unser Wochenprogramm zum Download
DESCRIPTION:Flyer
URL:https://www.kinderschutz.de/veranstaltung/unser-wochenprogramm-zum-download/
LOCATION:HeideTreff Familienzentrum/ Familienstützpunkt\, Karl-Köglsperger-Straße 19\, München\, 80939
CATEGORIES:Freimann,Wochenprogramm
ATTACH;FMTTYPE=image/png:https://www.kinderschutz.de/wp-content/uploads/2026/01/Flyer-Familienzentrum-.png
END:VEVENT
BEGIN:VEVENT
DTSTART;VALUE=DATE:20260101
DTEND;VALUE=DATE:20260902
DTSTAMP:20260420T123950
CREATED:20260125T074705Z
LAST-MODIFIED:20260125T075746Z
UID:10059238-1767254400-1788249599@www.kinderschutz.de
SUMMARY:Wochenprogramm GaleriaTreff zum Download 2026-01
DESCRIPTION:Wochenprogramm GaleriaTreff zum Download:  2026_GT_Wochenprogramm20260124
URL:https://www.kinderschutz.de/veranstaltung/wochenprogramm-galeriatreff-2026-01/
LOCATION:GaleriaTreff Nachbarschaftstreff\, Lehrer-Wirth-Straße 21\, München\, Bayern\, 81829\, Germany
CATEGORIES:Messestadt Riem,Wochenprogramm
ATTACH;FMTTYPE=image/jpeg:https://www.kinderschutz.de/wp-content/uploads/2026/01/2026_GT_Wochenprogramm20260124.jpg
END:VEVENT
BEGIN:VEVENT
DTSTART;VALUE=DATE:20260104
DTEND;VALUE=DATE:20260802
DTSTAMP:20260420T123950
CREATED:20260125T082114Z
LAST-MODIFIED:20260125T082125Z
UID:10060293-1767513600-1785571199@www.kinderschutz.de
SUMMARY:Wochenprogramm Heinrich trifft Böll zum Download 2026-1
DESCRIPTION:Wochenprogramm Heinrich trifft Böll  zum Download: HtB_Wochenprogramm20260125
URL:https://www.kinderschutz.de/veranstaltung/wochenprogram-heinrich-trifft-boell-zum-download-2026-1/
LOCATION:Nachbarschaftstreff Heinrich trifft Böll
CATEGORIES:Messestadt Riem,Wochenprogramm
ATTACH;FMTTYPE=image/jpeg:https://www.kinderschutz.de/wp-content/uploads/2026/01/HtB_Wochenprogramm20260125.jpg
END:VEVENT
BEGIN:VEVENT
DTSTART;TZID=Europe/Berlin:20260420T083000
DTEND;TZID=Europe/Berlin:20260420T093000
DTSTAMP:20260420T123951
CREATED:20260125T083926Z
LAST-MODIFIED:20260125T083926Z
UID:10060902-1776673800-1776677400@www.kinderschutz.de
SUMMARY:Yoga für alle
DESCRIPTION:Kontakt: info@yoga-hannaboye.de
URL:https://www.kinderschutz.de/veranstaltung/yoga-fuer-alle/2026-04-20/
LOCATION:Nachbarschaftstreff Heinrich trifft Böll
CATEGORIES:Messestadt Riem,Wochenprogramm
END:VEVENT
BEGIN:VEVENT
DTSTART;TZID=Europe/Berlin:20260420T090000
DTEND;TZID=Europe/Berlin:20260420T110000
DTSTAMP:20260420T123951
CREATED:20260413T120344Z
LAST-MODIFIED:20260413T120416Z
UID:10052796-1776675600-1776682800@www.kinderschutz.de
SUMMARY:Offenes Treffen zum Deutsch sprechen (Anfänger*innen)
DESCRIPTION:mit Anmeldung bei der Treffleitung
URL:https://www.kinderschutz.de/veranstaltung/offenes-treffen-zum-deutsch-sprechen-anfaengerinnen-2-2/2026-04-20/
LOCATION:HeideTreff Nachbarschaftstreff\, Karl-Köglsperger-Straße 13\, München\, Bayern\, 80939\, Germany
CATEGORIES:Freimann,Wochenprogramm
ATTACH;FMTTYPE=image/jpeg:https://www.kinderschutz.de/wp-content/uploads/2025/01/Deutsch.jpg
END:VEVENT
BEGIN:VEVENT
DTSTART;TZID=Europe/Berlin:20260420T090000
DTEND;TZID=Europe/Berlin:20260420T113000
DTSTAMP:20260420T123951
CREATED:20250930T124643Z
LAST-MODIFIED:20250930T124720Z
UID:10048252-1776675600-1776684600@www.kinderschutz.de
SUMMARY:Spielgruppe (mit Anmeldung)
DESCRIPTION:nur mit Anmeldung
URL:https://www.kinderschutz.de/veranstaltung/spielgruppe-2-2/2026-04-20/
LOCATION:HeideTreff Familienzentrum/ Familienstützpunkt\, Karl-Köglsperger-Straße 19\, München\, 80939
CATEGORIES:Freimann,Wochenprogramm
ATTACH;FMTTYPE=image/jpeg:https://www.kinderschutz.de/wp-content/uploads/2024/07/Spielgruppe.jpg
END:VEVENT
BEGIN:VEVENT
DTSTART;TZID=Europe/Berlin:20260420T093000
DTEND;TZID=Europe/Berlin:20260420T110000
DTSTAMP:20260420T123951
CREATED:20250527T123654Z
LAST-MODIFIED:20250801T092148Z
UID:10041524-1776677400-1776682800@www.kinderschutz.de
SUMMARY:Elterntalk
DESCRIPTION:bringt Eltern ins Gespräch
URL:https://www.kinderschutz.de/veranstaltung/elterntalk/2026-04-20/
LOCATION:HeideTreff Familienzentrum/ Familienstützpunkt\, Karl-Köglsperger-Straße 19\, München\, 80939
CATEGORIES:Freimann,Wochenprogramm
ATTACH;FMTTYPE=image/jpeg:https://www.kinderschutz.de/wp-content/uploads/2025/01/Fruehe-Foerderung.jpg
END:VEVENT
BEGIN:VEVENT
DTSTART;TZID=Europe/Berlin:20260420T093000
DTEND;TZID=Europe/Berlin:20260420T113000
DTSTAMP:20260420T123951
CREATED:20251027T132649Z
LAST-MODIFIED:20251027T132650Z
UID:10052537-1776677400-1776684600@www.kinderschutz.de
SUMMARY:Offenes Treffen zum Deutsch sprechen (Anfänger*innen)
DESCRIPTION:mit Anmeldung bei der Treffleitung
URL:https://www.kinderschutz.de/veranstaltung/offenes-treffen-zum-deutsch-sprechen-2-2/2026-04-20/
LOCATION:HeideTreff Nachbarschaftstreff\, Karl-Köglsperger-Straße 13\, München\, Bayern\, 80939\, Germany
CATEGORIES:Freimann,Wochenprogramm
ATTACH;FMTTYPE=image/jpeg:https://www.kinderschutz.de/wp-content/uploads/2025/01/Deutsch.jpg
END:VEVENT
BEGIN:VEVENT
DTSTART;TZID=Europe/Berlin:20260420T093000
DTEND;TZID=Europe/Berlin:20260420T120000
DTSTAMP:20260420T123951
CREATED:20240714T133439Z
LAST-MODIFIED:20240714T133439Z
UID:10010612-1776677400-1776686400@www.kinderschutz.de
SUMMARY:Migrationsberatung für erwachsene Zuwanderer (MBE)
DESCRIPTION:
URL:https://www.kinderschutz.de/veranstaltung/migrationsberatung-fuer-erwachsene-zuwanderer-mbe/2026-04-20/
LOCATION:GaleriaTreff Nachbarschaftstreff\, Lehrer-Wirth-Straße 21\, München\, Bayern\, 81829\, Germany
CATEGORIES:Messestadt Riem,Wochenprogramm
END:VEVENT
BEGIN:VEVENT
DTSTART;TZID=Europe/Berlin:20260420T100000
DTEND;TZID=Europe/Berlin:20260420T120000
DTSTAMP:20260420T123951
CREATED:20251220T191300Z
LAST-MODIFIED:20251220T191455Z
UID:10055272-1776679200-1776686400@www.kinderschutz.de
SUMMARY:Bürosprechstunde private Raumnutzung Nachbarschaftstreff Freiham2
DESCRIPTION:Sie wohnen in Freiham und suchen einen Raum für Familienfeiern oder Kindergeburtstage? Dann sprechen Sie uns gerne an und vereinbaren Sie einen Termin für Raumbesichtigung mit uns. Persönliche Vorsprache:Montag: 10:00–12:00 Uhr und  Freitag: 15:00–16:00 Uhr Kontakt: nbt-fh2-raumnutzung@kinderschutz.de Die private Raumnutzung ist gebührenpflichtig und ausschließlich für Bewohner*innen aus Freiham möglich.
URL:https://www.kinderschutz.de/veranstaltung/sprechstunde-private-raumnutzung-nachbarschaftstreff-freiham2/2026-04-20/
LOCATION:Nachbarschaftstreff Freiham II\, Aubinger Allee 16\, München\, Bayern\, 81248\, Germany
CATEGORIES:Freiham,Wochenprogramm
END:VEVENT
BEGIN:VEVENT
DTSTART;TZID=Europe/Berlin:20260420T100000
DTEND;TZID=Europe/Berlin:20260420T130000
DTSTAMP:20260420T123951
CREATED:20251220T145905Z
LAST-MODIFIED:20251220T145949Z
UID:10054459-1776679200-1776690000@www.kinderschutz.de
SUMMARY:Es ist OFFEN! Meet People & Co-Working Space Freiham
DESCRIPTION:Unser Meet People & Co-Working Space lädt alle Nachbarinnen ein: arbeiten\, lesen\, Brett- und Kartenspiele spielen oder einfach ins Gespräch kommen und sich vernetzen. Tee und Kaffee sind vorhanden – für entspannte Stunden in der Gemeinschaft. Uhrzeit: 10:00–13:00 Uhr\nOrt: Nachbarschaftstreff Freiham2 I Aubinger Allee 16\,  81248 München Info: nachbarschaftstreff-freiham2@kinderschutz.de Wir suchen noch engagierte Begleiter*innen\, die das Format unterstützen und mitgestalten möchten.
URL:https://www.kinderschutz.de/veranstaltung/es-ist-offen-meet-people-co-working-space-freiham/2026-04-20/
LOCATION:Nachbarschaftstreff Freiham II\, Aubinger Allee 16\, München\, Bayern\, 81248\, Germany
CATEGORIES:Freiham,Wochenprogramm
END:VEVENT
BEGIN:VEVENT
DTSTART;TZID=Europe/Berlin:20260420T111500
DTEND;TZID=Europe/Berlin:20260420T123000
DTSTAMP:20260420T123951
CREATED:20260413T120534Z
LAST-MODIFIED:20260413T120909Z
UID:10053351-1776683700-1776688200@www.kinderschutz.de
SUMMARY:Sprechstunde
DESCRIPTION:mit Anmeldung bei der Treffleitung
URL:https://www.kinderschutz.de/veranstaltung/offenes-treffen-zum-deutsch-sprechen-fortgeschrittene-3-2-2/2026-04-20/
LOCATION:HeideTreff Nachbarschaftstreff\, Karl-Köglsperger-Straße 13\, München\, Bayern\, 80939\, Germany
CATEGORIES:Freimann,Wochenprogramm
ATTACH;FMTTYPE=image/jpeg:https://www.kinderschutz.de/wp-content/uploads/2025/01/Deutsch.jpg
END:VEVENT
BEGIN:VEVENT
DTSTART;TZID=Europe/Berlin:20260420T113000
DTEND;TZID=Europe/Berlin:20260420T133000
DTSTAMP:20260420T123951
CREATED:20260208T161934Z
LAST-MODIFIED:20260208T161945Z
UID:10056053-1776684600-1776691800@www.kinderschutz.de
SUMMARY:Offene Bürosprechstunde der Treffleitung des Nachbarschaftstreffs Freiham2
DESCRIPTION:Erstberatung zu allen sozialen Belangen sowie Weiterleitung an geeignete Fachstellen. Zudem Informationen und Beratung zu freiwilligem Engagement im Nachbarschaftstreff Freiham. Weitere Termine auf Anfrage: Kontakt: p.pooth@kinderschutz.de oder p.marek@kinderschutz.de
URL:https://www.kinderschutz.de/veranstaltung/offene-buerosprechstunde-der-treffleitung-des-nachbarschaftstreffs-freiham-3/2026-04-20/
LOCATION:Nachbarschaftstreff Freiham II\, Aubinger Allee 16\, München\, Bayern\, 81248\, Germany
CATEGORIES:Freiham,Wochenprogramm
ATTACH;FMTTYPE=image/png:https://www.kinderschutz.de/wp-content/uploads/2025/12/Sprechstunde-der-Treffleitung.png
END:VEVENT
BEGIN:VEVENT
DTSTART;TZID=Europe/Berlin:20260420T133000
DTEND;TZID=Europe/Berlin:20260420T150000
DTSTAMP:20260420T123951
CREATED:20240718T085306Z
LAST-MODIFIED:20250131T161135Z
UID:10020504-1776691800-1776697200@www.kinderschutz.de
SUMMARY:Pontis Freimann Sprechstunde und Jobcenter offene Sprechstunde
DESCRIPTION:Pontis Formularservice mit Voranmeldung\nTel.: 089 452 235 184 Weitere Infos zu Pontis
URL:https://www.kinderschutz.de/veranstaltung/pontis-freimann-sprechstunde-und-offene-sprechstunde-jobcenter/2026-04-20/
LOCATION:HeideTreff Nachbarschaftstreff\, Karl-Köglsperger-Straße 13\, München\, Bayern\, 80939\, Germany
CATEGORIES:Freimann,Wochenprogramm
ATTACH;FMTTYPE=image/jpeg:https://www.kinderschutz.de/wp-content/uploads/2025/01/Pontis2.jpg
END:VEVENT
BEGIN:VEVENT
DTSTART;TZID=Europe/Berlin:20260420T140000
DTEND;TZID=Europe/Berlin:20260420T150000
DTSTAMP:20260420T123951
CREATED:20250930T115606Z
LAST-MODIFIED:20250930T131029Z
UID:10045793-1776693600-1776697200@www.kinderschutz.de
SUMMARY:Deutschkurs mit Kinderbetreuung
DESCRIPTION:nur mit Anmeldung
URL:https://www.kinderschutz.de/veranstaltung/deutschkurs-mit-kinderbetreuung-3/2026-04-20/
LOCATION:HeideTreff Familienzentrum/ Familienstützpunkt\, Karl-Köglsperger-Straße 19\, München\, 80939
CATEGORIES:Freimann,Wochenprogramm
ATTACH;FMTTYPE=image/jpeg:https://www.kinderschutz.de/wp-content/uploads/2024/07/Deutschkurs.jpg
END:VEVENT
BEGIN:VEVENT
DTSTART;TZID=Europe/Berlin:20260420T140000
DTEND;TZID=Europe/Berlin:20260420T160000
DTSTAMP:20260420T123951
CREATED:20250930T121601Z
LAST-MODIFIED:20250930T121601Z
UID:10046890-1776693600-1776700800@www.kinderschutz.de
SUMMARY:Ausgabe von Kinderkleidung
DESCRIPTION:
URL:https://www.kinderschutz.de/veranstaltung/ausgabe-von-kinderkleidung-2/2026-04-20/
LOCATION:HeideTreff Familienzentrum/ Familienstützpunkt\, Karl-Köglsperger-Straße 19\, München\, 80939
CATEGORIES:Freimann,Wochenprogramm
ATTACH;FMTTYPE=image/jpeg:https://www.kinderschutz.de/wp-content/uploads/2024/07/Kleiderkammer.jpg
END:VEVENT
BEGIN:VEVENT
DTSTART;TZID=Europe/Berlin:20260420T153000
DTEND;TZID=Europe/Berlin:20260420T190000
DTSTAMP:20260420T123951
CREATED:20240715T202641Z
LAST-MODIFIED:20240715T202641Z
UID:10015342-1776699000-1776711600@www.kinderschutz.de
SUMMARY:Nachhilfe und Hausaufgabebetreuung
DESCRIPTION:
URL:https://www.kinderschutz.de/veranstaltung/nachhilfe-und-hausaufgabebetreuung/2026-04-20/
LOCATION:Nachbarschaftstreff Heinrich trifft Böll
CATEGORIES:Messestadt Riem,Wochenprogramm
END:VEVENT
BEGIN:VEVENT
DTSTART;TZID=Europe/Berlin:20260420T160000
DTEND;TZID=Europe/Berlin:20260420T173000
DTSTAMP:20260420T123951
CREATED:20240715T203123Z
LAST-MODIFIED:20240715T203531Z
UID:10016137-1776700800-1776706200@www.kinderschutz.de
SUMMARY:Bürosprechstunde Private Raumnutzung
DESCRIPTION:
URL:https://www.kinderschutz.de/veranstaltung/biurosprechstunde-private-raumnutzung/2026-04-20/
LOCATION:Nachbarschaftstreff Heinrich trifft Böll
CATEGORIES:Messestadt Riem,Wochenprogramm
END:VEVENT
BEGIN:VEVENT
DTSTART;TZID=Europe/Berlin:20260420T183000
DTEND;TZID=Europe/Berlin:20260420T203000
DTSTAMP:20260420T123951
CREATED:20260125T084222Z
LAST-MODIFIED:20260125T084222Z
UID:10060932-1776709800-1776717000@www.kinderschutz.de
SUMMARY:Meditation & Achtsamkeit
DESCRIPTION:
URL:https://www.kinderschutz.de/veranstaltung/meditation-achtsamkeit/2026-04-20/
LOCATION:Nachbarschaftstreff Heinrich trifft Böll
CATEGORIES:Messestadt Riem,Wochenprogramm
END:VEVENT
BEGIN:VEVENT
DTSTART;TZID=Europe/Berlin:20260420T193000
DTEND;TZID=Europe/Berlin:20260420T210000
DTSTAMP:20260420T123951
CREATED:20250323T080035Z
LAST-MODIFIED:20250323T080035Z
UID:10036306-1776713400-1776718800@www.kinderschutz.de
SUMMARY:ADHS Realtalk für Frauen
DESCRIPTION:Zum Flyer:ADHS Real Talk Nachbarschaftstreff20250305  
URL:https://www.kinderschutz.de/veranstaltung/adhs-realtalk-fuer-frauen/2026-04-20/
LOCATION:Nachbarschaftstreff Freiham I\, Ute-Strittmatter-Straße 30\, München\, Bayern\, 81248\, Germany
CATEGORIES:Freiham,Wochenprogramm
END:VEVENT
END:VCALENDAR