BEGIN:VCALENDAR
VERSION:2.0
PRODID:-//KINDERSCHUTZ MÜNCHEN - ECPv6.15.20//NONSGML v1.0//EN
CALSCALE:GREGORIAN
METHOD:PUBLISH
X-WR-CALNAME:KINDERSCHUTZ MÜNCHEN
X-ORIGINAL-URL:https://www.kinderschutz.de
X-WR-CALDESC:Veranstaltungen für KINDERSCHUTZ MÜNCHEN
REFRESH-INTERVAL;VALUE=DURATION:PT1H
X-Robots-Tag:noindex
X-PUBLISHED-TTL:PT1H
BEGIN:VTIMEZONE
TZID:Europe/Berlin
BEGIN:DAYLIGHT
TZOFFSETFROM:+0100
TZOFFSETTO:+0200
TZNAME:CEST
DTSTART:20230326T010000
END:DAYLIGHT
BEGIN:STANDARD
TZOFFSETFROM:+0200
TZOFFSETTO:+0100
TZNAME:CET
DTSTART:20231029T010000
END:STANDARD
BEGIN:DAYLIGHT
TZOFFSETFROM:+0100
TZOFFSETTO:+0200
TZNAME:CEST
DTSTART:20240331T010000
END:DAYLIGHT
BEGIN:STANDARD
TZOFFSETFROM:+0200
TZOFFSETTO:+0100
TZNAME:CET
DTSTART:20241027T010000
END:STANDARD
BEGIN:DAYLIGHT
TZOFFSETFROM:+0100
TZOFFSETTO:+0200
TZNAME:CEST
DTSTART:20250330T010000
END:DAYLIGHT
BEGIN:STANDARD
TZOFFSETFROM:+0200
TZOFFSETTO:+0100
TZNAME:CET
DTSTART:20251026T010000
END:STANDARD
BEGIN:DAYLIGHT
TZOFFSETFROM:+0100
TZOFFSETTO:+0200
TZNAME:CEST
DTSTART:20260329T010000
END:DAYLIGHT
BEGIN:STANDARD
TZOFFSETFROM:+0200
TZOFFSETTO:+0100
TZNAME:CET
DTSTART:20261025T010000
END:STANDARD
BEGIN:DAYLIGHT
TZOFFSETFROM:+0100
TZOFFSETTO:+0200
TZNAME:CEST
DTSTART:20270328T010000
END:DAYLIGHT
BEGIN:STANDARD
TZOFFSETFROM:+0200
TZOFFSETTO:+0100
TZNAME:CET
DTSTART:20271031T010000
END:STANDARD
BEGIN:DAYLIGHT
TZOFFSETFROM:+0100
TZOFFSETTO:+0200
TZNAME:CEST
DTSTART:20280326T010000
END:DAYLIGHT
BEGIN:STANDARD
TZOFFSETFROM:+0200
TZOFFSETTO:+0100
TZNAME:CET
DTSTART:20281029T010000
END:STANDARD
END:VTIMEZONE
BEGIN:VEVENT
DTSTART;VALUE=DATE:20240909
DTEND;VALUE=DATE:20270102
DTSTAMP:20260421T103737
CREATED:20240801T074730Z
LAST-MODIFIED:20260123T134037Z
UID:10025422-1725868800-1798790399@www.kinderschutz.de
SUMMARY:Unser Wochenprogramm zum Download
DESCRIPTION:Flyer
URL:https://www.kinderschutz.de/veranstaltung/unser-wochenprogramm-zum-download/
LOCATION:HeideTreff Familienzentrum/ Familienstützpunkt\, Karl-Köglsperger-Straße 19\, München\, 80939
CATEGORIES:Freimann,Wochenprogramm
ATTACH;FMTTYPE=image/png:https://www.kinderschutz.de/wp-content/uploads/2026/01/Flyer-Familienzentrum-.png
END:VEVENT
BEGIN:VEVENT
DTSTART;VALUE=DATE:20241025
DTEND;VALUE=DATE:20260102
DTSTAMP:20260421T103737
CREATED:20241025T080645Z
LAST-MODIFIED:20250704T094841Z
UID:10027763-1729843200-1767254399@www.kinderschutz.de
SUMMARY:Unser Wochenprogramm zum Download
DESCRIPTION:Unser Wochenprogramm
URL:https://www.kinderschutz.de/veranstaltung/unser-wochenprogramm-zum-download-2/
LOCATION:HeideTreff Nachbarschaftstreff\, Karl-Köglsperger-Straße 13\, München\, Bayern\, 80939\, Germany
CATEGORIES:Freimann,Wochenprogramm
ATTACH;FMTTYPE=image/jpeg:https://www.kinderschutz.de/wp-content/uploads/2025/07/Flyer-Nachbarschaftstreff.jpg
END:VEVENT
BEGIN:VEVENT
DTSTART;TZID=Europe/Berlin:20250929T100000
DTEND;TZID=Europe/Berlin:20251006T120000
DTSTAMP:20260421T103737
CREATED:20250925T075030Z
LAST-MODIFIED:20251027T132956Z
UID:10027827-1759140000-1759752000@www.kinderschutz.de
SUMMARY:Offenes Treffen zum Deutsch sprechen (Anfänger*innen)
DESCRIPTION:mit Anmeldung bei der Treffleitung
URL:https://www.kinderschutz.de/veranstaltung/offenes-treffen-zum-deutsch-sprechen-2/2025-09-29/
LOCATION:HeideTreff Nachbarschaftstreff\, Karl-Köglsperger-Straße 13\, München\, Bayern\, 80939\, Germany
CATEGORIES:Freimann,Wochenprogramm
ATTACH;FMTTYPE=image/jpeg:https://www.kinderschutz.de/wp-content/uploads/2025/01/Deutsch.jpg
END:VEVENT
BEGIN:VEVENT
DTSTART;TZID=Europe/Berlin:20251002T100000
DTEND;TZID=Europe/Berlin:20251002T113000
DTSTAMP:20260421T103737
CREATED:20240916T143818Z
LAST-MODIFIED:20250801T091940Z
UID:10025485-1759399200-1759404600@www.kinderschutz.de
SUMMARY:Baby Club
DESCRIPTION:
URL:https://www.kinderschutz.de/veranstaltung/baby-club/2025-10-02/
LOCATION:HeideTreff Familienzentrum/ Familienstützpunkt\, Karl-Köglsperger-Straße 19\, München\, 80939
CATEGORIES:Freimann,Wochenprogramm
ATTACH;FMTTYPE=image/jpeg:https://www.kinderschutz.de/wp-content/uploads/2024/09/Babyclub.jpg
END:VEVENT
BEGIN:VEVENT
DTSTART;TZID=Europe/Berlin:20251002T100000
DTEND;TZID=Europe/Berlin:20251002T120000
DTSTAMP:20260421T103737
CREATED:20240718T090329Z
LAST-MODIFIED:20240718T090329Z
UID:10021064-1759399200-1759406400@www.kinderschutz.de
SUMMARY:Anfragen zur Raumvermietung
DESCRIPTION:Kommt vorbei\, wenn den Nachbarschaftstreff für euren Kindergeburtstag oder kleine Feier mieten wollt.
URL:https://www.kinderschutz.de/veranstaltung/anfragen-zur-raumvermietung/2025-10-02/
LOCATION:HeideTreff Nachbarschaftstreff\, Karl-Köglsperger-Straße 13\, München\, Bayern\, 80939\, Germany
END:VEVENT
BEGIN:VEVENT
DTSTART;TZID=Europe/Berlin:20251002T100000
DTEND;TZID=Europe/Berlin:20251002T120000
DTSTAMP:20260421T103737
CREATED:20250322T203156Z
LAST-MODIFIED:20250322T203334Z
UID:10035115-1759399200-1759406400@www.kinderschutz.de
SUMMARY:Deutsch lernen  für den Alltag
DESCRIPTION:
URL:https://www.kinderschutz.de/veranstaltung/deutsch-lernen-fuer-den-alltag-2/2025-10-02/
LOCATION:Bayern
CATEGORIES:Freiham,Wochenprogramm
END:VEVENT
BEGIN:VEVENT
DTSTART;TZID=Europe/Berlin:20251002T100000
DTEND;TZID=Europe/Berlin:20251002T120000
DTSTAMP:20260421T103737
CREATED:20250322T203622Z
LAST-MODIFIED:20250322T203622Z
UID:10035414-1759399200-1759406400@www.kinderschutz.de
SUMMARY:Deutsch lernen  für den Alltag
DESCRIPTION:
URL:https://www.kinderschutz.de/veranstaltung/deutsch-lernen-fuer-den-alltag-3/2025-10-02/
LOCATION:Nachbarschaftstreff Freiham I\, Ute-Strittmatter-Straße 30\, München\, Bayern\, 81248\, Germany
CATEGORIES:Freiham,Wochenprogramm
END:VEVENT
BEGIN:VEVENT
DTSTART;TZID=Europe/Berlin:20251002T100000
DTEND;TZID=Europe/Berlin:20251002T140000
DTSTAMP:20260421T103737
CREATED:20250322T204947Z
LAST-MODIFIED:20250322T205310Z
UID:10035795-1759399200-1759413600@www.kinderschutz.de
SUMMARY:IHUQ- Koch Vibes für geflüchtete Menschen aus den Unterkünften in Freiham
DESCRIPTION:IHUQ- Kochtreff für geflüchtete Menschen aus den Unterkünften in Freiham Info: Anlaufstelle Integration der Haushalte der Unterkünfte im Quartier Freiham ihuq-freiham@kinderschutz.de Zum Flyer: IHUQ Angebote 2025
URL:https://www.kinderschutz.de/veranstaltung/ihuq-koch-vibes-fuer-gefluechtete-menschen-aus-den-unterkuenften-in-freiham/2025-10-02/
LOCATION:Nachbarschaftstreff Freiham I\, Ute-Strittmatter-Straße 30\, München\, Bayern\, 81248\, Germany
CATEGORIES:Freiham,Wochenprogramm
END:VEVENT
BEGIN:VEVENT
DTSTART;TZID=Europe/Berlin:20251002T120000
DTEND;TZID=Europe/Berlin:20251002T140000
DTSTAMP:20260421T103738
CREATED:20241029T095729Z
LAST-MODIFIED:20251118T150216Z
UID:10029810-1759406400-1759413600@www.kinderschutz.de
SUMMARY:Sprechzeit zur Raumvermietung
DESCRIPTION:Komm vorbei\, schreib eine Mail oder ruf an\, wenn du einen Raum für deine private Feier (z.B. Kindergeburtstag\, max. 25 Personen\, inkl. Kinder) suchst.
URL:https://www.kinderschutz.de/veranstaltung/sprechzeiten-zur-raumvermietung/2025-10-02/
LOCATION:HeideTreff Nachbarschaftstreff\, Karl-Köglsperger-Straße 13\, München\, Bayern\, 80939\, Germany
CATEGORIES:Freimann,Wochenprogramm
ATTACH;FMTTYPE=image/jpeg:https://www.kinderschutz.de/wp-content/uploads/2025/01/Sprechstunde-Vermietung.jpg
END:VEVENT
BEGIN:VEVENT
DTSTART;TZID=Europe/Berlin:20251002T120000
DTEND;TZID=Europe/Berlin:20251002T150000
DTSTAMP:20260421T103738
CREATED:20250322T210128Z
LAST-MODIFIED:20250322T210128Z
UID:10035890-1759406400-1759417200@www.kinderschutz.de
SUMMARY:IHUQ- Beratung für geflüchtete Menschen aus den Unterkünften in Freiham
DESCRIPTION:IHUQ- Beratung für geflüchtete Menschen aus den Unterkünften in Freiham Info: Anlaufstelle Integration der Haushalte der Unterkünfte im Quartier Freiham ihuq-freiham@kinderschutz.de Zum Flyer: IHUQ Angebote 2025
URL:https://www.kinderschutz.de/veranstaltung/ihuq-beratung-fuer-gefluechtete-menschen-aus-den-unterkuenften-in-freiham-2/2025-10-02/
LOCATION:Nachbarschaftstreff Freiham I\, Ute-Strittmatter-Straße 30\, München\, Bayern\, 81248\, Germany
CATEGORIES:Freiham,Wochenprogramm
END:VEVENT
BEGIN:VEVENT
DTSTART;TZID=Europe/Berlin:20251002T140000
DTEND;TZID=Europe/Berlin:20251002T160000
DTSTAMP:20260421T103738
CREATED:20240712T111448Z
LAST-MODIFIED:20250801T091820Z
UID:10004520-1759413600-1759420800@www.kinderschutz.de
SUMMARY:Offenes Freispiel
DESCRIPTION:
URL:https://www.kinderschutz.de/veranstaltung/offenes-freispiel-2/2025-10-02/
LOCATION:HeideTreff Familienzentrum/ Familienstützpunkt\, Karl-Köglsperger-Straße 19\, München\, 80939
CATEGORIES:Freimann,Wochenprogramm
ATTACH;FMTTYPE=image/jpeg:https://www.kinderschutz.de/wp-content/uploads/2024/07/offenes-Freispiel.jpg
END:VEVENT
BEGIN:VEVENT
DTSTART;TZID=Europe/Berlin:20251002T140000
DTEND;TZID=Europe/Berlin:20251002T160000
DTSTAMP:20260421T103738
CREATED:20250704T120237Z
LAST-MODIFIED:20250704T120238Z
UID:10042588-1759413600-1759420800@www.kinderschutz.de
SUMMARY:Mittagessen to go
DESCRIPTION:Mit Voranmeldung
URL:https://www.kinderschutz.de/veranstaltung/mittagessen-to-go-2/2025-10-02/
LOCATION:HeideTreff Nachbarschaftstreff\, Karl-Köglsperger-Straße 13\, München\, Bayern\, 80939\, Germany
CATEGORIES:Freimann,Wochenprogramm
ATTACH;FMTTYPE=image/jpeg:https://www.kinderschutz.de/wp-content/uploads/2025/01/Mittagessen.jpg
END:VEVENT
BEGIN:VEVENT
DTSTART;TZID=Europe/Berlin:20251002T140000
DTEND;TZID=Europe/Berlin:20251002T163000
DTSTAMP:20260421T103738
CREATED:20240714T145008Z
LAST-MODIFIED:20240714T145008Z
UID:10012788-1759413600-1759422600@www.kinderschutz.de
SUMMARY:Frauentreff
DESCRIPTION:
URL:https://www.kinderschutz.de/veranstaltung/frauentreff/2025-10-02/
LOCATION:GaleriaTreff Nachbarschaftstreff\, Lehrer-Wirth-Straße 21\, München\, Bayern\, 81829\, Germany
CATEGORIES:Messestadt Riem,Wochenprogramm
END:VEVENT
BEGIN:VEVENT
DTSTART;TZID=Europe/Berlin:20251002T150000
DTEND;TZID=Europe/Berlin:20251002T160000
DTSTAMP:20260421T103738
CREATED:20240712T112513Z
LAST-MODIFIED:20250801T094628Z
UID:10004787-1759417200-1759420800@www.kinderschutz.de
SUMMARY:Eltern-Kind-Turnen
DESCRIPTION:
URL:https://www.kinderschutz.de/veranstaltung/eltern-kind-turnen/2025-10-02/
LOCATION:HeideTreff Familienzentrum/ Familienstützpunkt\, Karl-Köglsperger-Straße 19\, München\, 80939
CATEGORIES:Freimann,Wochenprogramm
ATTACH;FMTTYPE=image/jpeg:https://www.kinderschutz.de/wp-content/uploads/2024/08/Kinderturnen.jpg
END:VEVENT
BEGIN:VEVENT
DTSTART;TZID=Europe/Berlin:20251002T150000
DTEND;TZID=Europe/Berlin:20251002T180000
DTSTAMP:20260421T103738
CREATED:20240718T091512Z
LAST-MODIFIED:20250507T161116Z
UID:10033052-1759417200-1759428000@www.kinderschutz.de
SUMMARY:Heide Lernwerkstatt
DESCRIPTION:feste Lerngruppe je Schuljahr (je 1 Stunde\, findet nicht statt in den Schulferien)
URL:https://www.kinderschutz.de/veranstaltung/heide-lernwerkstatt/2025-10-02/
LOCATION:HeideTreff Nachbarschaftstreff\, Karl-Köglsperger-Straße 13\, München\, Bayern\, 80939\, Germany
ATTACH;FMTTYPE=image/jpeg:https://www.kinderschutz.de/wp-content/uploads/2025/01/Lernwerkstatt.jpg
END:VEVENT
BEGIN:VEVENT
DTSTART;TZID=Europe/Berlin:20251002T153000
DTEND;TZID=Europe/Berlin:20251002T190000
DTSTAMP:20260421T103738
CREATED:20240715T202641Z
LAST-MODIFIED:20240715T202641Z
UID:10015229-1759419000-1759431600@www.kinderschutz.de
SUMMARY:Nachhilfe und Hausaufgabebetreuung
DESCRIPTION:
URL:https://www.kinderschutz.de/veranstaltung/nachhilfe-und-hausaufgabebetreuung/2025-10-02/
LOCATION:Nachbarschaftstreff Heinrich trifft Böll
CATEGORIES:Messestadt Riem,Wochenprogramm
END:VEVENT
BEGIN:VEVENT
DTSTART;TZID=Europe/Berlin:20251002T160000
DTEND;TZID=Europe/Berlin:20251002T173000
DTSTAMP:20260421T103738
CREATED:20250207T102814Z
LAST-MODIFIED:20250207T102815Z
UID:10033858-1759420800-1759426200@www.kinderschutz.de
SUMMARY:Bürosprechstunde Private Raumnutzung
DESCRIPTION:
URL:https://www.kinderschutz.de/veranstaltung/buerosprechstunde-private-raumnutzung-2/2025-10-02/
LOCATION:Nachbarschaftstreff Heinrich trifft Böll
CATEGORIES:Messestadt Riem,Wochenprogramm
END:VEVENT
BEGIN:VEVENT
DTSTART;TZID=Europe/Berlin:20251002T163000
DTEND;TZID=Europe/Berlin:20251002T183000
DTSTAMP:20260421T103738
CREATED:20260124T144613Z
LAST-MODIFIED:20260124T144619Z
UID:10058055-1759422600-1759429800@www.kinderschutz.de
SUMMARY:Bürosprechzeit der Treffleitung
DESCRIPTION:
URL:https://www.kinderschutz.de/veranstaltung/buerosprechzeit-der-treffleitung-2-2/2025-10-02/
LOCATION:GaleriaTreff Nachbarschaftstreff\, Lehrer-Wirth-Straße 21\, München\, Bayern\, 81829\, Germany
CATEGORIES:Messestadt Riem,Wochenprogramm
END:VEVENT
BEGIN:VEVENT
DTSTART;TZID=Europe/Berlin:20251002T170000
DTEND;TZID=Europe/Berlin:20251002T190000
DTSTAMP:20260421T103738
CREATED:20250325T192837Z
LAST-MODIFIED:20250325T192909Z
UID:10039174-1759424400-1759431600@www.kinderschutz.de
SUMMARY:Bürosprechzeit für private Raumnutzung
DESCRIPTION:Info: Private Raumnutzung – KINDERSCHUTZ MÜNCHEN E-Mail:  nbt-galeriatreff-raumnutzung@kinderschutz.de
URL:https://www.kinderschutz.de/veranstaltung/buerosprechzeit-fuer-private-raumnutzung-3/2025-10-02/
LOCATION:GaleriaTreff Nachbarschaftstreff\, Lehrer-Wirth-Straße 21\, München\, Bayern\, 81829\, Germany
CATEGORIES:Messestadt Riem,Wochenprogramm
END:VEVENT
BEGIN:VEVENT
DTSTART;TZID=Europe/Berlin:20251002T170000
DTEND;TZID=Europe/Berlin:20251002T190000
DTSTAMP:20260421T103738
CREATED:20260124T145621Z
LAST-MODIFIED:20260124T145634Z
UID:10058169-1759424400-1759431600@www.kinderschutz.de
SUMMARY:Bürosprechzeit für private Raumnutzung
DESCRIPTION:Info: Private Raumnutzung – KINDERSCHUTZ MÜNCHEN E-Mail:  nbt-galeriatreff-raumnutzung@kinderschutz.de
URL:https://www.kinderschutz.de/veranstaltung/buerosprechzeit-fuer-private-raumnutzung-3-2/2025-10-02/
LOCATION:GaleriaTreff Nachbarschaftstreff\, Lehrer-Wirth-Straße 21\, München\, Bayern\, 81829\, Germany
CATEGORIES:Messestadt Riem,Wochenprogramm
END:VEVENT
BEGIN:VEVENT
DTSTART;TZID=Europe/Berlin:20251002T180000
DTEND;TZID=Europe/Berlin:20251002T200000
DTSTAMP:20260421T103738
CREATED:20251218T202439Z
LAST-MODIFIED:20251218T203419Z
UID:10048993-1759428000-1759435200@www.kinderschutz.de
SUMMARY:Café Queer Freiham
DESCRIPTION:Hast du Lust auf neue Begegnungen und gute Gespräche bei Kaffee und Tee? Dann komm ins Café Queer – ein offener Treff für LGBTQI+ People und Allies. Gemeinsam schaffen wir einen Ort zum Austauschen\, Zuhören und Vernetzen. Wir setzen auch gemeinsame Projekte um. Bringe gerne gute Laune mit – alle sind willkommen. Wir freuen uns auf dich!
URL:https://www.kinderschutz.de/veranstaltung/cafe-queer-freiham-2/2025-10-02/
LOCATION:Nachbarschaftstreff Freiham II\, Aubinger Allee 16\, München\, Bayern\, 81248\, Germany
CATEGORIES:Freiham,Wochenprogramm
ATTACH;FMTTYPE=image/png:https://www.kinderschutz.de/wp-content/uploads/2025/10/Cafe-Queer.png
END:VEVENT
BEGIN:VEVENT
DTSTART;TZID=Europe/Berlin:20251002T190000
DTEND;TZID=Europe/Berlin:20251002T210000
DTSTAMP:20260421T103738
CREATED:20250717T114901Z
LAST-MODIFIED:20250717T115718Z
UID:10043235-1759431600-1759438800@www.kinderschutz.de
SUMMARY:Blaues Kreuz München e.V. - Selbsthilfegruppe für Suchtgefährdete\, Suchtkranke\, Informationssuchende und Angehörige
DESCRIPTION:Selbsthilfegruppe für Suchtgefährdete\, Suchtkranke\, Informationssuchende und Angehörige aus Freiham und Umgebung startet Mitte August mit einem Gruppenangebot in dem Nachbarschaftstreff Freiham II. Teilnahme mit und ohne Anmeldung. Flyer-Download ist im Vollbildmodus möglich: Blaues Kreuz
URL:https://www.kinderschutz.de/veranstaltung/blaues-kreuz-muenchen-e-v-selbsthilfegruppe-fuer-suchtgefaehrdete-suchtkranke-informationssuchende-und-angehoerige/2025-10-02/
LOCATION:Nachbarschaftstreff Freiham II\, Aubinger Allee 16\, München\, Bayern\, 81248\, Germany
CATEGORIES:Freiham,Wochenprogramm
ATTACH;FMTTYPE=image/jpeg:https://www.kinderschutz.de/wp-content/uploads/2025/07/Blaues-Kreuz-.jpg
END:VEVENT
BEGIN:VEVENT
DTSTART;TZID=Europe/Berlin:20251002T190000
DTEND;TZID=Europe/Berlin:20251002T210000
DTSTAMP:20260421T103738
CREATED:20251220T173636Z
LAST-MODIFIED:20251220T173636Z
UID:10055155-1759431600-1759438800@www.kinderschutz.de
SUMMARY:Blaues Kreuz München e.V. - Selbsthilfegruppe für Suchtgefährdete\, Suchtkranke\, Informationssuchende und Angehörige
DESCRIPTION:Selbsthilfegruppe für Suchtgefährdete\, Suchtkranke\, Informationssuchende und Angehörige aus Freiham und Umgebung startet Mitte August mit einem Gruppenangebot in dem Nachbarschaftstreff Freiham II. Teilnahme mit und ohne Anmeldung. Flyer-Download ist im Vollbildmodus möglich: Blaues Kreuz
URL:https://www.kinderschutz.de/veranstaltung/blaues-kreuz-muenchen-e-v-selbsthilfegruppe-fuer-suchtgefaehrdete-suchtkranke-informationssuchende-und-angehoerige-2/2025-10-02/
LOCATION:Nachbarschaftstreff Freiham II\, Aubinger Allee 16\, München\, Bayern\, 81248\, Germany
CATEGORIES:Freiham,Wochenprogramm
ATTACH;FMTTYPE=image/jpeg:https://www.kinderschutz.de/wp-content/uploads/2025/07/Blaues-Kreuz-.jpg
END:VEVENT
BEGIN:VEVENT
DTSTART;TZID=Europe/Berlin:20251003T090000
DTEND;TZID=Europe/Berlin:20251003T140000
DTSTAMP:20260421T103738
CREATED:20240714T145225Z
LAST-MODIFIED:20240714T152502Z
UID:10014700-1759482000-1759500000@www.kinderschutz.de
SUMMARY:Türkische Frauengruppe der Messestadt West
DESCRIPTION:
URL:https://www.kinderschutz.de/veranstaltung/tuerkische-frauengruppe-der-messestadt-west/2025-10-03/
LOCATION:GaleriaTreff Nachbarschaftstreff\, Lehrer-Wirth-Straße 21\, München\, Bayern\, 81829\, Germany
CATEGORIES:Messestadt Riem,Wochenprogramm
END:VEVENT
BEGIN:VEVENT
DTSTART;TZID=Europe/Berlin:20251003T093000
DTEND;TZID=Europe/Berlin:20251003T123000
DTSTAMP:20260421T103738
CREATED:20240718T092417Z
LAST-MODIFIED:20250507T161320Z
UID:10023874-1759483800-1759494600@www.kinderschutz.de
SUMMARY:Heide Nähstube
DESCRIPTION:Nähen (Anfänger/Fortgeschrittene)\nKommt vorbei zum gemeinsamen Nähen\, wir freuen uns auf euch. Mit Voranmeldung Weitere Infos für Teilnehmerinnen hier Weitere Infos für Fachkräfte hier  
URL:https://www.kinderschutz.de/veranstaltung/heide-naehstube-2/2025-10-03/
LOCATION:HeideTreff Nachbarschaftstreff\, Karl-Köglsperger-Straße 13\, München\, Bayern\, 80939\, Germany
CATEGORIES:Freimann,Wochenprogramm
ATTACH;FMTTYPE=image/jpeg:https://www.kinderschutz.de/wp-content/uploads/2025/01/Naehen-1.jpg
END:VEVENT
BEGIN:VEVENT
DTSTART;TZID=Europe/Berlin:20251003T100000
DTEND;TZID=Europe/Berlin:20251003T113000
DTSTAMP:20260421T103738
CREATED:20250527T123817Z
LAST-MODIFIED:20250801T092047Z
UID:10041757-1759485600-1759491000@www.kinderschutz.de
SUMMARY:Elterntalk
DESCRIPTION:bringt Eltern ins Gespräch
URL:https://www.kinderschutz.de/veranstaltung/elterntalk-2/2025-10-03/
LOCATION:HeideTreff Familienzentrum/ Familienstützpunkt\, Karl-Köglsperger-Straße 19\, München\, 80939
CATEGORIES:Freimann,Wochenprogramm
ATTACH;FMTTYPE=image/jpeg:https://www.kinderschutz.de/wp-content/uploads/2025/01/Fruehe-Foerderung.jpg
END:VEVENT
BEGIN:VEVENT
DTSTART;TZID=Europe/Berlin:20251003T100000
DTEND;TZID=Europe/Berlin:20251003T120000
DTSTAMP:20260421T103738
CREATED:20240718T091920Z
LAST-MODIFIED:20250131T125143Z
UID:10022308-1759485600-1759492800@www.kinderschutz.de
SUMMARY:Offene Sprechstunde Treffleitung
DESCRIPTION:Ihr habt ein Anliegen\, wollt an einer Gruppe teilnehmen oder im Nachbarschaftstreff aktiv werden? Kommt vorbei\, die Treffleitung Alexandra Falter hat ein offenes Ohr für euch. Termine nach telefonischer/persönlicher Absprache zu einem anderen Zeitpunkt sind selbstverständlich auch möglich.  
URL:https://www.kinderschutz.de/veranstaltung/offene-sprechstunde-treffleitung/2025-10-03/
LOCATION:HeideTreff Nachbarschaftstreff\, Karl-Köglsperger-Straße 13\, München\, Bayern\, 80939\, Germany
CATEGORIES:Freimann,Wochenprogramm
ATTACH;FMTTYPE=image/jpeg:https://www.kinderschutz.de/wp-content/uploads/2025/01/Sprechstunde.jpg
END:VEVENT
BEGIN:VEVENT
DTSTART;TZID=Europe/Berlin:20251003T100000
DTEND;TZID=Europe/Berlin:20251003T130000
DTSTAMP:20260421T103738
CREATED:20250323T084241Z
LAST-MODIFIED:20250323T084241Z
UID:10036696-1759485600-1759496400@www.kinderschutz.de
SUMMARY:FiBiuS Arabic -  arabisches Frauenfrühstück
DESCRIPTION:
URL:https://www.kinderschutz.de/veranstaltung/fibius-arabic-arabisches-frauenfruehstueck/2025-10-03/
LOCATION:Nachbarschaftstreff Freiham I\, Ute-Strittmatter-Straße 30\, München\, Bayern\, 81248\, Germany
CATEGORIES:Freiham,Wochenprogramm
END:VEVENT
BEGIN:VEVENT
DTSTART;TZID=Europe/Berlin:20251003T100000
DTEND;TZID=Europe/Berlin:20251003T130000
DTSTAMP:20260421T103738
CREATED:20250915T135826Z
LAST-MODIFIED:20250915T135826Z
UID:10044818-1759485600-1759496400@www.kinderschutz.de
SUMMARY:Regenwurm Entdeckertag: Aktion Türen auf mit der Maus
DESCRIPTION:In Rahmen der Aktion „Türen auf mit der Maus“ laden wir Kinder zum: Wurmvasen töpfern\, Wurmkino bauen und zum Wurmquiz.ein. Anmeldung: freiluftgarten-freiham@kinderschutz.de  
URL:https://www.kinderschutz.de/veranstaltung/regenwurm-entdeckertag-aktion-tueren-auf-mit-der-maus/
LOCATION:Freiluftgarten Freiham\, Freihamer Weg\, München\, Bayern\, 81249\, Germany
CATEGORIES:Freiham,Wochenprogramm
END:VEVENT
BEGIN:VEVENT
DTSTART;TZID=Europe/Berlin:20251003T100000
DTEND;TZID=Europe/Berlin:20251003T130000
DTSTAMP:20260421T103738
CREATED:20251001T192911Z
LAST-MODIFIED:20251001T192911Z
UID:10049242-1759485600-1759496400@www.kinderschutz.de
SUMMARY:Türen auf mit der Maus! Regenwurm - Entdeckertag
DESCRIPTION:
URL:https://www.kinderschutz.de/veranstaltung/tueren-auf-mit-der-maus-regenwurm-entdeckertag/
LOCATION:Nachbarschaftstreff Freiham II\, Aubinger Allee 16\, München\, Bayern\, 81248\, Germany
CATEGORIES:Freiham,Wochenprogramm
ATTACH;FMTTYPE=image/png:https://www.kinderschutz.de/wp-content/uploads/2025/10/Plakat-_Maustag_FLG2025.png
END:VEVENT
END:VCALENDAR