BEGIN:VCALENDAR
VERSION:2.0
PRODID:-//KINDERSCHUTZ MÜNCHEN - ECPv6.15.20//NONSGML v1.0//EN
CALSCALE:GREGORIAN
METHOD:PUBLISH
X-ORIGINAL-URL:https://www.kinderschutz.de
X-WR-CALDESC:Veranstaltungen für KINDERSCHUTZ MÜNCHEN
REFRESH-INTERVAL;VALUE=DURATION:PT1H
X-Robots-Tag:noindex
X-PUBLISHED-TTL:PT1H
BEGIN:VTIMEZONE
TZID:Europe/Berlin
BEGIN:DAYLIGHT
TZOFFSETFROM:+0100
TZOFFSETTO:+0200
TZNAME:CEST
DTSTART:20240331T010000
END:DAYLIGHT
BEGIN:STANDARD
TZOFFSETFROM:+0200
TZOFFSETTO:+0100
TZNAME:CET
DTSTART:20241027T010000
END:STANDARD
BEGIN:DAYLIGHT
TZOFFSETFROM:+0100
TZOFFSETTO:+0200
TZNAME:CEST
DTSTART:20250330T010000
END:DAYLIGHT
BEGIN:STANDARD
TZOFFSETFROM:+0200
TZOFFSETTO:+0100
TZNAME:CET
DTSTART:20251026T010000
END:STANDARD
BEGIN:DAYLIGHT
TZOFFSETFROM:+0100
TZOFFSETTO:+0200
TZNAME:CEST
DTSTART:20260329T010000
END:DAYLIGHT
BEGIN:STANDARD
TZOFFSETFROM:+0200
TZOFFSETTO:+0100
TZNAME:CET
DTSTART:20261025T010000
END:STANDARD
END:VTIMEZONE
BEGIN:VEVENT
DTSTART;TZID=Europe/Berlin:20251001T100000
DTEND;TZID=Europe/Berlin:20251001T130000
DTSTAMP:20260423T125607
CREATED:20240718T090132Z
LAST-MODIFIED:20250513T090019Z
UID:10021522-1759312800-1759323600@www.kinderschutz.de
SUMMARY:Frauen für Frauen Frühstück
DESCRIPTION:Gemeinsam frühstücken\, unterstützen und sich austauschen. Bei Interesse gerne im Treff melden
URL:https://www.kinderschutz.de/veranstaltung/frauen-fuer-frauen-fruehstueck/2025-10-01/
LOCATION:HeideTreff Nachbarschaftstreff\, Karl-Köglsperger-Straße 13\, München\, Bayern\, 80939\, Germany
CATEGORIES:Freimann,Wochenprogramm
ATTACH;FMTTYPE=image/jpeg:https://www.kinderschutz.de/wp-content/uploads/2025/01/Frauen-fuer-Frauen.jpg
END:VEVENT
BEGIN:VEVENT
DTSTART;TZID=Europe/Berlin:20251001T100000
DTEND;TZID=Europe/Berlin:20251001T120000
DTSTAMP:20260423T125607
CREATED:20240714T151404Z
LAST-MODIFIED:20240714T151404Z
UID:10014070-1759312800-1759320000@www.kinderschutz.de
SUMMARY:Elterntalk
DESCRIPTION:
URL:https://www.kinderschutz.de/veranstaltung/elterntalk-2-2/2025-10-01/
LOCATION:GaleriaTreff Nachbarschaftstreff\, Lehrer-Wirth-Straße 21\, München\, Bayern\, 81829\, Germany
CATEGORIES:Messestadt Riem,Wochenprogramm
END:VEVENT
BEGIN:VEVENT
DTSTART;TZID=Europe/Berlin:20251001T100000
DTEND;TZID=Europe/Berlin:20251001T113000
DTSTAMP:20260423T125607
CREATED:20240703T182342Z
LAST-MODIFIED:20250801T072313Z
UID:10003227-1759312800-1759318200@www.kinderschutz.de
SUMMARY:Elterncafé
DESCRIPTION:
URL:https://www.kinderschutz.de/veranstaltung/elterncafe/2025-10-01/
LOCATION:HeideTreff Familienzentrum/ Familienstützpunkt\, Karl-Köglsperger-Straße 19\, München\, 80939
CATEGORIES:Freimann,Wochenprogramm
ATTACH;FMTTYPE=image/jpeg:https://www.kinderschutz.de/wp-content/uploads/2024/08/Elterncafe.jpg
END:VEVENT
BEGIN:VEVENT
DTSTART;TZID=Europe/Berlin:20251001T090000
DTEND;TZID=Europe/Berlin:20251001T120000
DTSTAMP:20260423T125607
CREATED:20240717T083413Z
LAST-MODIFIED:20250801T083358Z
UID:10018389-1759309200-1759320000@www.kinderschutz.de
SUMMARY:Kita-Finder Sprechstunde
DESCRIPTION:Anmeldung bei Marcela Drissi\nTel.: 0152 56 89 48 99
URL:https://www.kinderschutz.de/veranstaltung/kita-finder-sprechstunde/2025-10-01/
LOCATION:HeideTreff Familienzentrum/ Familienstützpunkt\, Karl-Köglsperger-Straße 19\, München\, 80939
CATEGORIES:Freimann,Wochenprogramm
ATTACH;FMTTYPE=image/jpeg:https://www.kinderschutz.de/wp-content/uploads/2024/08/Kita-finder.jpg
END:VEVENT
BEGIN:VEVENT
DTSTART;TZID=Europe/Berlin:20251001T090000
DTEND;TZID=Europe/Berlin:20251001T113000
DTSTAMP:20260423T125607
CREATED:20250930T124643Z
LAST-MODIFIED:20250930T124720Z
UID:10000161-1759309200-1759318200@www.kinderschutz.de
SUMMARY:Spielgruppe (mit Anmeldung)
DESCRIPTION:nur mit Anmeldung
URL:https://www.kinderschutz.de/veranstaltung/spielgruppe-2-2/2025-10-01/
LOCATION:HeideTreff Familienzentrum/ Familienstützpunkt\, Karl-Köglsperger-Straße 19\, München\, 80939
CATEGORIES:Freimann,Wochenprogramm
ATTACH;FMTTYPE=image/jpeg:https://www.kinderschutz.de/wp-content/uploads/2024/07/Spielgruppe.jpg
END:VEVENT
BEGIN:VEVENT
DTSTART;TZID=Europe/Berlin:20251001T090000
DTEND;TZID=Europe/Berlin:20251001T100000
DTSTAMP:20260423T125607
CREATED:20250704T120329Z
LAST-MODIFIED:20251027T133106Z
UID:10053044-1759309200-1759312800@www.kinderschutz.de
SUMMARY:Tritt und Fit in der Heide
DESCRIPTION:Gemeinsames Walken im Kieferngarten (Mit Voranmeldung)
URL:https://www.kinderschutz.de/veranstaltung/tritt-und-fit-in-der-heide-2/2025-10-01/
LOCATION:HeideTreff Nachbarschaftstreff\, Karl-Köglsperger-Straße 13\, München\, Bayern\, 80939\, Germany
CATEGORIES:Freimann,Wochenprogramm
ATTACH;FMTTYPE=image/jpeg:https://www.kinderschutz.de/wp-content/uploads/2025/05/Walking.jpg
END:VEVENT
BEGIN:VEVENT
DTSTART;TZID=Europe/Berlin:20250930T200000
DTEND;TZID=Europe/Berlin:20250930T210000
DTSTAMP:20260423T125607
CREATED:20250323T100932Z
LAST-MODIFIED:20250323T100932Z
UID:10037149-1759262400-1759266000@www.kinderschutz.de
SUMMARY:Pilates für Frauen:  Bewegungsangebot für türkische Community
DESCRIPTION:
URL:https://www.kinderschutz.de/veranstaltung/pilates-fuer-frauen-bewegungsangebot-fuer-tuerkische-community/2025-09-30/
LOCATION:Nachbarschaftstreff Freiham I\, Ute-Strittmatter-Straße 30\, München\, Bayern\, 81248\, Germany
CATEGORIES:Freiham,Wochenprogramm
END:VEVENT
BEGIN:VEVENT
DTSTART;TZID=Europe/Berlin:20250930T180000
DTEND;TZID=Europe/Berlin:20250930T193000
DTSTAMP:20260423T125607
CREATED:20250324T154755Z
LAST-MODIFIED:20250324T154755Z
UID:10036437-1759255200-1759260600@www.kinderschutz.de
SUMMARY:Yoga for Women
DESCRIPTION:Infos und Anmeldung (Registration) bitte per Email an:\nAndrea | andrea@hallo-yoga-freiham.de\nSteffi | steffi@hallo-yoga-freiham.de Zum Flyer: FrauenYoga NBT_Freiham2025.03.24  
URL:https://www.kinderschutz.de/veranstaltung/yoga-for-women-3-2/2025-09-30/
LOCATION:Nachbarschaftstreff Freiham I\, Ute-Strittmatter-Straße 30\, München\, Bayern\, 81248\, Germany
CATEGORIES:Freiham,Wochenprogramm
END:VEVENT
BEGIN:VEVENT
DTSTART;TZID=Europe/Berlin:20250930T160000
DTEND;TZID=Europe/Berlin:20250930T180000
DTSTAMP:20260423T125607
CREATED:20240718T085523Z
LAST-MODIFIED:20250129T105219Z
UID:10020737-1759248000-1759255200@www.kinderschutz.de
SUMMARY:Dienstagstreff
DESCRIPTION:Offenes Angebot (Terminanfrage im Treff\, alle 2 Wochen)\nKommt vorbei zum Kochen\, Gesellschaftsspiele spielen und miteinander reden.
URL:https://www.kinderschutz.de/veranstaltung/dienstagstreff/2025-09-30/
LOCATION:HeideTreff Nachbarschaftstreff\, Karl-Köglsperger-Straße 13\, München\, Bayern\, 80939\, Germany
CATEGORIES:Freimann,Wochenprogramm
ATTACH;FMTTYPE=image/jpeg:https://www.kinderschutz.de/wp-content/uploads/2025/01/Dienstagstreff.jpg
END:VEVENT
BEGIN:VEVENT
DTSTART;TZID=Europe/Berlin:20250930T153000
DTEND;TZID=Europe/Berlin:20250930T190000
DTSTAMP:20260423T125607
CREATED:20240715T202641Z
LAST-MODIFIED:20240715T202641Z
UID:10015227-1759246200-1759258800@www.kinderschutz.de
SUMMARY:Nachhilfe und Hausaufgabebetreuung
DESCRIPTION:
URL:https://www.kinderschutz.de/veranstaltung/nachhilfe-und-hausaufgabebetreuung/2025-09-30/
LOCATION:Nachbarschaftstreff Heinrich trifft Böll
CATEGORIES:Messestadt Riem,Wochenprogramm
END:VEVENT
BEGIN:VEVENT
DTSTART;TZID=Europe/Berlin:20250930T153000
DTEND;TZID=Europe/Berlin:20250930T170000
DTSTAMP:20260423T125607
CREATED:20260124T150723Z
LAST-MODIFIED:20260124T150724Z
UID:10058218-1759246200-1759251600@www.kinderschutz.de
SUMMARY:Bürosprechzeit für private Raumnutzung
DESCRIPTION:Info: Private Raumnutzung – KINDERSCHUTZ MÜNCHEN E-Mail:  nbt-galeriatreff-raumnutzung@kinderschutz.de
URL:https://www.kinderschutz.de/veranstaltung/bueroprechzeit-fuer-private-raumnutzung-2-2/2025-09-30/
LOCATION:GaleriaTreff Nachbarschaftstreff\, Lehrer-Wirth-Straße 21\, München\, Bayern\, 81829\, Germany
CATEGORIES:Messestadt Riem,Wochenprogramm
END:VEVENT
BEGIN:VEVENT
DTSTART;TZID=Europe/Berlin:20250930T153000
DTEND;TZID=Europe/Berlin:20250930T170000
DTSTAMP:20260423T125607
CREATED:20250325T192259Z
LAST-MODIFIED:20250325T192303Z
UID:10011953-1759246200-1759251600@www.kinderschutz.de
SUMMARY:Bürosprechzeit für private Raumnutzung
DESCRIPTION:Info: Private Raumnutzung – KINDERSCHUTZ MÜNCHEN E-Mail:  nbt-galeriatreff-raumnutzung@kinderschutz.de
URL:https://www.kinderschutz.de/veranstaltung/bueroprechzeit-fuer-private-raumnutzung-2/2025-09-30/
LOCATION:GaleriaTreff Nachbarschaftstreff\, Lehrer-Wirth-Straße 21\, München\, Bayern\, 81829\, Germany
CATEGORIES:Messestadt Riem,Wochenprogramm
END:VEVENT
BEGIN:VEVENT
DTSTART;TZID=Europe/Berlin:20250930T150000
DTEND;TZID=Europe/Berlin:20250930T180000
DTSTAMP:20260423T125607
CREATED:20240715T204335Z
LAST-MODIFIED:20240715T204335Z
UID:10016684-1759244400-1759255200@www.kinderschutz.de
SUMMARY:Sprechstunde der Treffleitung
DESCRIPTION:
URL:https://www.kinderschutz.de/veranstaltung/sprechstunde-der-treffleitung/2025-09-30/
LOCATION:Nachbarschaftstreff Heinrich trifft Böll
CATEGORIES:Messestadt Riem,Wochenprogramm
END:VEVENT
BEGIN:VEVENT
DTSTART;TZID=Europe/Berlin:20250930T150000
DTEND;TZID=Europe/Berlin:20250930T170000
DTSTAMP:20260423T125607
CREATED:20240715T205024Z
LAST-MODIFIED:20260125T085210Z
UID:10016972-1759244400-1759251600@www.kinderschutz.de
SUMMARY:Formularunterstützung
DESCRIPTION:
URL:https://www.kinderschutz.de/veranstaltung/formular-service/2025-09-30/
LOCATION:Nachbarschaftstreff Heinrich trifft Böll
CATEGORIES:Messestadt Riem,Wochenprogramm
END:VEVENT
BEGIN:VEVENT
DTSTART;TZID=Europe/Berlin:20250930T150000
DTEND;TZID=Europe/Berlin:20250930T160000
DTSTAMP:20260423T125607
CREATED:20250527T124335Z
LAST-MODIFIED:20250801T094524Z
UID:10042041-1759244400-1759248000@www.kinderschutz.de
SUMMARY:Eltern-Kind-Basteln
DESCRIPTION:
URL:https://www.kinderschutz.de/veranstaltung/eltern-kind-basteln-2/2025-09-30/
LOCATION:HeideTreff Familienzentrum/ Familienstützpunkt\, Karl-Köglsperger-Straße 19\, München\, 80939
CATEGORIES:Freimann,Wochenprogramm
ATTACH;FMTTYPE=image/png:https://www.kinderschutz.de/wp-content/uploads/2024/07/16.9_5.png
END:VEVENT
BEGIN:VEVENT
DTSTART;TZID=Europe/Berlin:20250930T140000
DTEND;TZID=Europe/Berlin:20250930T160000
DTSTAMP:20260423T125607
CREATED:20241029T094956Z
LAST-MODIFIED:20250131T124351Z
UID:10029271-1759240800-1759248000@www.kinderschutz.de
SUMMARY:Offene Sprechstunde Treffleitung
DESCRIPTION:Ihr habt ein Anliegen\, wollt an einer Gruppe teilnehmen oder im Nachbarschaftstreff aktiv werden? Kommt vorbei\, die Treffleitung Alexandra Falter hat ein offenes Ohr für euch.\nTermine nach telefonischer/persönlicher Absprache zu einem anderen Zeitpunkt sind selbstverständlich auch möglich.  
URL:https://www.kinderschutz.de/veranstaltung/offene-sprechstunde-treffleitung-2/2025-09-30/
LOCATION:HeideTreff Nachbarschaftstreff\, Karl-Köglsperger-Straße 13\, München\, Bayern\, 80939\, Germany
CATEGORIES:Freimann,Wochenprogramm
ATTACH;FMTTYPE=image/jpeg:https://www.kinderschutz.de/wp-content/uploads/2025/01/Sprechstunde.jpg
END:VEVENT
BEGIN:VEVENT
DTSTART;TZID=Europe/Berlin:20250930T133000
DTEND;TZID=Europe/Berlin:20250930T150000
DTSTAMP:20260423T125607
CREATED:20241025T152549Z
LAST-MODIFIED:20250801T094115Z
UID:10028937-1759239000-1759244400@www.kinderschutz.de
SUMMARY:Mama-Sport
DESCRIPTION:Selbstorganisiert  
URL:https://www.kinderschutz.de/veranstaltung/mama-sport/2025-09-30/
LOCATION:HeideTreff Familienzentrum/ Familienstützpunkt\, Karl-Köglsperger-Straße 19\, München\, 80939
CATEGORIES:Freimann,Wochenprogramm
ATTACH;FMTTYPE=image/jpeg:https://www.kinderschutz.de/wp-content/uploads/2024/10/Mama-Sport.jpg
END:VEVENT
BEGIN:VEVENT
DTSTART;TZID=Europe/Berlin:20250930T114500
DTEND;TZID=Europe/Berlin:20250930T124500
DTSTAMP:20260423T125607
CREATED:20250131T125917Z
LAST-MODIFIED:20250131T125917Z
UID:10032242-1759232700-1759236300@www.kinderschutz.de
SUMMARY:Heide Sport (Anfänger)
DESCRIPTION:Sportgruppe für Frauen\nMit Anmeldung bei der Treffleitung\, Warteliste (Unkostenbeitrag 1€)  
URL:https://www.kinderschutz.de/veranstaltung/heide-sport-anfaenger/2025-09-30/
LOCATION:HeideTreff Nachbarschaftstreff\, Karl-Köglsperger-Straße 13\, München\, Bayern\, 80939\, Germany
CATEGORIES:Freimann,Wochenprogramm
ATTACH;FMTTYPE=image/jpeg:https://www.kinderschutz.de/wp-content/uploads/2025/01/Sport.jpg
END:VEVENT
BEGIN:VEVENT
DTSTART;TZID=Europe/Berlin:20250930T110000
DTEND;TZID=Europe/Berlin:20250930T160000
DTSTAMP:20260423T125607
CREATED:20260105T143541Z
LAST-MODIFIED:20260105T143555Z
UID:10057503-1759230000-1759248000@www.kinderschutz.de
SUMMARY:Migrationssozialberatung für Geflüchtete aus der Ukraine
DESCRIPTION:Kонсультації українською мовою з усіх питань міграції для біженців з України Приймальні години: щовівторка з 11.00 до 16.00 Kontakt und Terminvereinbarung: Uliana Skarbek Tel: 0151 17 61 35 29 u.skarbek@kinderschutz.de
URL:https://www.kinderschutz.de/veranstaltung/migrationssozialberatung-fuer-gefluechtete-aus-der-ukraine-2/2025-09-30/
LOCATION:Nachbarschaftstreff Freiham I\, Ute-Strittmatter-Straße 30\, München\, Bayern\, 81248\, Germany
CATEGORIES:Freiham,Wochenprogramm
END:VEVENT
BEGIN:VEVENT
DTSTART;TZID=Europe/Berlin:20250930T110000
DTEND;TZID=Europe/Berlin:20250930T160000
DTSTAMP:20260423T125607
CREATED:20240712T185046Z
LAST-MODIFIED:20240712T185046Z
UID:10005834-1759230000-1759248000@www.kinderschutz.de
SUMMARY:Migrationssozialberatung für Geflüchtete aus der Ukraine
DESCRIPTION:Kонсультації українською мовою з усіх питань міграції для біженців з України Приймальні години: щовівторка з 11.00 до 16.00 Kontakt und Terminvereinbarung: Uliana Skarbek Tel: 0151 17 61 35 29 u.skarbek@kinderschutz.de
URL:https://www.kinderschutz.de/veranstaltung/migrationssozialberatung-fuer-gefluechtete-aus-der-ukraine/2025-09-30/
LOCATION:Nachbarschaftstreff Freiham I\, Ute-Strittmatter-Straße 30\, München\, Bayern\, 81248\, Germany
CATEGORIES:Freiham,Wochenprogramm
END:VEVENT
BEGIN:VEVENT
DTSTART;TZID=Europe/Berlin:20250930T110000
DTEND;TZID=Europe/Berlin:20250930T120000
DTSTAMP:20260423T125607
CREATED:20250110T103235Z
LAST-MODIFIED:20250801T084053Z
UID:10031872-1759230000-1759233600@www.kinderschutz.de
SUMMARY:Sprechstunde Frühe Förderung
DESCRIPTION:Beratung für Eltern mit Kindern von 0-6 Jahren zu Angeboten der Frühen Förderung (Bildungs- und Freizeitangebote).\nBei Neslihan Bachlechner. Ohne Termin.
URL:https://www.kinderschutz.de/veranstaltung/sprechstunde-fruehe-foerderung/2025-09-30/
LOCATION:HeideTreff Familienzentrum/ Familienstützpunkt\, Karl-Köglsperger-Straße 19\, München\, 80939
CATEGORIES:Freimann,Wochenprogramm
ATTACH;FMTTYPE=image/jpeg:https://www.kinderschutz.de/wp-content/uploads/2025/01/Fruehe-Foerderung.jpg
END:VEVENT
BEGIN:VEVENT
DTSTART;TZID=Europe/Berlin:20250930T103000
DTEND;TZID=Europe/Berlin:20250930T120000
DTSTAMP:20260423T125607
CREATED:20240703T181552Z
LAST-MODIFIED:20250930T131618Z
UID:10002704-1759228200-1759233600@www.kinderschutz.de
SUMMARY:Start in den Beruf
DESCRIPTION:offene Sprechstunde ohne Termin\, mit Kinderbetreuung
URL:https://www.kinderschutz.de/veranstaltung/start-in-den-beruf/2025-09-30/
LOCATION:HeideTreff Familienzentrum/ Familienstützpunkt\, Karl-Köglsperger-Straße 19\, München\, 80939
CATEGORIES:Freimann,Wochenprogramm
ATTACH;FMTTYPE=image/jpeg:https://www.kinderschutz.de/wp-content/uploads/2024/07/Start-in-den-Beruf.jpg
END:VEVENT
BEGIN:VEVENT
DTSTART;TZID=Europe/Berlin:20250930T103000
DTEND;TZID=Europe/Berlin:20250930T113000
DTSTAMP:20260423T125607
CREATED:20241025T082244Z
LAST-MODIFIED:20250131T125704Z
UID:10028363-1759228200-1759231800@www.kinderschutz.de
SUMMARY:Heide Sport (Fortgeschrittene)
DESCRIPTION:Sportgruppe für Frauen\nMit Anmeldung bei der Treffleitung\, Warteliste (Unkostenbeitrag 1€)  
URL:https://www.kinderschutz.de/veranstaltung/heide-sport/2025-09-30/
LOCATION:HeideTreff Nachbarschaftstreff\, Karl-Köglsperger-Straße 13\, München\, Bayern\, 80939\, Germany
CATEGORIES:Freimann,Wochenprogramm
ATTACH;FMTTYPE=image/jpeg:https://www.kinderschutz.de/wp-content/uploads/2025/01/Sport.jpg
END:VEVENT
BEGIN:VEVENT
DTSTART;TZID=Europe/Berlin:20250930T100000
DTEND;TZID=Europe/Berlin:20250930T170000
DTSTAMP:20260423T125607
CREATED:20260124T153147Z
LAST-MODIFIED:20260124T153150Z
UID:10058495-1759226400-1759251600@www.kinderschutz.de
SUMMARY:Kleidertauschschrank
DESCRIPTION:
URL:https://www.kinderschutz.de/veranstaltung/kleidertauschschrank-2-2/2025-09-30/
LOCATION:GaleriaTreff Nachbarschaftstreff\, Lehrer-Wirth-Straße 21\, München\, Bayern\, 81829\, Germany
CATEGORIES:Messestadt Riem,Wochenprogramm
END:VEVENT
BEGIN:VEVENT
DTSTART;TZID=Europe/Berlin:20250930T100000
DTEND;TZID=Europe/Berlin:20250930T170000
DTSTAMP:20260423T125607
CREATED:20250325T191929Z
LAST-MODIFIED:20250325T191929Z
UID:10038854-1759226400-1759251600@www.kinderschutz.de
SUMMARY:Kleidertauschschrank
DESCRIPTION:
URL:https://www.kinderschutz.de/veranstaltung/kleidertauschschrank-2/2025-09-30/
LOCATION:GaleriaTreff Nachbarschaftstreff\, Lehrer-Wirth-Straße 21\, München\, Bayern\, 81829\, Germany
CATEGORIES:Messestadt Riem,Wochenprogramm
END:VEVENT
BEGIN:VEVENT
DTSTART;TZID=Europe/Berlin:20250930T100000
DTEND;TZID=Europe/Berlin:20250930T120000
DTSTAMP:20260423T125607
CREATED:20260124T144906Z
LAST-MODIFIED:20260124T144909Z
UID:10058133-1759226400-1759233600@www.kinderschutz.de
SUMMARY:Bürosprechzeit der Treffleitung
DESCRIPTION:
URL:https://www.kinderschutz.de/veranstaltung/buerosprechzeit-der-treffleitung-3/2025-09-30/
LOCATION:GaleriaTreff Nachbarschaftstreff\, Lehrer-Wirth-Straße 21\, München\, Bayern\, 81829\, Germany
CATEGORIES:Messestadt Riem,Wochenprogramm
END:VEVENT
BEGIN:VEVENT
DTSTART;TZID=Europe/Berlin:20250930T100000
DTEND;TZID=Europe/Berlin:20250930T120000
DTSTAMP:20260423T125608
CREATED:20260105T143203Z
LAST-MODIFIED:20260105T143204Z
UID:10057382-1759226400-1759233600@www.kinderschutz.de
SUMMARY:IHUQ- Beratung für geflüchtete Menschen aus den Unterkünften in Freiham
DESCRIPTION:IHUQ- Beratung für geflüchtete Menschen aus den Unterkünften in Freiham Info: Anlaufstelle Integration der Haushalte der Unterkünfte im Quartier Freiham ihuq-freiham@kinderschutz.de Zum Flyer: IHUQ Angebote 2025
URL:https://www.kinderschutz.de/veranstaltung/ihuq-beratung-fuer-gefluechtete-menschen-aus-den-unterkuenften-in-freiham-3/2025-09-30/
LOCATION:Nachbarschaftstreff Freiham I\, Ute-Strittmatter-Straße 30\, München\, Bayern\, 81248\, Germany
CATEGORIES:Freiham,Wochenprogramm
END:VEVENT
BEGIN:VEVENT
DTSTART;TZID=Europe/Berlin:20250930T100000
DTEND;TZID=Europe/Berlin:20250930T120000
DTSTAMP:20260423T125608
CREATED:20251011T101236Z
LAST-MODIFIED:20251011T105805Z
UID:10052144-1759226400-1759233600@www.kinderschutz.de
SUMMARY:Anlauf- und Vernetzungsstelle Inklusion Nachbarschaftstreff Freiham
DESCRIPTION:Die Anlauf- und Vernetzungsstelle Inklusion Freiham ist in ihrem Stadtviertel Ansprechstelle\, Impulsgeber und „Kümmerer“ für das Thema Inklusion. Die Anlaufstellen Inklusion LHM sind kombiniert mit einer niederschwelligen individuellen Beratung zu allen Alltagsfragen. \nWir stehen allen Stadtteilbewohner und Bewohnerinnen mit Erstberatung rund um Themen der Inklusion zur Verfügung.\nWir achten auf Barrierefreiheit und Inklusion im Stadtviertel und bringen unsere Beobachtungen in die REGSAM Facharbeitskreise und andere Gremien ein\, wie der Bezirksausschuss BA 22 und halten Kontakt mit den zentralen Institutionen (Behindertenbeirat LHM\, Städtische Beraterkreis LHM\, Koordinierungsbüro zur Umsetzung der UN-BRK).\nWir beraten Vereine\, Projekte\, Einrichtungen bei spezifischen Fragen oder Vermitteln sie an kompetente Stellen weiter\, damit die Stadtteile\, die aufgebauten Strukturen und die Angebote so gut angepasst sind\, dass alle Menschen bei den Angeboten mitmachen können.\nHier können Sie:\nandere Menschen mit Behinderung bzw. mit einer sichtbaren oder unsichtbaren Beeinträchtigung kennenlernen \nsich über unterschiedliche Themen informieren\,\nBedarfe melden\,\neigenes Wissen und Können anderen Menschen zur Verfügung stellen und so zur mehr Barrierefreiheit beitragen\nZum Flyer: Anlaufstelle Inklusion Freiham – Infoblatt2025 Anlauf- und Vernetzungsstelle Inklusion Freiham\nund REGSAM FAK Runder Tisch Inklusion im 22.StadtbezirkPatrycja Marek Tel: 089 2317 7901 I +4915153855216\nE-Mail: p.marek@kinderschutz.de Beratung nach Vereinbarung\nSprechstunde der Anlaufstelle AVI und Café Inklusion mit Terminvereinbarung Mobilitätsberatung:Denizay Selcuk Tel: 089 2317 7991 I +491756245590\nmittwochs 16-19 Uhr und nach Vereinbarung\nE-Mail: anlaufstelle-inklusion-freiham@kinderschutz.de
URL:https://www.kinderschutz.de/veranstaltung/anlauf-und-vernetzungsstelle-inklusion-nachbarschaftstreff-freiham-2-2/2025-09-30/
LOCATION:Anlauf- und Vernetzungsstelle Inklusion
CATEGORIES:Freiham,Wochenprogramm
ATTACH;FMTTYPE=image/png:https://www.kinderschutz.de/wp-content/uploads/2025/10/Anlaufstelle-Inklusion-Freiham-Infoblatt2025.png
END:VEVENT
BEGIN:VEVENT
DTSTART;TZID=Europe/Berlin:20250930T100000
DTEND;TZID=Europe/Berlin:20250930T120000
DTSTAMP:20260423T125608
CREATED:20250322T210847Z
LAST-MODIFIED:20250322T211053Z
UID:10035994-1759226400-1759233600@www.kinderschutz.de
SUMMARY:Senior*innen Brunch
DESCRIPTION:Austausch\, Ausflüge und mehr für Senioren*innen und Ruheraum Suchende. Kontakt und INFO: senior-innen-netzwerk-freiham@kinderschutz.de
URL:https://www.kinderschutz.de/veranstaltung/seniorinnen-brunch-2/2025-09-30/
LOCATION:Nachbarschaftstreff Freiham I\, Ute-Strittmatter-Straße 30\, München\, Bayern\, 81248\, Germany
CATEGORIES:Freiham,Wochenprogramm
END:VEVENT
BEGIN:VEVENT
DTSTART;TZID=Europe/Berlin:20250930T100000
DTEND;TZID=Europe/Berlin:20250930T120000
DTSTAMP:20260423T125608
CREATED:20250322T205739Z
LAST-MODIFIED:20250323T081557Z
UID:10035838-1759226400-1759233600@www.kinderschutz.de
SUMMARY:IHUQ- Beratung für geflüchtete Menschen aus den Unterkünften in Freiham
DESCRIPTION:IHUQ- Beratung für geflüchtete Menschen aus den Unterkünften in Freiham Info: Anlaufstelle Integration der Haushalte der Unterkünfte im Quartier Freiham ihuq-freiham@kinderschutz.de Zum Flyer: IHUQ Angebote 2025
URL:https://www.kinderschutz.de/veranstaltung/ihuq-beratung-fuer-gefluechtete-menschen-aus-den-unterkuenften-in-freiham/2025-09-30/
LOCATION:Nachbarschaftstreff Freiham I\, Ute-Strittmatter-Straße 30\, München\, Bayern\, 81248\, Germany
CATEGORIES:Freiham,Wochenprogramm
END:VEVENT
END:VCALENDAR