BEGIN:VCALENDAR
VERSION:2.0
PRODID:-//KINDERSCHUTZ MÜNCHEN - ECPv6.15.20//NONSGML v1.0//EN
CALSCALE:GREGORIAN
METHOD:PUBLISH
X-WR-CALNAME:KINDERSCHUTZ MÜNCHEN
X-ORIGINAL-URL:https://www.kinderschutz.de
X-WR-CALDESC:Veranstaltungen für KINDERSCHUTZ MÜNCHEN
REFRESH-INTERVAL;VALUE=DURATION:PT1H
X-Robots-Tag:noindex
X-PUBLISHED-TTL:PT1H
BEGIN:VTIMEZONE
TZID:Europe/Berlin
BEGIN:DAYLIGHT
TZOFFSETFROM:+0100
TZOFFSETTO:+0200
TZNAME:CEST
DTSTART:20230326T010000
END:DAYLIGHT
BEGIN:STANDARD
TZOFFSETFROM:+0200
TZOFFSETTO:+0100
TZNAME:CET
DTSTART:20231029T010000
END:STANDARD
BEGIN:DAYLIGHT
TZOFFSETFROM:+0100
TZOFFSETTO:+0200
TZNAME:CEST
DTSTART:20240331T010000
END:DAYLIGHT
BEGIN:STANDARD
TZOFFSETFROM:+0200
TZOFFSETTO:+0100
TZNAME:CET
DTSTART:20241027T010000
END:STANDARD
BEGIN:DAYLIGHT
TZOFFSETFROM:+0100
TZOFFSETTO:+0200
TZNAME:CEST
DTSTART:20250330T010000
END:DAYLIGHT
BEGIN:STANDARD
TZOFFSETFROM:+0200
TZOFFSETTO:+0100
TZNAME:CET
DTSTART:20251026T010000
END:STANDARD
BEGIN:DAYLIGHT
TZOFFSETFROM:+0100
TZOFFSETTO:+0200
TZNAME:CEST
DTSTART:20260329T010000
END:DAYLIGHT
BEGIN:STANDARD
TZOFFSETFROM:+0200
TZOFFSETTO:+0100
TZNAME:CET
DTSTART:20261025T010000
END:STANDARD
BEGIN:DAYLIGHT
TZOFFSETFROM:+0100
TZOFFSETTO:+0200
TZNAME:CEST
DTSTART:20270328T010000
END:DAYLIGHT
BEGIN:STANDARD
TZOFFSETFROM:+0200
TZOFFSETTO:+0100
TZNAME:CET
DTSTART:20271031T010000
END:STANDARD
BEGIN:DAYLIGHT
TZOFFSETFROM:+0100
TZOFFSETTO:+0200
TZNAME:CEST
DTSTART:20280326T010000
END:DAYLIGHT
BEGIN:STANDARD
TZOFFSETFROM:+0200
TZOFFSETTO:+0100
TZNAME:CET
DTSTART:20281029T010000
END:STANDARD
END:VTIMEZONE
BEGIN:VEVENT
DTSTART;VALUE=DATE:20240909
DTEND;VALUE=DATE:20270102
DTSTAMP:20260422T114745
CREATED:20240801T074730Z
LAST-MODIFIED:20260123T134037Z
UID:10025422-1725868800-1798790399@www.kinderschutz.de
SUMMARY:Unser Wochenprogramm zum Download
DESCRIPTION:Flyer
URL:https://www.kinderschutz.de/veranstaltung/unser-wochenprogramm-zum-download/
LOCATION:HeideTreff Familienzentrum/ Familienstützpunkt\, Karl-Köglsperger-Straße 19\, München\, 80939
CATEGORIES:Freimann,Wochenprogramm
ATTACH;FMTTYPE=image/png:https://www.kinderschutz.de/wp-content/uploads/2026/01/Flyer-Familienzentrum-.png
END:VEVENT
BEGIN:VEVENT
DTSTART;VALUE=DATE:20260101
DTEND;VALUE=DATE:20260902
DTSTAMP:20260422T114745
CREATED:20260125T074705Z
LAST-MODIFIED:20260125T075746Z
UID:10059238-1767254400-1788249599@www.kinderschutz.de
SUMMARY:Wochenprogramm GaleriaTreff zum Download 2026-01
DESCRIPTION:Wochenprogramm GaleriaTreff zum Download:  2026_GT_Wochenprogramm20260124
URL:https://www.kinderschutz.de/veranstaltung/wochenprogramm-galeriatreff-2026-01/
LOCATION:GaleriaTreff Nachbarschaftstreff\, Lehrer-Wirth-Straße 21\, München\, Bayern\, 81829\, Germany
CATEGORIES:Messestadt Riem,Wochenprogramm
ATTACH;FMTTYPE=image/jpeg:https://www.kinderschutz.de/wp-content/uploads/2026/01/2026_GT_Wochenprogramm20260124.jpg
END:VEVENT
BEGIN:VEVENT
DTSTART;VALUE=DATE:20260104
DTEND;VALUE=DATE:20260802
DTSTAMP:20260422T114745
CREATED:20260125T082114Z
LAST-MODIFIED:20260125T082125Z
UID:10060293-1767513600-1785571199@www.kinderschutz.de
SUMMARY:Wochenprogramm Heinrich trifft Böll zum Download 2026-1
DESCRIPTION:Wochenprogramm Heinrich trifft Böll  zum Download: HtB_Wochenprogramm20260125
URL:https://www.kinderschutz.de/veranstaltung/wochenprogram-heinrich-trifft-boell-zum-download-2026-1/
LOCATION:Nachbarschaftstreff Heinrich trifft Böll
CATEGORIES:Messestadt Riem,Wochenprogramm
ATTACH;FMTTYPE=image/jpeg:https://www.kinderschutz.de/wp-content/uploads/2026/01/HtB_Wochenprogramm20260125.jpg
END:VEVENT
BEGIN:VEVENT
DTSTART;TZID=Europe/Berlin:20260413T083000
DTEND;TZID=Europe/Berlin:20260413T093000
DTSTAMP:20260422T114745
CREATED:20260125T083926Z
LAST-MODIFIED:20260125T083926Z
UID:10060901-1776069000-1776072600@www.kinderschutz.de
SUMMARY:Yoga für alle
DESCRIPTION:Kontakt: info@yoga-hannaboye.de
URL:https://www.kinderschutz.de/veranstaltung/yoga-fuer-alle/2026-04-13/
LOCATION:Nachbarschaftstreff Heinrich trifft Böll
CATEGORIES:Messestadt Riem,Wochenprogramm
END:VEVENT
BEGIN:VEVENT
DTSTART;TZID=Europe/Berlin:20260413T090000
DTEND;TZID=Europe/Berlin:20260413T113000
DTSTAMP:20260422T114745
CREATED:20250930T124643Z
LAST-MODIFIED:20250930T124720Z
UID:10048250-1776070800-1776079800@www.kinderschutz.de
SUMMARY:Spielgruppe (mit Anmeldung)
DESCRIPTION:nur mit Anmeldung
URL:https://www.kinderschutz.de/veranstaltung/spielgruppe-2-2/2026-04-13/
LOCATION:HeideTreff Familienzentrum/ Familienstützpunkt\, Karl-Köglsperger-Straße 19\, München\, 80939
CATEGORIES:Freimann,Wochenprogramm
ATTACH;FMTTYPE=image/jpeg:https://www.kinderschutz.de/wp-content/uploads/2024/07/Spielgruppe.jpg
END:VEVENT
BEGIN:VEVENT
DTSTART;TZID=Europe/Berlin:20260413T093000
DTEND;TZID=Europe/Berlin:20260413T110000
DTSTAMP:20260422T114745
CREATED:20250527T123654Z
LAST-MODIFIED:20250801T092148Z
UID:10041523-1776072600-1776078000@www.kinderschutz.de
SUMMARY:Elterntalk
DESCRIPTION:bringt Eltern ins Gespräch
URL:https://www.kinderschutz.de/veranstaltung/elterntalk/2026-04-13/
LOCATION:HeideTreff Familienzentrum/ Familienstützpunkt\, Karl-Köglsperger-Straße 19\, München\, 80939
CATEGORIES:Freimann,Wochenprogramm
ATTACH;FMTTYPE=image/jpeg:https://www.kinderschutz.de/wp-content/uploads/2025/01/Fruehe-Foerderung.jpg
END:VEVENT
BEGIN:VEVENT
DTSTART;TZID=Europe/Berlin:20260413T093000
DTEND;TZID=Europe/Berlin:20260413T113000
DTSTAMP:20260422T114745
CREATED:20251027T132649Z
LAST-MODIFIED:20251027T132650Z
UID:10052536-1776072600-1776079800@www.kinderschutz.de
SUMMARY:Offenes Treffen zum Deutsch sprechen (Anfänger*innen)
DESCRIPTION:mit Anmeldung bei der Treffleitung
URL:https://www.kinderschutz.de/veranstaltung/offenes-treffen-zum-deutsch-sprechen-2-2/2026-04-13/
LOCATION:HeideTreff Nachbarschaftstreff\, Karl-Köglsperger-Straße 13\, München\, Bayern\, 80939\, Germany
CATEGORIES:Freimann,Wochenprogramm
ATTACH;FMTTYPE=image/jpeg:https://www.kinderschutz.de/wp-content/uploads/2025/01/Deutsch.jpg
END:VEVENT
BEGIN:VEVENT
DTSTART;TZID=Europe/Berlin:20260413T093000
DTEND;TZID=Europe/Berlin:20260413T113000
DTSTAMP:20260422T114745
CREATED:20260220T115806Z
LAST-MODIFIED:20260220T115815Z
UID:10052795-1776072600-1776079800@www.kinderschutz.de
SUMMARY:Offenes Treffen zum Deutsch sprechen (Anfänger*innen)
DESCRIPTION:mit Anmeldung bei der Treffleitung
URL:https://www.kinderschutz.de/veranstaltung/offenes-treffen-zum-deutsch-sprechen-anfaengerinnen-2/2026-04-13/
LOCATION:HeideTreff Nachbarschaftstreff\, Karl-Köglsperger-Straße 13\, München\, Bayern\, 80939\, Germany
CATEGORIES:Freimann,Wochenprogramm
ATTACH;FMTTYPE=image/jpeg:https://www.kinderschutz.de/wp-content/uploads/2025/01/Deutsch.jpg
END:VEVENT
BEGIN:VEVENT
DTSTART;TZID=Europe/Berlin:20260413T093000
DTEND;TZID=Europe/Berlin:20260413T120000
DTSTAMP:20260422T114745
CREATED:20240714T133439Z
LAST-MODIFIED:20240714T133439Z
UID:10010611-1776072600-1776081600@www.kinderschutz.de
SUMMARY:Migrationsberatung für erwachsene Zuwanderer (MBE)
DESCRIPTION:
URL:https://www.kinderschutz.de/veranstaltung/migrationsberatung-fuer-erwachsene-zuwanderer-mbe/2026-04-13/
LOCATION:GaleriaTreff Nachbarschaftstreff\, Lehrer-Wirth-Straße 21\, München\, Bayern\, 81829\, Germany
CATEGORIES:Messestadt Riem,Wochenprogramm
END:VEVENT
BEGIN:VEVENT
DTSTART;TZID=Europe/Berlin:20260413T100000
DTEND;TZID=Europe/Berlin:20260413T120000
DTSTAMP:20260422T114745
CREATED:20251220T191300Z
LAST-MODIFIED:20251220T191455Z
UID:10055271-1776074400-1776081600@www.kinderschutz.de
SUMMARY:Bürosprechstunde private Raumnutzung Nachbarschaftstreff Freiham2
DESCRIPTION:Sie wohnen in Freiham und suchen einen Raum für Familienfeiern oder Kindergeburtstage? Dann sprechen Sie uns gerne an und vereinbaren Sie einen Termin für Raumbesichtigung mit uns. Persönliche Vorsprache:Montag: 10:00–12:00 Uhr und  Freitag: 15:00–16:00 Uhr Kontakt: nbt-fh2-raumnutzung@kinderschutz.de Die private Raumnutzung ist gebührenpflichtig und ausschließlich für Bewohner*innen aus Freiham möglich.
URL:https://www.kinderschutz.de/veranstaltung/sprechstunde-private-raumnutzung-nachbarschaftstreff-freiham2/2026-04-13/
LOCATION:Nachbarschaftstreff Freiham II\, Aubinger Allee 16\, München\, Bayern\, 81248\, Germany
CATEGORIES:Freiham,Wochenprogramm
END:VEVENT
BEGIN:VEVENT
DTSTART;TZID=Europe/Berlin:20260413T100000
DTEND;TZID=Europe/Berlin:20260413T130000
DTSTAMP:20260422T114745
CREATED:20251220T145905Z
LAST-MODIFIED:20251220T145949Z
UID:10054458-1776074400-1776085200@www.kinderschutz.de
SUMMARY:Es ist OFFEN! Meet People & Co-Working Space Freiham
DESCRIPTION:Unser Meet People & Co-Working Space lädt alle Nachbarinnen ein: arbeiten\, lesen\, Brett- und Kartenspiele spielen oder einfach ins Gespräch kommen und sich vernetzen. Tee und Kaffee sind vorhanden – für entspannte Stunden in der Gemeinschaft. Uhrzeit: 10:00–13:00 Uhr\nOrt: Nachbarschaftstreff Freiham2 I Aubinger Allee 16\,  81248 München Info: nachbarschaftstreff-freiham2@kinderschutz.de Wir suchen noch engagierte Begleiter*innen\, die das Format unterstützen und mitgestalten möchten.
URL:https://www.kinderschutz.de/veranstaltung/es-ist-offen-meet-people-co-working-space-freiham/2026-04-13/
LOCATION:Nachbarschaftstreff Freiham II\, Aubinger Allee 16\, München\, Bayern\, 81248\, Germany
CATEGORIES:Freiham,Wochenprogramm
END:VEVENT
BEGIN:VEVENT
DTSTART;TZID=Europe/Berlin:20260413T113000
DTEND;TZID=Europe/Berlin:20260413T133000
DTSTAMP:20260422T114745
CREATED:20260208T161934Z
LAST-MODIFIED:20260208T161945Z
UID:10056052-1776079800-1776087000@www.kinderschutz.de
SUMMARY:Offene Bürosprechstunde der Treffleitung des Nachbarschaftstreffs Freiham2
DESCRIPTION:Erstberatung zu allen sozialen Belangen sowie Weiterleitung an geeignete Fachstellen. Zudem Informationen und Beratung zu freiwilligem Engagement im Nachbarschaftstreff Freiham. Weitere Termine auf Anfrage: Kontakt: p.pooth@kinderschutz.de oder p.marek@kinderschutz.de
URL:https://www.kinderschutz.de/veranstaltung/offene-buerosprechstunde-der-treffleitung-des-nachbarschaftstreffs-freiham-3/2026-04-13/
LOCATION:Nachbarschaftstreff Freiham II\, Aubinger Allee 16\, München\, Bayern\, 81248\, Germany
CATEGORIES:Freiham,Wochenprogramm
ATTACH;FMTTYPE=image/png:https://www.kinderschutz.de/wp-content/uploads/2025/12/Sprechstunde-der-Treffleitung.png
END:VEVENT
BEGIN:VEVENT
DTSTART;TZID=Europe/Berlin:20260413T114500
DTEND;TZID=Europe/Berlin:20260413T131500
DTSTAMP:20260422T114745
CREATED:20260220T114915Z
LAST-MODIFIED:20260220T114939Z
UID:10053350-1776080700-1776086100@www.kinderschutz.de
SUMMARY:Offenes Treffen zum Deutsch sprechen (Fortgeschrittene)
DESCRIPTION:mit Anmeldung bei der Treffleitung
URL:https://www.kinderschutz.de/veranstaltung/offenes-treffen-zum-deutsch-sprechen-fortgeschrittene-3-2/2026-04-13/
LOCATION:HeideTreff Nachbarschaftstreff\, Karl-Köglsperger-Straße 13\, München\, Bayern\, 80939\, Germany
CATEGORIES:Freimann,Wochenprogramm
ATTACH;FMTTYPE=image/jpeg:https://www.kinderschutz.de/wp-content/uploads/2025/01/Deutsch.jpg
END:VEVENT
BEGIN:VEVENT
DTSTART;TZID=Europe/Berlin:20260413T133000
DTEND;TZID=Europe/Berlin:20260413T150000
DTSTAMP:20260422T114745
CREATED:20240718T085306Z
LAST-MODIFIED:20250131T161135Z
UID:10020503-1776087000-1776092400@www.kinderschutz.de
SUMMARY:Pontis Freimann Sprechstunde und Jobcenter offene Sprechstunde
DESCRIPTION:Pontis Formularservice mit Voranmeldung\nTel.: 089 452 235 184 Weitere Infos zu Pontis
URL:https://www.kinderschutz.de/veranstaltung/pontis-freimann-sprechstunde-und-offene-sprechstunde-jobcenter/2026-04-13/
LOCATION:HeideTreff Nachbarschaftstreff\, Karl-Köglsperger-Straße 13\, München\, Bayern\, 80939\, Germany
CATEGORIES:Freimann,Wochenprogramm
ATTACH;FMTTYPE=image/jpeg:https://www.kinderschutz.de/wp-content/uploads/2025/01/Pontis2.jpg
END:VEVENT
BEGIN:VEVENT
DTSTART;TZID=Europe/Berlin:20260413T140000
DTEND;TZID=Europe/Berlin:20260413T150000
DTSTAMP:20260422T114745
CREATED:20250930T115606Z
LAST-MODIFIED:20250930T131029Z
UID:10045792-1776088800-1776092400@www.kinderschutz.de
SUMMARY:Deutschkurs mit Kinderbetreuung
DESCRIPTION:nur mit Anmeldung
URL:https://www.kinderschutz.de/veranstaltung/deutschkurs-mit-kinderbetreuung-3/2026-04-13/
LOCATION:HeideTreff Familienzentrum/ Familienstützpunkt\, Karl-Köglsperger-Straße 19\, München\, 80939
CATEGORIES:Freimann,Wochenprogramm
ATTACH;FMTTYPE=image/jpeg:https://www.kinderschutz.de/wp-content/uploads/2024/07/Deutschkurs.jpg
END:VEVENT
BEGIN:VEVENT
DTSTART;TZID=Europe/Berlin:20260413T140000
DTEND;TZID=Europe/Berlin:20260413T160000
DTSTAMP:20260422T114745
CREATED:20250930T121601Z
LAST-MODIFIED:20250930T121601Z
UID:10046889-1776088800-1776096000@www.kinderschutz.de
SUMMARY:Ausgabe von Kinderkleidung
DESCRIPTION:
URL:https://www.kinderschutz.de/veranstaltung/ausgabe-von-kinderkleidung-2/2026-04-13/
LOCATION:HeideTreff Familienzentrum/ Familienstützpunkt\, Karl-Köglsperger-Straße 19\, München\, 80939
CATEGORIES:Freimann,Wochenprogramm
ATTACH;FMTTYPE=image/jpeg:https://www.kinderschutz.de/wp-content/uploads/2024/07/Kleiderkammer.jpg
END:VEVENT
BEGIN:VEVENT
DTSTART;TZID=Europe/Berlin:20260413T153000
DTEND;TZID=Europe/Berlin:20260413T190000
DTSTAMP:20260422T114745
CREATED:20240715T202641Z
LAST-MODIFIED:20240715T202641Z
UID:10015338-1776094200-1776106800@www.kinderschutz.de
SUMMARY:Nachhilfe und Hausaufgabebetreuung
DESCRIPTION:
URL:https://www.kinderschutz.de/veranstaltung/nachhilfe-und-hausaufgabebetreuung/2026-04-13/
LOCATION:Nachbarschaftstreff Heinrich trifft Böll
CATEGORIES:Messestadt Riem,Wochenprogramm
END:VEVENT
BEGIN:VEVENT
DTSTART;TZID=Europe/Berlin:20260413T160000
DTEND;TZID=Europe/Berlin:20260413T173000
DTSTAMP:20260422T114745
CREATED:20240715T203123Z
LAST-MODIFIED:20240715T203531Z
UID:10016136-1776096000-1776101400@www.kinderschutz.de
SUMMARY:Bürosprechstunde Private Raumnutzung
DESCRIPTION:
URL:https://www.kinderschutz.de/veranstaltung/biurosprechstunde-private-raumnutzung/2026-04-13/
LOCATION:Nachbarschaftstreff Heinrich trifft Böll
CATEGORIES:Messestadt Riem,Wochenprogramm
END:VEVENT
BEGIN:VEVENT
DTSTART;TZID=Europe/Berlin:20260413T180000
DTEND;TZID=Europe/Berlin:20260413T210000
DTSTAMP:20260422T114745
CREATED:20251218T221745Z
LAST-MODIFIED:20260221T124331Z
UID:10056948-1776103200-1776114000@www.kinderschutz.de
SUMMARY:Freihamer Klimatreff Nachbarschaftstreff Freiham
DESCRIPTION:Gestalte die Zukunft deines Stadtteils mit: gemeinsam für ein lebenswertes Freiham! Beim Klimatreff Freiham bringen wir uns mit Herzblut\, Ideen und Tatkraft ein\, um unseren Stadtteil nachhaltig zu gestalten. Die Themen reichen von Radl-Check über Clean Ups bis hin zur Versorgung des Stadtteils mit Lebensmitteln regionaler Erzeuger*innen. Jeder und jede kann mitmachen und eigene Projekte einbringen. Der Treff ist offen für alle\, die sich für Klimaschutz\, Nachhaltigkeit und eine lebenswerte Zukunft in Freiham interessieren – Vorkenntnisse sind nicht nötig. Wir vernetzen Menschen\, planen Aktionen und setzen konkrete Impulse für einen klimafreundlichen Alltag. Der Freihamer Klimatreff des Nachbarschaftstreffs Freiham2 ist Teil der Münchner Klimainitiative von Leocor.   Wann: am 2. Montag im Monat\, 18:00-21:00 Uhr\nWo: Nachbarschaftstreff Freiham2\, Aubinger Allee 16\, München 81248 Kontakt: klimatreff-freiham@kinderschutz.de |  089 231716-7991 bzw. Mobil 0151 53 85 52 16  (Patrycja Marek) Tel.: 0175 6143943 (Annika Christof Ansarian)
URL:https://www.kinderschutz.de/veranstaltung/freihamer-klimatreff-nachbarschaftstreff-freiham/2026-04-13/
LOCATION:Nachbarschaftstreff Freiham II\, Aubinger Allee 16\, München\, Bayern\, 81248\, Germany
CATEGORIES:Freiham,Wochenprogramm
ATTACH;FMTTYPE=image/png:https://www.kinderschutz.de/wp-content/uploads/2025/12/Freihamer-Klimatreff-260208.png
END:VEVENT
BEGIN:VEVENT
DTSTART;TZID=Europe/Berlin:20260413T180000
DTEND;TZID=Europe/Berlin:20260413T210000
DTSTAMP:20260422T114745
CREATED:20260221T124720Z
LAST-MODIFIED:20260221T124753Z
UID:10057009-1776103200-1776114000@www.kinderschutz.de
SUMMARY:Freihamer Klimatreff Nachbarschaftstreff Freiham
DESCRIPTION:Gestalte die Zukunft deines Stadtteils mit: gemeinsam für ein lebenswertes Freiham! Beim Klimatreff Freiham bringen wir uns mit Herzblut\, Ideen und Tatkraft ein\, um unseren Stadtteil nachhaltig zu gestalten. Die Themen reichen von Radl-Check über Clean Ups bis hin zur Versorgung des Stadtteils mit Lebensmitteln regionaler Erzeuger*innen. Jeder und jede kann mitmachen und eigene Projekte einbringen. Der Treff ist offen für alle\, die sich für Klimaschutz\, Nachhaltigkeit und eine lebenswerte Zukunft in Freiham interessieren – Vorkenntnisse sind nicht nötig. Wir vernetzen Menschen\, planen Aktionen und setzen konkrete Impulse für einen klimafreundlichen Alltag. Der Freihamer Klimatreff des Nachbarschaftstreffs Freiham2 ist Teil der Münchner Klimainitiative von Leocor.   Wann: am 2. Montag im Monat\, 18:00-21:00 Uhr\nWo: Nachbarschaftstreff Freiham2\, Aubinger Allee 16\, München 81248 Kontakt: klimatreff-freiham@kinderschutz.de |  089 231716-7991 bzw. Mobil 0151 53 85 52 16  (Patrycja Marek) Tel.: 0175 6143943 (Annika Christof Ansarian)
URL:https://www.kinderschutz.de/veranstaltung/freihamer-klimatreff-nachbarschaftstreff-freiham-2-2/2026-04-13/
LOCATION:Freiluftgarten Freiham\, Freihamer Weg\, München\, Bayern\, 81249\, Germany
CATEGORIES:Freiham,Wochenprogramm
ATTACH;FMTTYPE=image/png:https://www.kinderschutz.de/wp-content/uploads/2025/12/Freihamer-Klimatreff-260208-1.png
END:VEVENT
BEGIN:VEVENT
DTSTART;TZID=Europe/Berlin:20260413T183000
DTEND;TZID=Europe/Berlin:20260413T203000
DTSTAMP:20260422T114745
CREATED:20260125T084222Z
LAST-MODIFIED:20260125T084222Z
UID:10060931-1776105000-1776112200@www.kinderschutz.de
SUMMARY:Meditation & Achtsamkeit
DESCRIPTION:
URL:https://www.kinderschutz.de/veranstaltung/meditation-achtsamkeit/2026-04-13/
LOCATION:Nachbarschaftstreff Heinrich trifft Böll
CATEGORIES:Messestadt Riem,Wochenprogramm
END:VEVENT
BEGIN:VEVENT
DTSTART;TZID=Europe/Berlin:20260414T090000
DTEND;TZID=Europe/Berlin:20260414T110000
DTSTAMP:20260422T114745
CREATED:20251118T144849Z
LAST-MODIFIED:20251118T145847Z
UID:10030099-1776157200-1776164400@www.kinderschutz.de
SUMMARY:Sprechzeit zur Raumvermietung
DESCRIPTION:Komm vorbei\, schreib eine Mail oder ruf an\, wenn du einen Raum für deine private Feier (z.B. Kindergeburtstag\, max. 25 Personen\, inkl. Kinder) suchst.  
URL:https://www.kinderschutz.de/veranstaltung/sprechzeit-zur-raumvermietung-2/2026-04-14/
LOCATION:HeideTreff Nachbarschaftstreff\, Karl-Köglsperger-Straße 13\, München\, Bayern\, 80939\, Germany
CATEGORIES:Freimann,Wochenprogramm
ATTACH;FMTTYPE=image/jpeg:https://www.kinderschutz.de/wp-content/uploads/2025/01/Sprechstunde-Vermietung.jpg
END:VEVENT
BEGIN:VEVENT
DTSTART;TZID=Europe/Berlin:20260414T100000
DTEND;TZID=Europe/Berlin:20260414T120000
DTSTAMP:20260422T114745
CREATED:20240718T090329Z
LAST-MODIFIED:20240718T090329Z
UID:10021119-1776160800-1776168000@www.kinderschutz.de
SUMMARY:Anfragen zur Raumvermietung
DESCRIPTION:Kommt vorbei\, wenn den Nachbarschaftstreff für euren Kindergeburtstag oder kleine Feier mieten wollt.
URL:https://www.kinderschutz.de/veranstaltung/anfragen-zur-raumvermietung/2026-04-14/
LOCATION:HeideTreff Nachbarschaftstreff\, Karl-Köglsperger-Straße 13\, München\, Bayern\, 80939\, Germany
END:VEVENT
BEGIN:VEVENT
DTSTART;TZID=Europe/Berlin:20260414T100000
DTEND;TZID=Europe/Berlin:20260414T120000
DTSTAMP:20260422T114745
CREATED:20250322T210847Z
LAST-MODIFIED:20250322T211053Z
UID:10036022-1776160800-1776168000@www.kinderschutz.de
SUMMARY:Senior*innen Brunch
DESCRIPTION:Austausch\, Ausflüge und mehr für Senioren*innen und Ruheraum Suchende. Kontakt und INFO: senior-innen-netzwerk-freiham@kinderschutz.de
URL:https://www.kinderschutz.de/veranstaltung/seniorinnen-brunch-2/2026-04-14/
LOCATION:Nachbarschaftstreff Freiham I\, Ute-Strittmatter-Straße 30\, München\, Bayern\, 81248\, Germany
CATEGORIES:Freiham,Wochenprogramm
END:VEVENT
BEGIN:VEVENT
DTSTART;TZID=Europe/Berlin:20260414T100000
DTEND;TZID=Europe/Berlin:20260414T120000
DTSTAMP:20260422T114745
CREATED:20250930T122809Z
LAST-MODIFIED:20250930T122926Z
UID:10047954-1776160800-1776168000@www.kinderschutz.de
SUMMARY:Offenes Freispiel
DESCRIPTION:
URL:https://www.kinderschutz.de/veranstaltung/offenes-freispiel-5/2026-04-14/
LOCATION:HeideTreff Familienzentrum/ Familienstützpunkt\, Karl-Köglsperger-Straße 19\, München\, 80939
CATEGORIES:Freimann,Wochenprogramm
ATTACH;FMTTYPE=image/jpeg:https://www.kinderschutz.de/wp-content/uploads/2024/07/offenes-Freispiel.jpg
END:VEVENT
BEGIN:VEVENT
DTSTART;TZID=Europe/Berlin:20260414T100000
DTEND;TZID=Europe/Berlin:20260414T120000
DTSTAMP:20260422T114745
CREATED:20251011T101236Z
LAST-MODIFIED:20251011T105805Z
UID:10052172-1776160800-1776168000@www.kinderschutz.de
SUMMARY:Anlauf- und Vernetzungsstelle Inklusion Nachbarschaftstreff Freiham
DESCRIPTION:Die Anlauf- und Vernetzungsstelle Inklusion Freiham ist in ihrem Stadtviertel Ansprechstelle\, Impulsgeber und „Kümmerer“ für das Thema Inklusion. Die Anlaufstellen Inklusion LHM sind kombiniert mit einer niederschwelligen individuellen Beratung zu allen Alltagsfragen. \nWir stehen allen Stadtteilbewohner und Bewohnerinnen mit Erstberatung rund um Themen der Inklusion zur Verfügung.\nWir achten auf Barrierefreiheit und Inklusion im Stadtviertel und bringen unsere Beobachtungen in die REGSAM Facharbeitskreise und andere Gremien ein\, wie der Bezirksausschuss BA 22 und halten Kontakt mit den zentralen Institutionen (Behindertenbeirat LHM\, Städtische Beraterkreis LHM\, Koordinierungsbüro zur Umsetzung der UN-BRK).\nWir beraten Vereine\, Projekte\, Einrichtungen bei spezifischen Fragen oder Vermitteln sie an kompetente Stellen weiter\, damit die Stadtteile\, die aufgebauten Strukturen und die Angebote so gut angepasst sind\, dass alle Menschen bei den Angeboten mitmachen können.\nHier können Sie:\nandere Menschen mit Behinderung bzw. mit einer sichtbaren oder unsichtbaren Beeinträchtigung kennenlernen \nsich über unterschiedliche Themen informieren\,\nBedarfe melden\,\neigenes Wissen und Können anderen Menschen zur Verfügung stellen und so zur mehr Barrierefreiheit beitragen\nZum Flyer: Anlaufstelle Inklusion Freiham – Infoblatt2025 Anlauf- und Vernetzungsstelle Inklusion Freiham\nund REGSAM FAK Runder Tisch Inklusion im 22.StadtbezirkPatrycja Marek Tel: 089 2317 7901 I +4915153855216\nE-Mail: p.marek@kinderschutz.de Beratung nach Vereinbarung\nSprechstunde der Anlaufstelle AVI und Café Inklusion mit Terminvereinbarung Mobilitätsberatung:Denizay Selcuk Tel: 089 2317 7991 I +491756245590\nmittwochs 16-19 Uhr und nach Vereinbarung\nE-Mail: anlaufstelle-inklusion-freiham@kinderschutz.de
URL:https://www.kinderschutz.de/veranstaltung/anlauf-und-vernetzungsstelle-inklusion-nachbarschaftstreff-freiham-2-2/2026-04-14/
LOCATION:Anlauf- und Vernetzungsstelle Inklusion
CATEGORIES:Freiham,Wochenprogramm
ATTACH;FMTTYPE=image/png:https://www.kinderschutz.de/wp-content/uploads/2025/10/Anlaufstelle-Inklusion-Freiham-Infoblatt2025.png
END:VEVENT
BEGIN:VEVENT
DTSTART;TZID=Europe/Berlin:20260414T100000
DTEND;TZID=Europe/Berlin:20260414T130000
DTSTAMP:20260422T114745
CREATED:20260203T220156Z
LAST-MODIFIED:20260203T220312Z
UID:10054714-1776160800-1776171600@www.kinderschutz.de
SUMMARY:MotherSchools I Parenting for Piece: Trainingskurs für Frauen
DESCRIPTION:MotherSchools | Parenting for Peace ist ein international anerkanntes Präventionsprogramm\, das von Women without Borders entwickelt wurde. Es richtet sich an Mütter (und in der erweiterten Version auch an Väter) und unterstützt sie dabei\, ihre Erziehungsfähigkeiten zu stärken und eine sichere\, geborgene Umgebung für ihre Kinder zu schaffen. Der Kurs umfasst 10 Termine und vermittelt praxisnahe Methoden und Tipps\, darunter: \n\nSelbstvertrauen stärken: Eltern werden ermutigt\, ihre eigenen Fähigkeiten zu erkennen und zu nutzen. \n\n\nBeziehung zum Kind festigen: Strategien für eine liebevolle und stabile Bindung. \n\n\nKlar kommunizieren – auch mit Teenagern: Hilfen für klare\, respektvolle Kommunikation in allen Altersstufen. \n\n\nKinder sicher aufwachsen lassen: Förderung von Sicherheit\, Geborgenheit und emotionaler Stabilität. \n\nDas Programm kombiniert theoretisches Wissen mit praktischen Übungen\, Gruppenarbeit und Erfahrungsaustausch. Es unterstützt Eltern darin\, Konflikte konstruktiv zu lösen\, den Alltag stressfreier zu gestalten und eine positive familiäre Atmosphäre zu fördern. Ziel: Eltern zu befähigen\, ihre Kinder gesund\, sicher und selbstbewusst aufwachsen zu lassen – in einem Umfeld\, das Respekt\, Vertrauen und Frieden fördert. Anmeldung: Özge Könür | Mobil: 0157 580 444 22 | o.koenuer@smf-verband.deVeranstalter: Sozialdienst muslimischer Frauen Kempten e.V.
URL:https://www.kinderschutz.de/veranstaltung/motherschools-i-parenting-for-piece-trainingskurs-fuer-frauen-2/2026-04-14/
LOCATION:Nachbarschaftstreff Freiham II\, Aubinger Allee 16\, München\, Bayern\, 81248\, Germany
CATEGORIES:Freiham,Wochenprogramm
ATTACH;FMTTYPE=image/png:https://www.kinderschutz.de/wp-content/uploads/2025/12/Motherschools-Flyer2026.pdf.png
END:VEVENT
BEGIN:VEVENT
DTSTART;TZID=Europe/Berlin:20260414T103000
DTEND;TZID=Europe/Berlin:20260414T113000
DTSTAMP:20260422T114745
CREATED:20260220T131921Z
LAST-MODIFIED:20260220T131927Z
UID:10028391-1776162600-1776166200@www.kinderschutz.de
SUMMARY:Heide Sport (Fortgeschrittene)
DESCRIPTION:Offenes Bewegungsangebot für Frauen:\nDie Sportstunde richtet sich an alle Frauen*\, die durch begleitete Einheiten ihr gesundheitliches Wohlbefinden verbessern möchten. Im Anschluss an die Stunde kann man im Nachbarschaftstreff zusammenkommen und sich austauschen. Bei körperlichen Beschwerden\, bitte im Vorfeld einen Arzt oder eine Ärztin konsultieren. Dieses Treffangebot wird vom Bezirksausschuss 12 gefördert. Mit Anmeldung bei der Treffleitung\, Warteliste\n(Unkostenbeitrag 2€)    
URL:https://www.kinderschutz.de/veranstaltung/heide-sport-2/2026-04-14/
LOCATION:HeideTreff Nachbarschaftstreff\, Karl-Köglsperger-Straße 13\, München\, Bayern\, 80939\, Germany
CATEGORIES:Freimann,Wochenprogramm
ATTACH;FMTTYPE=image/jpeg:https://www.kinderschutz.de/wp-content/uploads/2025/01/Sport.jpg
END:VEVENT
BEGIN:VEVENT
DTSTART;TZID=Europe/Berlin:20260414T110000
DTEND;TZID=Europe/Berlin:20260414T120000
DTSTAMP:20260422T114745
CREATED:20250110T103235Z
LAST-MODIFIED:20250801T084053Z
UID:10031900-1776164400-1776168000@www.kinderschutz.de
SUMMARY:Sprechstunde Frühe Förderung
DESCRIPTION:Beratung für Eltern mit Kindern von 0-6 Jahren zu Angeboten der Frühen Förderung (Bildungs- und Freizeitangebote).\nBei Neslihan Bachlechner. Ohne Termin.
URL:https://www.kinderschutz.de/veranstaltung/sprechstunde-fruehe-foerderung/2026-04-14/
LOCATION:HeideTreff Familienzentrum/ Familienstützpunkt\, Karl-Köglsperger-Straße 19\, München\, 80939
CATEGORIES:Freimann,Wochenprogramm
ATTACH;FMTTYPE=image/jpeg:https://www.kinderschutz.de/wp-content/uploads/2025/01/Fruehe-Foerderung.jpg
END:VEVENT
BEGIN:VEVENT
DTSTART;TZID=Europe/Berlin:20260414T114500
DTEND;TZID=Europe/Berlin:20260414T124500
DTSTAMP:20260422T114745
CREATED:20260220T131647Z
LAST-MODIFIED:20260220T131705Z
UID:10032270-1776167100-1776170700@www.kinderschutz.de
SUMMARY:Heide Sport (Anfänger)
DESCRIPTION:Offenes Bewegungsangebot für Frauen:\nDie Sportstunde richtet sich an alle Frauen*\, die durch begleitete Einheiten ihr gesundheitliches Wohlbefinden verbessern möchten. Im Anschluss an die Stunde kann man im Nachbarschaftstreff zusammenkommen und sich austauschen. Bei körperlichen Beschwerden\, bitte im Vorfeld einen Arzt oder eine Ärztin konsultieren. Dieses Treffangebot wird vom Bezirksausschuss 12 gefördert. Mit Anmeldung bei der Treffleitung\, Warteliste\n(Unkostenbeitrag 2€)  
URL:https://www.kinderschutz.de/veranstaltung/heide-sport-anfaenger-2/2026-04-14/
LOCATION:HeideTreff Nachbarschaftstreff\, Karl-Köglsperger-Straße 13\, München\, Bayern\, 80939\, Germany
CATEGORIES:Freimann,Wochenprogramm
ATTACH;FMTTYPE=image/jpeg:https://www.kinderschutz.de/wp-content/uploads/2025/01/Sport.jpg
END:VEVENT
END:VCALENDAR