BEGIN:VCALENDAR
VERSION:2.0
PRODID:-//KINDERSCHUTZ MÜNCHEN - ECPv6.15.20//NONSGML v1.0//EN
CALSCALE:GREGORIAN
METHOD:PUBLISH
X-ORIGINAL-URL:https://www.kinderschutz.de
X-WR-CALDESC:Veranstaltungen für KINDERSCHUTZ MÜNCHEN
REFRESH-INTERVAL;VALUE=DURATION:PT1H
X-Robots-Tag:noindex
X-PUBLISHED-TTL:PT1H
BEGIN:VTIMEZONE
TZID:Europe/Berlin
BEGIN:DAYLIGHT
TZOFFSETFROM:+0100
TZOFFSETTO:+0200
TZNAME:CEST
DTSTART:20250330T010000
END:DAYLIGHT
BEGIN:STANDARD
TZOFFSETFROM:+0200
TZOFFSETTO:+0100
TZNAME:CET
DTSTART:20251026T010000
END:STANDARD
BEGIN:DAYLIGHT
TZOFFSETFROM:+0100
TZOFFSETTO:+0200
TZNAME:CEST
DTSTART:20260329T010000
END:DAYLIGHT
BEGIN:STANDARD
TZOFFSETFROM:+0200
TZOFFSETTO:+0100
TZNAME:CET
DTSTART:20261025T010000
END:STANDARD
BEGIN:DAYLIGHT
TZOFFSETFROM:+0100
TZOFFSETTO:+0200
TZNAME:CEST
DTSTART:20270328T010000
END:DAYLIGHT
BEGIN:STANDARD
TZOFFSETFROM:+0200
TZOFFSETTO:+0100
TZNAME:CET
DTSTART:20271031T010000
END:STANDARD
END:VTIMEZONE
BEGIN:VEVENT
DTSTART;TZID=Europe/Berlin:20260415T100000
DTEND;TZID=Europe/Berlin:20260415T113000
DTSTAMP:20260422T185238
CREATED:20260125T083403Z
LAST-MODIFIED:20260125T083403Z
UID:10060841-1776247200-1776252600@www.kinderschutz.de
SUMMARY:Conversacion libre Spanisch/Deutsch
DESCRIPTION:
URL:https://www.kinderschutz.de/veranstaltung/conversacion-libre-spanisch-deutsch/2026-04-15/
LOCATION:Bayern
CATEGORIES:Messestadt Riem,Wochenprogramm
END:VEVENT
BEGIN:VEVENT
DTSTART;TZID=Europe/Berlin:20260415T100000
DTEND;TZID=Europe/Berlin:20260415T130000
DTSTAMP:20260422T185238
CREATED:20240718T090132Z
LAST-MODIFIED:20250513T090019Z
UID:10021550-1776247200-1776258000@www.kinderschutz.de
SUMMARY:Frauen für Frauen Frühstück
DESCRIPTION:Gemeinsam frühstücken\, unterstützen und sich austauschen. Bei Interesse gerne im Treff melden
URL:https://www.kinderschutz.de/veranstaltung/frauen-fuer-frauen-fruehstueck/2026-04-15/
LOCATION:HeideTreff Nachbarschaftstreff\, Karl-Köglsperger-Straße 13\, München\, Bayern\, 80939\, Germany
CATEGORIES:Freimann,Wochenprogramm
ATTACH;FMTTYPE=image/jpeg:https://www.kinderschutz.de/wp-content/uploads/2025/01/Frauen-fuer-Frauen.jpg
END:VEVENT
BEGIN:VEVENT
DTSTART;TZID=Europe/Berlin:20260415T100000
DTEND;TZID=Europe/Berlin:20260415T130000
DTSTAMP:20260422T185238
CREATED:20260125T083216Z
LAST-MODIFIED:20260125T083216Z
UID:10060702-1776247200-1776258000@www.kinderschutz.de
SUMMARY:Café International
DESCRIPTION:
URL:https://www.kinderschutz.de/veranstaltung/cafe-international/2026-04-15/
LOCATION:Nachbarschaftstreff Heinrich trifft Böll
CATEGORIES:Messestadt Riem,Wochenprogramm
END:VEVENT
BEGIN:VEVENT
DTSTART;TZID=Europe/Berlin:20260415T140000
DTEND;TZID=Europe/Berlin:20260415T160000
DTSTAMP:20260422T185238
CREATED:20240715T205619Z
LAST-MODIFIED:20240715T205619Z
UID:10017288-1776261600-1776268800@www.kinderschutz.de
SUMMARY:Sprechstunde der Treffleitung
DESCRIPTION:
URL:https://www.kinderschutz.de/veranstaltung/sprechstunde-der-treffleitung-2/2026-04-15/
LOCATION:Nachbarschaftstreff Heinrich trifft Böll
CATEGORIES:Messestadt Riem,Wochenprogramm
END:VEVENT
BEGIN:VEVENT
DTSTART;TZID=Europe/Berlin:20260415T150000
DTEND;TZID=Europe/Berlin:20260415T163000
DTSTAMP:20260422T185238
CREATED:20240717T083515Z
LAST-MODIFIED:20250801T072150Z
UID:10018678-1776265200-1776270600@www.kinderschutz.de
SUMMARY:Elterncafé
DESCRIPTION:
URL:https://www.kinderschutz.de/veranstaltung/elterncafe-2/2026-04-15/
LOCATION:HeideTreff Familienzentrum/ Familienstützpunkt\, Karl-Köglsperger-Straße 19\, München\, 80939
CATEGORIES:Freimann,Wochenprogramm
ATTACH;FMTTYPE=image/jpeg:https://www.kinderschutz.de/wp-content/uploads/2024/08/Elterncafe.jpg
END:VEVENT
BEGIN:VEVENT
DTSTART;TZID=Europe/Berlin:20260415T153000
DTEND;TZID=Europe/Berlin:20260415T190000
DTSTAMP:20260422T185238
CREATED:20240715T202641Z
LAST-MODIFIED:20240715T202641Z
UID:10015340-1776267000-1776279600@www.kinderschutz.de
SUMMARY:Nachhilfe und Hausaufgabebetreuung
DESCRIPTION:
URL:https://www.kinderschutz.de/veranstaltung/nachhilfe-und-hausaufgabebetreuung/2026-04-15/
LOCATION:Nachbarschaftstreff Heinrich trifft Böll
CATEGORIES:Messestadt Riem,Wochenprogramm
END:VEVENT
BEGIN:VEVENT
DTSTART;TZID=Europe/Berlin:20260415T160000
DTEND;TZID=Europe/Berlin:20260415T180000
DTSTAMP:20260422T185239
CREATED:20240715T210205Z
LAST-MODIFIED:20240715T210205Z
UID:10017576-1776268800-1776276000@www.kinderschutz.de
SUMMARY:Kindermalen
DESCRIPTION:
URL:https://www.kinderschutz.de/veranstaltung/kindermalen/2026-04-15/
LOCATION:Nachbarschaftstreff Heinrich trifft Böll
END:VEVENT
BEGIN:VEVENT
DTSTART;TZID=Europe/Berlin:20260415T160000
DTEND;TZID=Europe/Berlin:20260415T180000
DTSTAMP:20260422T185239
CREATED:20260125T083625Z
LAST-MODIFIED:20260125T083625Z
UID:10060871-1776268800-1776276000@www.kinderschutz.de
SUMMARY:Malen mit Kindern
DESCRIPTION:
URL:https://www.kinderschutz.de/veranstaltung/malen-mit-kindern/2026-04-15/
LOCATION:Nachbarschaftstreff Heinrich trifft Böll
CATEGORIES:Messestadt Riem,Wochenprogramm
END:VEVENT
BEGIN:VEVENT
DTSTART;TZID=Europe/Berlin:20260415T163000
DTEND;TZID=Europe/Berlin:20260415T173000
DTSTAMP:20260422T185239
CREATED:20260125T103027Z
LAST-MODIFIED:20260125T103230Z
UID:10059151-1776270600-1776274200@www.kinderschutz.de
SUMMARY:Einzelberatung zu Alltagsfragen für Menschen mit Mobilitätseinschränkungen
DESCRIPTION:bitte vorab anmelden: anlaufstelle-inklusion-messestadt-riem@kinderschutz.de  n.edlinger@kinderschutz.de  
URL:https://www.kinderschutz.de/veranstaltung/einzelberatung-zu-alltagsfragen-fuer-menschen-mit-mobilitaetseinschraenkungen-3-2/2026-04-15/
LOCATION:GaleriaTreff Nachbarschaftstreff\, Lehrer-Wirth-Straße 21\, München\, Bayern\, 81829\, Germany
CATEGORIES:Messestadt Riem,Wochenprogramm
END:VEVENT
BEGIN:VEVENT
DTSTART;TZID=Europe/Berlin:20260415T163000
DTEND;TZID=Europe/Berlin:20260415T183000
DTSTAMP:20260422T185239
CREATED:20250325T193426Z
LAST-MODIFIED:20250325T193426Z
UID:10012310-1776270600-1776277800@www.kinderschutz.de
SUMMARY:Unterstützung bei Formularen
DESCRIPTION:Anmeldung:e.eisner@kinderschutz.de 
URL:https://www.kinderschutz.de/veranstaltung/unterstuetzung-bei-formularen-2/2026-04-15/
LOCATION:GaleriaTreff Nachbarschaftstreff\, Lehrer-Wirth-Straße 21\, München\, Bayern\, 81829\, Germany
CATEGORIES:Messestadt Riem,Wochenprogramm
END:VEVENT
BEGIN:VEVENT
DTSTART;TZID=Europe/Berlin:20260415T170000
DTEND;TZID=Europe/Berlin:20260415T190000
DTSTAMP:20260422T185239
CREATED:20251011T104226Z
LAST-MODIFIED:20251011T104705Z
UID:10052280-1776272400-1776279600@www.kinderschutz.de
SUMMARY:Café Inklusion im Nachbarschaftstreff Freiham (barrierefreier Zugang)
DESCRIPTION:Herzliche Einladung zum Café Inklusion im Nachbarschaftstreff Freiham! Wann?  Jeden Mittwoch von 17 bis 19 Uhr Wo? Nachbarschaftstreff Freiham  Ute-Strittmatter-Str. 16 81248 München (Bushaltestelle 57 Otto-Meitinger-Str. Was erwartet euch?Gemütliches Beisammensein\, nette Gespräche nicht nur über die Verbesserung der Barrierefreiheit im Freiham\, Kaffee\, Tee und kleine Leckereien – für alle Menschen\, mit und ohne Behinderung. Kommt vorbei\, lernt euch kennen und verbringt eine schöne Zeit miteinander! Wir freuen uns auf euch! zum Flyer: Cafe Inklusion Freiham 2025 Team Café Inklusion
URL:https://www.kinderschutz.de/veranstaltung/cafe-inklusion-im-nachbarschaftstreff-freiham-barrierefreie-zugang/2026-04-15/
LOCATION:Anlauf- und Vernetzungsstelle Inklusion
CATEGORIES:Freiham,Wochenprogramm
ATTACH;FMTTYPE=image/png:https://www.kinderschutz.de/wp-content/uploads/2025/10/Cafe-Inklusion-Freiham-2025.png
END:VEVENT
BEGIN:VEVENT
DTSTART;TZID=Europe/Berlin:20260415T173000
DTEND;TZID=Europe/Berlin:20260415T193000
DTSTAMP:20260422T185239
CREATED:20260125T073301Z
LAST-MODIFIED:20260125T073301Z
UID:10059201-1776274200-1776281400@www.kinderschutz.de
SUMMARY:Café Inklusion der Anlauf- und Vernetzungsstelle Inklusion Messestadt
DESCRIPTION:offener Treff für Menschen mit Mobilitätseinschränkungen\, ob jung oder alt: Kontakt: n.edlinger@kinderschutz.de\n\n\n 
URL:https://www.kinderschutz.de/veranstaltung/cafe-inklusion-der-anlauf-und-vernetzungsstelle-inklusion-messestadt/2026-04-15/
LOCATION:GaleriaTreff Nachbarschaftstreff\, Lehrer-Wirth-Straße 21\, München\, Bayern\, 81829\, Germany
CATEGORIES:Messestadt Riem,Wochenprogramm
END:VEVENT
BEGIN:VEVENT
DTSTART;TZID=Europe/Berlin:20260415T180000
DTEND;TZID=Europe/Berlin:20260415T190000
DTSTAMP:20260422T185239
CREATED:20251011T093559Z
LAST-MODIFIED:20251011T093559Z
UID:10049571-1776276000-1776279600@www.kinderschutz.de
SUMMARY:Mobilitätsberatung der Anlauf- und Vernetzungsstelle Inklusion Freiham
DESCRIPTION:Unserer Mobilitätsexperte Franz Sagerer gibt nach Anfrage kostenfreie Beratung zu Mobilitätshilfen: Rollatoren\, (Elektro-)Rollstühle\, (Elektro-)Mobile\, (Elektro-)Räder Orthesen\, Stöcke… Das Angebot findet während des Café Inklusion statt. Anmeldung ist erwünscht\, aber nicht notwendig. Nachbarschaftstreff Freiham1 I Anlauf- und Vernetzungsstelle Inklusion\nKontakt: Denizay Selcuk Tel. 089 231716 7991 I 0175 6245590\nanlaufstelle-inklusion-freiham@kinderschutz.de\nUte-Strittmatter-Str. 30 | 81248 München\nBUS 57 und 143 Haltestelle: Otto-Meitinger-Straße zum Flyer: MobilitätsberatungAVI
URL:https://www.kinderschutz.de/veranstaltung/mobilitaetsberatung-der-anlauf-und-vernetzungsstelle-inklusion-freiham-2/2026-04-15/
LOCATION:Anlauf- und Vernetzungsstelle Inklusion
CATEGORIES:Freiham,Wochenprogramm
ATTACH;FMTTYPE=image/png:https://www.kinderschutz.de/wp-content/uploads/2025/10/Mobilitaetsberatung.png
END:VEVENT
BEGIN:VEVENT
DTSTART;TZID=Europe/Berlin:20260416T080000
DTEND;TZID=Europe/Berlin:20260416T120000
DTSTAMP:20260422T185239
CREATED:20251220T210234Z
LAST-MODIFIED:20251220T210234Z
UID:10056870-1776326400-1776340800@www.kinderschutz.de
SUMMARY:RuF - Hilfe zur Selbsthilfe Rund um Formulare im Nachbarschaftstreff Freiham2 (1. und 3. Donnerstag im Monat)
DESCRIPTION:Flyer RuF Rund um Formulare 2025/2026 (um zum Flyer zu gelangen bitte das Angebot in vollem Fenster ansehen) RuF Hilfe zur Selbsthilfe Rund um Formulare ist ein Angebot der kostenfreien Erstberatung für Bewohner*innen aus den Stadtteilen des 22. Stadtbezirks:  Freiham\, Neuaubing\, Westkreuz\, Aubing\, Lohhausen\, Langwied. Unterstützung erhalten Sie von qualifizierten freiwillig engagierten Kulturdolmetscher*innen in den Sprachen: Deutsch\, Englisch\, Türkisch\, Bulgarisch\, Arabisch\, Französisch\, Farsi\, Dari\, Paschtu. Um Sie gut beraten zu können bitten wir um eine Terminvereinbarung telefonisch oder per Mail an  nbt-fh-formularservice@kinderschutz.de Zum Termin bitte mitbringen: den Antrag bzw. Brief oder Formular\, alle Dokumente und Kopien\, die Sie dafür brauchen\,  Ihre E-Mail-Adresse und Zugangspassworte\, ID-Nummer etc. Zum Flyer: RuF_NBT_Freiham_August2025 weitere Termine finden freitags im Nachbarschaftreff Freiham1
URL:https://www.kinderschutz.de/veranstaltung/ruf-hilfe-zur-selbsthilfe-rund-um-formulare-im-nachbarschaftstreff-freiham2-1-und-3-donnerstag-im-monat/2026-04-16/
LOCATION:Nachbarschaftstreff Freiham II\, Aubinger Allee 16\, München\, Bayern\, 81248\, Germany
CATEGORIES:Freiham,Wochenprogramm
END:VEVENT
BEGIN:VEVENT
DTSTART;TZID=Europe/Berlin:20260416T090000
DTEND;TZID=Europe/Berlin:20260416T113000
DTSTAMP:20260422T185239
CREATED:20240714T144412Z
LAST-MODIFIED:20240714T144447Z
UID:10012571-1776330000-1776339000@www.kinderschutz.de
SUMMARY:Nähcafé
DESCRIPTION:außer am 1. Donnerstag im Monat
URL:https://www.kinderschutz.de/veranstaltung/naehcafe/2026-04-16/
LOCATION:GaleriaTreff Nachbarschaftstreff\, Lehrer-Wirth-Straße 21\, München\, Bayern\, 81829\, Germany
CATEGORIES:Messestadt Riem,Wochenprogramm
END:VEVENT
BEGIN:VEVENT
DTSTART;TZID=Europe/Berlin:20260416T100000
DTEND;TZID=Europe/Berlin:20260416T113000
DTSTAMP:20260422T185239
CREATED:20240916T143818Z
LAST-MODIFIED:20250801T091940Z
UID:10025513-1776333600-1776339000@www.kinderschutz.de
SUMMARY:Baby Club
DESCRIPTION:
URL:https://www.kinderschutz.de/veranstaltung/baby-club/2026-04-16/
LOCATION:HeideTreff Familienzentrum/ Familienstützpunkt\, Karl-Köglsperger-Straße 19\, München\, 80939
CATEGORIES:Freimann,Wochenprogramm
ATTACH;FMTTYPE=image/jpeg:https://www.kinderschutz.de/wp-content/uploads/2024/09/Babyclub.jpg
END:VEVENT
BEGIN:VEVENT
DTSTART;TZID=Europe/Berlin:20260416T100000
DTEND;TZID=Europe/Berlin:20260416T120000
DTSTAMP:20260422T185239
CREATED:20240718T090329Z
LAST-MODIFIED:20240718T090329Z
UID:10021120-1776333600-1776340800@www.kinderschutz.de
SUMMARY:Anfragen zur Raumvermietung
DESCRIPTION:Kommt vorbei\, wenn den Nachbarschaftstreff für euren Kindergeburtstag oder kleine Feier mieten wollt.
URL:https://www.kinderschutz.de/veranstaltung/anfragen-zur-raumvermietung/2026-04-16/
LOCATION:HeideTreff Nachbarschaftstreff\, Karl-Köglsperger-Straße 13\, München\, Bayern\, 80939\, Germany
END:VEVENT
BEGIN:VEVENT
DTSTART;TZID=Europe/Berlin:20260416T100000
DTEND;TZID=Europe/Berlin:20260416T120000
DTSTAMP:20260422T185239
CREATED:20250322T203156Z
LAST-MODIFIED:20250322T203334Z
UID:10035143-1776333600-1776340800@www.kinderschutz.de
SUMMARY:Deutsch lernen  für den Alltag
DESCRIPTION:
URL:https://www.kinderschutz.de/veranstaltung/deutsch-lernen-fuer-den-alltag-2/2026-04-16/
LOCATION:Bayern
CATEGORIES:Freiham,Wochenprogramm
END:VEVENT
BEGIN:VEVENT
DTSTART;TZID=Europe/Berlin:20260416T100000
DTEND;TZID=Europe/Berlin:20260416T120000
DTSTAMP:20260422T185239
CREATED:20250322T203622Z
LAST-MODIFIED:20250322T203622Z
UID:10035442-1776333600-1776340800@www.kinderschutz.de
SUMMARY:Deutsch lernen  für den Alltag
DESCRIPTION:
URL:https://www.kinderschutz.de/veranstaltung/deutsch-lernen-fuer-den-alltag-3/2026-04-16/
LOCATION:Nachbarschaftstreff Freiham I\, Ute-Strittmatter-Straße 30\, München\, Bayern\, 81248\, Germany
CATEGORIES:Freiham,Wochenprogramm
END:VEVENT
BEGIN:VEVENT
DTSTART;TZID=Europe/Berlin:20260416T100000
DTEND;TZID=Europe/Berlin:20260416T120000
DTSTAMP:20260422T185239
CREATED:20251223T104735Z
LAST-MODIFIED:20251223T104735Z
UID:10057079-1776333600-1776340800@www.kinderschutz.de
SUMMARY:Mediation in Freiham: Kostenfreie Beratung bei Konflikten und Nachbarschaftsfragen
DESCRIPTION:In der offenen Sprechstunde bieten wir eine vertrauenswürdige\, professionelle und kostenfreie Beratung an.Das Angebot umfasst eine allgemeine Erstberatung\, Konfliktberatung sowie Unterstützung im Bereich Nachbarschaftshilfe. Die Beratung richtet sich an alle Personen\, die eine erste Orientierung\, Klärung von Konflikten oder Unterstützung bei nachbarschaftlichen Anliegen suchen. Alle Gespräche werden vertraulich behandelt. Zusätzlich sind Mediationstermine am Vormittag bzw. am Abend  an anderen Tagen nach vorheriger Vereinbarung möglich. Kontakt: Patrycja Marek M.A. Politologin\, Pädagogin\, zertifizierte Mediatorin Tel: 089 231716 7901 I +49 151 5385 5216  I mediation-freiham@kinderschutz.de zum Flyer: Konfliktberatung_Mediation NBT Freiham2026
URL:https://www.kinderschutz.de/veranstaltung/mediation-in-freiham-kostenfreie-beratung-bei-konflikten-und-nachbarschaftsfragen/2026-04-16/
LOCATION:Nachbarschaftstreff Freiham II\, Aubinger Allee 16\, München\, Bayern\, 81248\, Germany
CATEGORIES:Freiham,Wochenprogramm
ATTACH;FMTTYPE=image/png:https://www.kinderschutz.de/wp-content/uploads/2025/12/Konfliktberatung_Mediation-NBT-Freiham2026.png
END:VEVENT
BEGIN:VEVENT
DTSTART;TZID=Europe/Berlin:20260416T110000
DTEND;TZID=Europe/Berlin:20260416T123000
DTSTAMP:20260422T185239
CREATED:20260125T082903Z
LAST-MODIFIED:20260125T082903Z
UID:10060619-1776337200-1776342600@www.kinderschutz.de
SUMMARY:Formularunterstützung
DESCRIPTION:
URL:https://www.kinderschutz.de/veranstaltung/formularunterstuetzung/2026-04-16/
LOCATION:Nachbarschaftstreff Heinrich trifft Böll
CATEGORIES:Messestadt Riem,Wochenprogramm
END:VEVENT
BEGIN:VEVENT
DTSTART;TZID=Europe/Berlin:20260416T120000
DTEND;TZID=Europe/Berlin:20260416T140000
DTSTAMP:20260422T185239
CREATED:20241029T095729Z
LAST-MODIFIED:20251118T150216Z
UID:10029838-1776340800-1776348000@www.kinderschutz.de
SUMMARY:Sprechzeit zur Raumvermietung
DESCRIPTION:Komm vorbei\, schreib eine Mail oder ruf an\, wenn du einen Raum für deine private Feier (z.B. Kindergeburtstag\, max. 25 Personen\, inkl. Kinder) suchst.
URL:https://www.kinderschutz.de/veranstaltung/sprechzeiten-zur-raumvermietung/2026-04-16/
LOCATION:HeideTreff Nachbarschaftstreff\, Karl-Köglsperger-Straße 13\, München\, Bayern\, 80939\, Germany
CATEGORIES:Freimann,Wochenprogramm
ATTACH;FMTTYPE=image/jpeg:https://www.kinderschutz.de/wp-content/uploads/2025/01/Sprechstunde-Vermietung.jpg
END:VEVENT
BEGIN:VEVENT
DTSTART;TZID=Europe/Berlin:20260416T140000
DTEND;TZID=Europe/Berlin:20260416T160000
DTSTAMP:20260422T185239
CREATED:20240712T111448Z
LAST-MODIFIED:20250801T091820Z
UID:10004548-1776348000-1776355200@www.kinderschutz.de
SUMMARY:Offenes Freispiel
DESCRIPTION:
URL:https://www.kinderschutz.de/veranstaltung/offenes-freispiel-2/2026-04-16/
LOCATION:HeideTreff Familienzentrum/ Familienstützpunkt\, Karl-Köglsperger-Straße 19\, München\, 80939
CATEGORIES:Freimann,Wochenprogramm
ATTACH;FMTTYPE=image/jpeg:https://www.kinderschutz.de/wp-content/uploads/2024/07/offenes-Freispiel.jpg
END:VEVENT
BEGIN:VEVENT
DTSTART;TZID=Europe/Berlin:20260416T140000
DTEND;TZID=Europe/Berlin:20260416T160000
DTSTAMP:20260422T185239
CREATED:20250704T120237Z
LAST-MODIFIED:20250704T120238Z
UID:10042616-1776348000-1776355200@www.kinderschutz.de
SUMMARY:Mittagessen to go
DESCRIPTION:Mit Voranmeldung
URL:https://www.kinderschutz.de/veranstaltung/mittagessen-to-go-2/2026-04-16/
LOCATION:HeideTreff Nachbarschaftstreff\, Karl-Köglsperger-Straße 13\, München\, Bayern\, 80939\, Germany
CATEGORIES:Freimann,Wochenprogramm
ATTACH;FMTTYPE=image/jpeg:https://www.kinderschutz.de/wp-content/uploads/2025/01/Mittagessen.jpg
END:VEVENT
BEGIN:VEVENT
DTSTART;TZID=Europe/Berlin:20260416T150000
DTEND;TZID=Europe/Berlin:20260416T160000
DTSTAMP:20260422T185239
CREATED:20240712T112513Z
LAST-MODIFIED:20250801T094628Z
UID:10004815-1776351600-1776355200@www.kinderschutz.de
SUMMARY:Eltern-Kind-Turnen
DESCRIPTION:
URL:https://www.kinderschutz.de/veranstaltung/eltern-kind-turnen/2026-04-16/
LOCATION:HeideTreff Familienzentrum/ Familienstützpunkt\, Karl-Köglsperger-Straße 19\, München\, 80939
CATEGORIES:Freimann,Wochenprogramm
ATTACH;FMTTYPE=image/jpeg:https://www.kinderschutz.de/wp-content/uploads/2024/08/Kinderturnen.jpg
END:VEVENT
BEGIN:VEVENT
DTSTART;TZID=Europe/Berlin:20260416T150000
DTEND;TZID=Europe/Berlin:20260416T180000
DTSTAMP:20260422T185239
CREATED:20240718T091512Z
LAST-MODIFIED:20250507T161116Z
UID:10033080-1776351600-1776362400@www.kinderschutz.de
SUMMARY:Heide Lernwerkstatt
DESCRIPTION:feste Lerngruppe je Schuljahr (je 1 Stunde\, findet nicht statt in den Schulferien)
URL:https://www.kinderschutz.de/veranstaltung/heide-lernwerkstatt/2026-04-16/
LOCATION:HeideTreff Nachbarschaftstreff\, Karl-Köglsperger-Straße 13\, München\, Bayern\, 80939\, Germany
ATTACH;FMTTYPE=image/jpeg:https://www.kinderschutz.de/wp-content/uploads/2025/01/Lernwerkstatt.jpg
END:VEVENT
BEGIN:VEVENT
DTSTART;TZID=Europe/Berlin:20260416T153000
DTEND;TZID=Europe/Berlin:20260416T190000
DTSTAMP:20260422T185239
CREATED:20240715T202641Z
LAST-MODIFIED:20240715T202641Z
UID:10015341-1776353400-1776366000@www.kinderschutz.de
SUMMARY:Nachhilfe und Hausaufgabebetreuung
DESCRIPTION:
URL:https://www.kinderschutz.de/veranstaltung/nachhilfe-und-hausaufgabebetreuung/2026-04-16/
LOCATION:Nachbarschaftstreff Heinrich trifft Böll
CATEGORIES:Messestadt Riem,Wochenprogramm
END:VEVENT
BEGIN:VEVENT
DTSTART;TZID=Europe/Berlin:20260416T160000
DTEND;TZID=Europe/Berlin:20260416T173000
DTSTAMP:20260422T185239
CREATED:20250207T102814Z
LAST-MODIFIED:20250207T102815Z
UID:10033886-1776355200-1776360600@www.kinderschutz.de
SUMMARY:Bürosprechstunde Private Raumnutzung
DESCRIPTION:
URL:https://www.kinderschutz.de/veranstaltung/buerosprechstunde-private-raumnutzung-2/2026-04-16/
LOCATION:Nachbarschaftstreff Heinrich trifft Böll
CATEGORIES:Messestadt Riem,Wochenprogramm
END:VEVENT
BEGIN:VEVENT
DTSTART;TZID=Europe/Berlin:20260416T170000
DTEND;TZID=Europe/Berlin:20260416T180000
DTSTAMP:20260422T185239
CREATED:20260124T194040Z
LAST-MODIFIED:20260124T194040Z
UID:10058652-1776358800-1776362400@www.kinderschutz.de
SUMMARY:Sprechzeit für private Raumnutzung GaleriaTreff
DESCRIPTION:
URL:https://www.kinderschutz.de/veranstaltung/sprechzeit-fuer-private-raumnutzung-galeriatreff-2/2026-04-16/
LOCATION:GaleriaTreff Nachbarschaftstreff\, Lehrer-Wirth-Straße 21\, München\, Bayern\, 81829\, Germany
CATEGORIES:Kinderschutz Allgemein,Wochenprogramm
END:VEVENT
BEGIN:VEVENT
DTSTART;TZID=Europe/Berlin:20260416T173000
DTEND;TZID=Europe/Berlin:20260416T190000
DTSTAMP:20260422T185239
CREATED:20260208T110242Z
LAST-MODIFIED:20260208T110243Z
UID:10055071-1776360600-1776366000@www.kinderschutz.de
SUMMARY:Sprachtreff Deutsch Freiham (A1-B1 Niveau)
DESCRIPTION:Ein Kurs für Erwachsene ab A2-Niveau\, die ihre Deutschkenntnisse verbessern möchten.Der Treff bietet die Möglichkeit\, in lockerer und entspannter Atmosphäre zu üben\, den Wortschatz zu erweitern und die Sprachpraxis im Alltag zu trainieren.Gemeinsam lernen\, sprechen und sich austauschen – ideal\, um Sicherheit im Sprechen zu gewinnen und Kontakte zu anderen Lernenden zu knüpfen. Der Kurs ist kostenfrei und wird von von Referat Bildung und Sport LHM I Bildungslokal Freiham gefördert. Anmeldung: nachbarschaftstreff-freiham2@kinderschutz.de Zum Flyer: Sprachtreff Deutsch Freiham 2026
URL:https://www.kinderschutz.de/veranstaltung/sprachtreff-deutsch-a1-b1-niveau-2-2/2026-04-16/
LOCATION:Nachbarschaftstreff Freiham II\, Aubinger Allee 16\, München\, Bayern\, 81248\, Germany
CATEGORIES:Freiham,Wochenprogramm
ATTACH;FMTTYPE=image/png:https://www.kinderschutz.de/wp-content/uploads/2025/12/Sprachtreff-Deutsch-Freiham-2026-Instagram-Post-45-1.png
END:VEVENT
END:VCALENDAR