BEGIN:VCALENDAR
VERSION:2.0
PRODID:-//KINDERSCHUTZ MÜNCHEN - ECPv6.15.20//NONSGML v1.0//EN
CALSCALE:GREGORIAN
METHOD:PUBLISH
X-ORIGINAL-URL:https://www.kinderschutz.de
X-WR-CALDESC:Veranstaltungen für KINDERSCHUTZ MÜNCHEN
REFRESH-INTERVAL;VALUE=DURATION:PT1H
X-Robots-Tag:noindex
X-PUBLISHED-TTL:PT1H
BEGIN:VTIMEZONE
TZID:Europe/Berlin
BEGIN:DAYLIGHT
TZOFFSETFROM:+0100
TZOFFSETTO:+0200
TZNAME:CEST
DTSTART:20260329T010000
END:DAYLIGHT
BEGIN:STANDARD
TZOFFSETFROM:+0200
TZOFFSETTO:+0100
TZNAME:CET
DTSTART:20261025T010000
END:STANDARD
BEGIN:DAYLIGHT
TZOFFSETFROM:+0100
TZOFFSETTO:+0200
TZNAME:CEST
DTSTART:20270328T010000
END:DAYLIGHT
BEGIN:STANDARD
TZOFFSETFROM:+0200
TZOFFSETTO:+0100
TZNAME:CET
DTSTART:20271031T010000
END:STANDARD
BEGIN:DAYLIGHT
TZOFFSETFROM:+0100
TZOFFSETTO:+0200
TZNAME:CEST
DTSTART:20280326T010000
END:DAYLIGHT
BEGIN:STANDARD
TZOFFSETFROM:+0200
TZOFFSETTO:+0100
TZNAME:CET
DTSTART:20281029T010000
END:STANDARD
END:VTIMEZONE
BEGIN:VEVENT
DTSTART;TZID=Europe/Berlin:20270922T090000
DTEND;TZID=Europe/Berlin:20270922T120000
DTSTAMP:20260425T144522
CREATED:20240717T083413Z
LAST-MODIFIED:20250801T083358Z
UID:10018492-1821603600-1821614400@www.kinderschutz.de
SUMMARY:Kita-Finder Sprechstunde
DESCRIPTION:Anmeldung bei Marcela Drissi\nTel.: 0152 56 89 48 99
URL:https://www.kinderschutz.de/veranstaltung/kita-finder-sprechstunde/2027-09-22/
LOCATION:HeideTreff Familienzentrum/ Familienstützpunkt\, Karl-Köglsperger-Straße 19\, München\, 80939
CATEGORIES:Freimann,Wochenprogramm
ATTACH;FMTTYPE=image/jpeg:https://www.kinderschutz.de/wp-content/uploads/2024/08/Kita-finder.jpg
END:VEVENT
BEGIN:VEVENT
DTSTART;TZID=Europe/Berlin:20270922T100000
DTEND;TZID=Europe/Berlin:20270922T113000
DTSTAMP:20260425T144522
CREATED:20240703T182342Z
LAST-MODIFIED:20250801T072313Z
UID:10003330-1821607200-1821612600@www.kinderschutz.de
SUMMARY:Elterncafé
DESCRIPTION:
URL:https://www.kinderschutz.de/veranstaltung/elterncafe/2027-09-22/
LOCATION:HeideTreff Familienzentrum/ Familienstützpunkt\, Karl-Köglsperger-Straße 19\, München\, 80939
CATEGORIES:Freimann,Wochenprogramm
ATTACH;FMTTYPE=image/jpeg:https://www.kinderschutz.de/wp-content/uploads/2024/08/Elterncafe.jpg
END:VEVENT
BEGIN:VEVENT
DTSTART;TZID=Europe/Berlin:20270922T100000
DTEND;TZID=Europe/Berlin:20270922T130000
DTSTAMP:20260425T144522
CREATED:20240718T090132Z
LAST-MODIFIED:20250513T090019Z
UID:10021625-1821607200-1821618000@www.kinderschutz.de
SUMMARY:Frauen für Frauen Frühstück
DESCRIPTION:Gemeinsam frühstücken\, unterstützen und sich austauschen. Bei Interesse gerne im Treff melden
URL:https://www.kinderschutz.de/veranstaltung/frauen-fuer-frauen-fruehstueck/2027-09-22/
LOCATION:HeideTreff Nachbarschaftstreff\, Karl-Köglsperger-Straße 13\, München\, Bayern\, 80939\, Germany
CATEGORIES:Freimann,Wochenprogramm
ATTACH;FMTTYPE=image/jpeg:https://www.kinderschutz.de/wp-content/uploads/2025/01/Frauen-fuer-Frauen.jpg
END:VEVENT
BEGIN:VEVENT
DTSTART;TZID=Europe/Berlin:20270922T140000
DTEND;TZID=Europe/Berlin:20270922T160000
DTSTAMP:20260425T144522
CREATED:20240715T205619Z
LAST-MODIFIED:20240715T205619Z
UID:10017363-1821621600-1821628800@www.kinderschutz.de
SUMMARY:Sprechstunde der Treffleitung
DESCRIPTION:
URL:https://www.kinderschutz.de/veranstaltung/sprechstunde-der-treffleitung-2/2027-09-22/
LOCATION:Nachbarschaftstreff Heinrich trifft Böll
CATEGORIES:Messestadt Riem,Wochenprogramm
END:VEVENT
BEGIN:VEVENT
DTSTART;TZID=Europe/Berlin:20270922T150000
DTEND;TZID=Europe/Berlin:20270922T163000
DTSTAMP:20260425T144522
CREATED:20240717T083515Z
LAST-MODIFIED:20250801T072150Z
UID:10018753-1821625200-1821630600@www.kinderschutz.de
SUMMARY:Elterncafé
DESCRIPTION:
URL:https://www.kinderschutz.de/veranstaltung/elterncafe-2/2027-09-22/
LOCATION:HeideTreff Familienzentrum/ Familienstützpunkt\, Karl-Köglsperger-Straße 19\, München\, 80939
CATEGORIES:Freimann,Wochenprogramm
ATTACH;FMTTYPE=image/jpeg:https://www.kinderschutz.de/wp-content/uploads/2024/08/Elterncafe.jpg
END:VEVENT
BEGIN:VEVENT
DTSTART;TZID=Europe/Berlin:20270922T153000
DTEND;TZID=Europe/Berlin:20270922T190000
DTSTAMP:20260425T144522
CREATED:20240715T202641Z
LAST-MODIFIED:20240715T202641Z
UID:10015640-1821627000-1821639600@www.kinderschutz.de
SUMMARY:Nachhilfe und Hausaufgabebetreuung
DESCRIPTION:
URL:https://www.kinderschutz.de/veranstaltung/nachhilfe-und-hausaufgabebetreuung/2027-09-22/
LOCATION:Nachbarschaftstreff Heinrich trifft Böll
CATEGORIES:Messestadt Riem,Wochenprogramm
END:VEVENT
BEGIN:VEVENT
DTSTART;TZID=Europe/Berlin:20270922T160000
DTEND;TZID=Europe/Berlin:20270922T180000
DTSTAMP:20260425T144522
CREATED:20240715T210205Z
LAST-MODIFIED:20240715T210205Z
UID:10017651-1821628800-1821636000@www.kinderschutz.de
SUMMARY:Kindermalen
DESCRIPTION:
URL:https://www.kinderschutz.de/veranstaltung/kindermalen/2027-09-22/
LOCATION:Nachbarschaftstreff Heinrich trifft Böll
END:VEVENT
BEGIN:VEVENT
DTSTART;TZID=Europe/Berlin:20270922T163000
DTEND;TZID=Europe/Berlin:20270922T183000
DTSTAMP:20260425T144522
CREATED:20250325T193426Z
LAST-MODIFIED:20250325T193426Z
UID:10012385-1821630600-1821637800@www.kinderschutz.de
SUMMARY:Unterstützung bei Formularen
DESCRIPTION:Anmeldung:e.eisner@kinderschutz.de 
URL:https://www.kinderschutz.de/veranstaltung/unterstuetzung-bei-formularen-2/2027-09-22/
LOCATION:GaleriaTreff Nachbarschaftstreff\, Lehrer-Wirth-Straße 21\, München\, Bayern\, 81829\, Germany
CATEGORIES:Messestadt Riem,Wochenprogramm
END:VEVENT
BEGIN:VEVENT
DTSTART;TZID=Europe/Berlin:20270922T170000
DTEND;TZID=Europe/Berlin:20270922T190000
DTSTAMP:20260425T144522
CREATED:20251011T104226Z
LAST-MODIFIED:20251011T104705Z
UID:10052355-1821632400-1821639600@www.kinderschutz.de
SUMMARY:Café Inklusion im Nachbarschaftstreff Freiham (barrierefreier Zugang)
DESCRIPTION:Herzliche Einladung zum Café Inklusion im Nachbarschaftstreff Freiham! Wann?  Jeden Mittwoch von 17 bis 19 Uhr Wo? Nachbarschaftstreff Freiham  Ute-Strittmatter-Str. 16 81248 München (Bushaltestelle 57 Otto-Meitinger-Str. Was erwartet euch?Gemütliches Beisammensein\, nette Gespräche nicht nur über die Verbesserung der Barrierefreiheit im Freiham\, Kaffee\, Tee und kleine Leckereien – für alle Menschen\, mit und ohne Behinderung. Kommt vorbei\, lernt euch kennen und verbringt eine schöne Zeit miteinander! Wir freuen uns auf euch! zum Flyer: Cafe Inklusion Freiham 2025 Team Café Inklusion
URL:https://www.kinderschutz.de/veranstaltung/cafe-inklusion-im-nachbarschaftstreff-freiham-barrierefreie-zugang/2027-09-22/
LOCATION:Anlauf- und Vernetzungsstelle Inklusion
CATEGORIES:Freiham,Wochenprogramm
ATTACH;FMTTYPE=image/png:https://www.kinderschutz.de/wp-content/uploads/2025/10/Cafe-Inklusion-Freiham-2025.png
END:VEVENT
BEGIN:VEVENT
DTSTART;TZID=Europe/Berlin:20270922T180000
DTEND;TZID=Europe/Berlin:20270922T190000
DTSTAMP:20260425T144522
CREATED:20251011T093559Z
LAST-MODIFIED:20251011T093559Z
UID:10049646-1821636000-1821639600@www.kinderschutz.de
SUMMARY:Mobilitätsberatung der Anlauf- und Vernetzungsstelle Inklusion Freiham
DESCRIPTION:Unserer Mobilitätsexperte Franz Sagerer gibt nach Anfrage kostenfreie Beratung zu Mobilitätshilfen: Rollatoren\, (Elektro-)Rollstühle\, (Elektro-)Mobile\, (Elektro-)Räder Orthesen\, Stöcke… Das Angebot findet während des Café Inklusion statt. Anmeldung ist erwünscht\, aber nicht notwendig. Nachbarschaftstreff Freiham1 I Anlauf- und Vernetzungsstelle Inklusion\nKontakt: Denizay Selcuk Tel. 089 231716 7991 I 0175 6245590\nanlaufstelle-inklusion-freiham@kinderschutz.de\nUte-Strittmatter-Str. 30 | 81248 München\nBUS 57 und 143 Haltestelle: Otto-Meitinger-Straße zum Flyer: MobilitätsberatungAVI
URL:https://www.kinderschutz.de/veranstaltung/mobilitaetsberatung-der-anlauf-und-vernetzungsstelle-inklusion-freiham-2/2027-09-22/
LOCATION:Anlauf- und Vernetzungsstelle Inklusion
CATEGORIES:Freiham,Wochenprogramm
ATTACH;FMTTYPE=image/png:https://www.kinderschutz.de/wp-content/uploads/2025/10/Mobilitaetsberatung.png
END:VEVENT
BEGIN:VEVENT
DTSTART;TZID=Europe/Berlin:20270923T090000
DTEND;TZID=Europe/Berlin:20270923T113000
DTSTAMP:20260425T144522
CREATED:20240714T144412Z
LAST-MODIFIED:20240714T144447Z
UID:10012629-1821690000-1821699000@www.kinderschutz.de
SUMMARY:Nähcafé
DESCRIPTION:außer am 1. Donnerstag im Monat
URL:https://www.kinderschutz.de/veranstaltung/naehcafe/2027-09-23/
LOCATION:GaleriaTreff Nachbarschaftstreff\, Lehrer-Wirth-Straße 21\, München\, Bayern\, 81829\, Germany
CATEGORIES:Messestadt Riem,Wochenprogramm
END:VEVENT
BEGIN:VEVENT
DTSTART;TZID=Europe/Berlin:20270923T100000
DTEND;TZID=Europe/Berlin:20270923T113000
DTSTAMP:20260425T144522
CREATED:20240916T143818Z
LAST-MODIFIED:20250801T091940Z
UID:10025588-1821693600-1821699000@www.kinderschutz.de
SUMMARY:Baby Club
DESCRIPTION:
URL:https://www.kinderschutz.de/veranstaltung/baby-club/2027-09-23/
LOCATION:HeideTreff Familienzentrum/ Familienstützpunkt\, Karl-Köglsperger-Straße 19\, München\, 80939
CATEGORIES:Freimann,Wochenprogramm
ATTACH;FMTTYPE=image/jpeg:https://www.kinderschutz.de/wp-content/uploads/2024/09/Babyclub.jpg
END:VEVENT
BEGIN:VEVENT
DTSTART;TZID=Europe/Berlin:20270923T100000
DTEND;TZID=Europe/Berlin:20270923T120000
DTSTAMP:20260425T144522
CREATED:20240718T090329Z
LAST-MODIFIED:20240718T090329Z
UID:10021270-1821693600-1821700800@www.kinderschutz.de
SUMMARY:Anfragen zur Raumvermietung
DESCRIPTION:Kommt vorbei\, wenn den Nachbarschaftstreff für euren Kindergeburtstag oder kleine Feier mieten wollt.
URL:https://www.kinderschutz.de/veranstaltung/anfragen-zur-raumvermietung/2027-09-23/
LOCATION:HeideTreff Nachbarschaftstreff\, Karl-Köglsperger-Straße 13\, München\, Bayern\, 80939\, Germany
END:VEVENT
BEGIN:VEVENT
DTSTART;TZID=Europe/Berlin:20270923T100000
DTEND;TZID=Europe/Berlin:20270923T120000
DTSTAMP:20260425T144522
CREATED:20240916T145722Z
LAST-MODIFIED:20250801T113541Z
UID:10025777-1821693600-1821700800@www.kinderschutz.de
SUMMARY:e:du-Gruppentreffen
DESCRIPTION:Nur für e:du Familien. Weitere Infos zum e:du Spiel- und Lernprogramm für Kleinkinder im Heidetreff Familienzentrum/Familienstützpunkt.
URL:https://www.kinderschutz.de/veranstaltung/edu-gruppentreffen/2027-09-23/
LOCATION:HeideTreff Familienzentrum/ Familienstützpunkt\, Karl-Köglsperger-Straße 19\, München\, 80939
CATEGORIES:Freimann,Wochenprogramm
ATTACH;FMTTYPE=image/jpeg:https://www.kinderschutz.de/wp-content/uploads/2024/10/EDu.jpg
END:VEVENT
BEGIN:VEVENT
DTSTART;TZID=Europe/Berlin:20270923T100000
DTEND;TZID=Europe/Berlin:20270923T120000
DTSTAMP:20260425T144522
CREATED:20250322T203156Z
LAST-MODIFIED:20250322T203334Z
UID:10035218-1821693600-1821700800@www.kinderschutz.de
SUMMARY:Deutsch lernen  für den Alltag
DESCRIPTION:
URL:https://www.kinderschutz.de/veranstaltung/deutsch-lernen-fuer-den-alltag-2/2027-09-23/
LOCATION:Bayern
CATEGORIES:Freiham,Wochenprogramm
END:VEVENT
BEGIN:VEVENT
DTSTART;TZID=Europe/Berlin:20270923T100000
DTEND;TZID=Europe/Berlin:20270923T120000
DTSTAMP:20260425T144522
CREATED:20250322T203622Z
LAST-MODIFIED:20250322T203622Z
UID:10035517-1821693600-1821700800@www.kinderschutz.de
SUMMARY:Deutsch lernen  für den Alltag
DESCRIPTION:
URL:https://www.kinderschutz.de/veranstaltung/deutsch-lernen-fuer-den-alltag-3/2027-09-23/
LOCATION:Nachbarschaftstreff Freiham I\, Ute-Strittmatter-Straße 30\, München\, Bayern\, 81248\, Germany
CATEGORIES:Freiham,Wochenprogramm
END:VEVENT
BEGIN:VEVENT
DTSTART;TZID=Europe/Berlin:20270923T100000
DTEND;TZID=Europe/Berlin:20270923T120000
DTSTAMP:20260425T144522
CREATED:20251223T104735Z
LAST-MODIFIED:20251223T104735Z
UID:10057154-1821693600-1821700800@www.kinderschutz.de
SUMMARY:Mediation in Freiham: Kostenfreie Beratung bei Konflikten und Nachbarschaftsfragen
DESCRIPTION:In der offenen Sprechstunde bieten wir eine vertrauenswürdige\, professionelle und kostenfreie Beratung an.Das Angebot umfasst eine allgemeine Erstberatung\, Konfliktberatung sowie Unterstützung im Bereich Nachbarschaftshilfe. Die Beratung richtet sich an alle Personen\, die eine erste Orientierung\, Klärung von Konflikten oder Unterstützung bei nachbarschaftlichen Anliegen suchen. Alle Gespräche werden vertraulich behandelt. Zusätzlich sind Mediationstermine am Vormittag bzw. am Abend  an anderen Tagen nach vorheriger Vereinbarung möglich. Kontakt: Patrycja Marek M.A. Politologin\, Pädagogin\, zertifizierte Mediatorin Tel: 089 231716 7901 I +49 151 5385 5216  I mediation-freiham@kinderschutz.de zum Flyer: Konfliktberatung_Mediation NBT Freiham2026
URL:https://www.kinderschutz.de/veranstaltung/mediation-in-freiham-kostenfreie-beratung-bei-konflikten-und-nachbarschaftsfragen/2027-09-23/
LOCATION:Nachbarschaftstreff Freiham II\, Aubinger Allee 16\, München\, Bayern\, 81248\, Germany
CATEGORIES:Freiham,Wochenprogramm
ATTACH;FMTTYPE=image/png:https://www.kinderschutz.de/wp-content/uploads/2025/12/Konfliktberatung_Mediation-NBT-Freiham2026.png
END:VEVENT
BEGIN:VEVENT
DTSTART;TZID=Europe/Berlin:20270923T120000
DTEND;TZID=Europe/Berlin:20270923T140000
DTSTAMP:20260425T144522
CREATED:20241029T095729Z
LAST-MODIFIED:20251118T150216Z
UID:10029913-1821700800-1821708000@www.kinderschutz.de
SUMMARY:Sprechzeit zur Raumvermietung
DESCRIPTION:Komm vorbei\, schreib eine Mail oder ruf an\, wenn du einen Raum für deine private Feier (z.B. Kindergeburtstag\, max. 25 Personen\, inkl. Kinder) suchst.
URL:https://www.kinderschutz.de/veranstaltung/sprechzeiten-zur-raumvermietung/2027-09-23/
LOCATION:HeideTreff Nachbarschaftstreff\, Karl-Köglsperger-Straße 13\, München\, Bayern\, 80939\, Germany
CATEGORIES:Freimann,Wochenprogramm
ATTACH;FMTTYPE=image/jpeg:https://www.kinderschutz.de/wp-content/uploads/2025/01/Sprechstunde-Vermietung.jpg
END:VEVENT
BEGIN:VEVENT
DTSTART;TZID=Europe/Berlin:20270923T140000
DTEND;TZID=Europe/Berlin:20270923T160000
DTSTAMP:20260425T144522
CREATED:20240712T111448Z
LAST-MODIFIED:20250801T091820Z
UID:10004623-1821708000-1821715200@www.kinderschutz.de
SUMMARY:Offenes Freispiel
DESCRIPTION:
URL:https://www.kinderschutz.de/veranstaltung/offenes-freispiel-2/2027-09-23/
LOCATION:HeideTreff Familienzentrum/ Familienstützpunkt\, Karl-Köglsperger-Straße 19\, München\, 80939
CATEGORIES:Freimann,Wochenprogramm
ATTACH;FMTTYPE=image/jpeg:https://www.kinderschutz.de/wp-content/uploads/2024/07/offenes-Freispiel.jpg
END:VEVENT
BEGIN:VEVENT
DTSTART;TZID=Europe/Berlin:20270923T140000
DTEND;TZID=Europe/Berlin:20270923T160000
DTSTAMP:20260425T144522
CREATED:20250704T120237Z
LAST-MODIFIED:20250704T120238Z
UID:10042691-1821708000-1821715200@www.kinderschutz.de
SUMMARY:Mittagessen to go
DESCRIPTION:Mit Voranmeldung
URL:https://www.kinderschutz.de/veranstaltung/mittagessen-to-go-2/2027-09-23/
LOCATION:HeideTreff Nachbarschaftstreff\, Karl-Köglsperger-Straße 13\, München\, Bayern\, 80939\, Germany
CATEGORIES:Freimann,Wochenprogramm
ATTACH;FMTTYPE=image/jpeg:https://www.kinderschutz.de/wp-content/uploads/2025/01/Mittagessen.jpg
END:VEVENT
BEGIN:VEVENT
DTSTART;TZID=Europe/Berlin:20270923T150000
DTEND;TZID=Europe/Berlin:20270923T160000
DTSTAMP:20260425T144522
CREATED:20240712T112513Z
LAST-MODIFIED:20250801T094628Z
UID:10004890-1821711600-1821715200@www.kinderschutz.de
SUMMARY:Eltern-Kind-Turnen
DESCRIPTION:
URL:https://www.kinderschutz.de/veranstaltung/eltern-kind-turnen/2027-09-23/
LOCATION:HeideTreff Familienzentrum/ Familienstützpunkt\, Karl-Köglsperger-Straße 19\, München\, 80939
CATEGORIES:Freimann,Wochenprogramm
ATTACH;FMTTYPE=image/jpeg:https://www.kinderschutz.de/wp-content/uploads/2024/08/Kinderturnen.jpg
END:VEVENT
BEGIN:VEVENT
DTSTART;TZID=Europe/Berlin:20270923T150000
DTEND;TZID=Europe/Berlin:20270923T180000
DTSTAMP:20260425T144522
CREATED:20240718T091512Z
LAST-MODIFIED:20250507T161116Z
UID:10033155-1821711600-1821722400@www.kinderschutz.de
SUMMARY:Heide Lernwerkstatt
DESCRIPTION:feste Lerngruppe je Schuljahr (je 1 Stunde\, findet nicht statt in den Schulferien)
URL:https://www.kinderschutz.de/veranstaltung/heide-lernwerkstatt/2027-09-23/
LOCATION:HeideTreff Nachbarschaftstreff\, Karl-Köglsperger-Straße 13\, München\, Bayern\, 80939\, Germany
ATTACH;FMTTYPE=image/jpeg:https://www.kinderschutz.de/wp-content/uploads/2025/01/Lernwerkstatt.jpg
END:VEVENT
BEGIN:VEVENT
DTSTART;TZID=Europe/Berlin:20270923T153000
DTEND;TZID=Europe/Berlin:20270923T190000
DTSTAMP:20260425T144522
CREATED:20240715T202641Z
LAST-MODIFIED:20240715T202641Z
UID:10015641-1821713400-1821726000@www.kinderschutz.de
SUMMARY:Nachhilfe und Hausaufgabebetreuung
DESCRIPTION:
URL:https://www.kinderschutz.de/veranstaltung/nachhilfe-und-hausaufgabebetreuung/2027-09-23/
LOCATION:Nachbarschaftstreff Heinrich trifft Böll
CATEGORIES:Messestadt Riem,Wochenprogramm
END:VEVENT
BEGIN:VEVENT
DTSTART;TZID=Europe/Berlin:20270923T160000
DTEND;TZID=Europe/Berlin:20270923T173000
DTSTAMP:20260425T144522
CREATED:20250207T102814Z
LAST-MODIFIED:20250207T102815Z
UID:10033961-1821715200-1821720600@www.kinderschutz.de
SUMMARY:Bürosprechstunde Private Raumnutzung
DESCRIPTION:
URL:https://www.kinderschutz.de/veranstaltung/buerosprechstunde-private-raumnutzung-2/2027-09-23/
LOCATION:Nachbarschaftstreff Heinrich trifft Böll
CATEGORIES:Messestadt Riem,Wochenprogramm
END:VEVENT
BEGIN:VEVENT
DTSTART;TZID=Europe/Berlin:20270924T090000
DTEND;TZID=Europe/Berlin:20270924T140000
DTSTAMP:20260425T144522
CREATED:20240714T145225Z
LAST-MODIFIED:20240714T152502Z
UID:10014803-1821776400-1821794400@www.kinderschutz.de
SUMMARY:Türkische Frauengruppe der Messestadt West
DESCRIPTION:
URL:https://www.kinderschutz.de/veranstaltung/tuerkische-frauengruppe-der-messestadt-west/2027-09-24/
LOCATION:GaleriaTreff Nachbarschaftstreff\, Lehrer-Wirth-Straße 21\, München\, Bayern\, 81829\, Germany
CATEGORIES:Messestadt Riem,Wochenprogramm
END:VEVENT
BEGIN:VEVENT
DTSTART;TZID=Europe/Berlin:20270924T093000
DTEND;TZID=Europe/Berlin:20270924T123000
DTSTAMP:20260425T144522
CREATED:20240718T092417Z
LAST-MODIFIED:20250507T161320Z
UID:10023977-1821778200-1821789000@www.kinderschutz.de
SUMMARY:Heide Nähstube
DESCRIPTION:Nähen (Anfänger/Fortgeschrittene)\nKommt vorbei zum gemeinsamen Nähen\, wir freuen uns auf euch. Mit Voranmeldung Weitere Infos für Teilnehmerinnen hier Weitere Infos für Fachkräfte hier  
URL:https://www.kinderschutz.de/veranstaltung/heide-naehstube-2/2027-09-24/
LOCATION:HeideTreff Nachbarschaftstreff\, Karl-Köglsperger-Straße 13\, München\, Bayern\, 80939\, Germany
CATEGORIES:Freimann,Wochenprogramm
ATTACH;FMTTYPE=image/jpeg:https://www.kinderschutz.de/wp-content/uploads/2025/01/Naehen-1.jpg
END:VEVENT
BEGIN:VEVENT
DTSTART;TZID=Europe/Berlin:20270924T100000
DTEND;TZID=Europe/Berlin:20270924T113000
DTSTAMP:20260425T144522
CREATED:20250527T123817Z
LAST-MODIFIED:20250801T092047Z
UID:10041860-1821780000-1821785400@www.kinderschutz.de
SUMMARY:Elterntalk
DESCRIPTION:bringt Eltern ins Gespräch
URL:https://www.kinderschutz.de/veranstaltung/elterntalk-2/2027-09-24/
LOCATION:HeideTreff Familienzentrum/ Familienstützpunkt\, Karl-Köglsperger-Straße 19\, München\, 80939
CATEGORIES:Freimann,Wochenprogramm
ATTACH;FMTTYPE=image/jpeg:https://www.kinderschutz.de/wp-content/uploads/2025/01/Fruehe-Foerderung.jpg
END:VEVENT
BEGIN:VEVENT
DTSTART;TZID=Europe/Berlin:20270924T100000
DTEND;TZID=Europe/Berlin:20270924T120000
DTSTAMP:20260425T144522
CREATED:20240718T091920Z
LAST-MODIFIED:20250131T125143Z
UID:10022411-1821780000-1821787200@www.kinderschutz.de
SUMMARY:Offene Sprechstunde Treffleitung
DESCRIPTION:Ihr habt ein Anliegen\, wollt an einer Gruppe teilnehmen oder im Nachbarschaftstreff aktiv werden? Kommt vorbei\, die Treffleitung Alexandra Falter hat ein offenes Ohr für euch. Termine nach telefonischer/persönlicher Absprache zu einem anderen Zeitpunkt sind selbstverständlich auch möglich.  
URL:https://www.kinderschutz.de/veranstaltung/offene-sprechstunde-treffleitung/2027-09-24/
LOCATION:HeideTreff Nachbarschaftstreff\, Karl-Köglsperger-Straße 13\, München\, Bayern\, 80939\, Germany
CATEGORIES:Freimann,Wochenprogramm
ATTACH;FMTTYPE=image/jpeg:https://www.kinderschutz.de/wp-content/uploads/2025/01/Sprechstunde.jpg
END:VEVENT
BEGIN:VEVENT
DTSTART;TZID=Europe/Berlin:20270924T100000
DTEND;TZID=Europe/Berlin:20270924T120000
DTSTAMP:20260425T144522
CREATED:20250323T100125Z
LAST-MODIFIED:20250323T100125Z
UID:10036954-1821780000-1821787200@www.kinderschutz.de
SUMMARY:FiBiuS  Internationaler Frauentreff
DESCRIPTION:
URL:https://www.kinderschutz.de/veranstaltung/fibius-internationaler-frauentreff-3/2027-09-24/
LOCATION:Nachbarschaftstreff Freiham I\, Ute-Strittmatter-Straße 30\, München\, Bayern\, 81248\, Germany
CATEGORIES:Freiham,Wochenprogramm
END:VEVENT
BEGIN:VEVENT
DTSTART;TZID=Europe/Berlin:20270924T110000
DTEND;TZID=Europe/Berlin:20270924T130000
DTSTAMP:20260425T144522
CREATED:20250930T121940Z
LAST-MODIFIED:20250930T121942Z
UID:10047491-1821783600-1821790800@www.kinderschutz.de
SUMMARY:Gemeinsam kochen und essen
DESCRIPTION:Mit Kinderbetreuung
URL:https://www.kinderschutz.de/veranstaltung/gemeinsam-kochen-und-essen-2-2-2/2027-09-24/
LOCATION:HeideTreff Familienzentrum/ Familienstützpunkt\, Karl-Köglsperger-Straße 19\, München\, 80939
CATEGORIES:Freimann,Wochenprogramm
ATTACH;FMTTYPE=image/jpeg:https://www.kinderschutz.de/wp-content/uploads/2024/10/Kochen.jpg
END:VEVENT
END:VCALENDAR