BEGIN:VCALENDAR
VERSION:2.0
PRODID:-//KINDERSCHUTZ MÜNCHEN - ECPv6.15.20//NONSGML v1.0//EN
CALSCALE:GREGORIAN
METHOD:PUBLISH
X-ORIGINAL-URL:https://www.kinderschutz.de
X-WR-CALDESC:Veranstaltungen für KINDERSCHUTZ MÜNCHEN
REFRESH-INTERVAL;VALUE=DURATION:PT1H
X-Robots-Tag:noindex
X-PUBLISHED-TTL:PT1H
BEGIN:VTIMEZONE
TZID:Europe/Berlin
BEGIN:DAYLIGHT
TZOFFSETFROM:+0100
TZOFFSETTO:+0200
TZNAME:CEST
DTSTART:20260329T010000
END:DAYLIGHT
BEGIN:STANDARD
TZOFFSETFROM:+0200
TZOFFSETTO:+0100
TZNAME:CET
DTSTART:20261025T010000
END:STANDARD
BEGIN:DAYLIGHT
TZOFFSETFROM:+0100
TZOFFSETTO:+0200
TZNAME:CEST
DTSTART:20270328T010000
END:DAYLIGHT
BEGIN:STANDARD
TZOFFSETFROM:+0200
TZOFFSETTO:+0100
TZNAME:CET
DTSTART:20271031T010000
END:STANDARD
BEGIN:DAYLIGHT
TZOFFSETFROM:+0100
TZOFFSETTO:+0200
TZNAME:CEST
DTSTART:20280326T010000
END:DAYLIGHT
BEGIN:STANDARD
TZOFFSETFROM:+0200
TZOFFSETTO:+0100
TZNAME:CET
DTSTART:20281029T010000
END:STANDARD
END:VTIMEZONE
BEGIN:VEVENT
DTSTART;TZID=Europe/Berlin:20270930T090000
DTEND;TZID=Europe/Berlin:20270930T113000
DTSTAMP:20260420T180815
CREATED:20240714T144412Z
LAST-MODIFIED:20240714T144447Z
UID:10012630-1822294800-1822303800@www.kinderschutz.de
SUMMARY:Nähcafé
DESCRIPTION:außer am 1. Donnerstag im Monat
URL:https://www.kinderschutz.de/veranstaltung/naehcafe/2027-09-30/
LOCATION:GaleriaTreff Nachbarschaftstreff\, Lehrer-Wirth-Straße 21\, München\, Bayern\, 81829\, Germany
CATEGORIES:Messestadt Riem,Wochenprogramm
END:VEVENT
BEGIN:VEVENT
DTSTART;TZID=Europe/Berlin:20270929T180000
DTEND;TZID=Europe/Berlin:20270929T190000
DTSTAMP:20260420T180815
CREATED:20251011T093559Z
LAST-MODIFIED:20251011T093559Z
UID:10049647-1822240800-1822244400@www.kinderschutz.de
SUMMARY:Mobilitätsberatung der Anlauf- und Vernetzungsstelle Inklusion Freiham
DESCRIPTION:Unserer Mobilitätsexperte Franz Sagerer gibt nach Anfrage kostenfreie Beratung zu Mobilitätshilfen: Rollatoren\, (Elektro-)Rollstühle\, (Elektro-)Mobile\, (Elektro-)Räder Orthesen\, Stöcke… Das Angebot findet während des Café Inklusion statt. Anmeldung ist erwünscht\, aber nicht notwendig. Nachbarschaftstreff Freiham1 I Anlauf- und Vernetzungsstelle Inklusion\nKontakt: Denizay Selcuk Tel. 089 231716 7991 I 0175 6245590\nanlaufstelle-inklusion-freiham@kinderschutz.de\nUte-Strittmatter-Str. 30 | 81248 München\nBUS 57 und 143 Haltestelle: Otto-Meitinger-Straße zum Flyer: MobilitätsberatungAVI
URL:https://www.kinderschutz.de/veranstaltung/mobilitaetsberatung-der-anlauf-und-vernetzungsstelle-inklusion-freiham-2/2027-09-29/
LOCATION:Anlauf- und Vernetzungsstelle Inklusion
CATEGORIES:Freiham,Wochenprogramm
ATTACH;FMTTYPE=image/png:https://www.kinderschutz.de/wp-content/uploads/2025/10/Mobilitaetsberatung.png
END:VEVENT
BEGIN:VEVENT
DTSTART;TZID=Europe/Berlin:20270929T170000
DTEND;TZID=Europe/Berlin:20270929T190000
DTSTAMP:20260420T180815
CREATED:20251011T104226Z
LAST-MODIFIED:20251011T104705Z
UID:10052356-1822237200-1822244400@www.kinderschutz.de
SUMMARY:Café Inklusion im Nachbarschaftstreff Freiham (barrierefreier Zugang)
DESCRIPTION:Herzliche Einladung zum Café Inklusion im Nachbarschaftstreff Freiham! Wann?  Jeden Mittwoch von 17 bis 19 Uhr Wo? Nachbarschaftstreff Freiham  Ute-Strittmatter-Str. 16 81248 München (Bushaltestelle 57 Otto-Meitinger-Str. Was erwartet euch?Gemütliches Beisammensein\, nette Gespräche nicht nur über die Verbesserung der Barrierefreiheit im Freiham\, Kaffee\, Tee und kleine Leckereien – für alle Menschen\, mit und ohne Behinderung. Kommt vorbei\, lernt euch kennen und verbringt eine schöne Zeit miteinander! Wir freuen uns auf euch! zum Flyer: Cafe Inklusion Freiham 2025 Team Café Inklusion
URL:https://www.kinderschutz.de/veranstaltung/cafe-inklusion-im-nachbarschaftstreff-freiham-barrierefreie-zugang/2027-09-29/
LOCATION:Anlauf- und Vernetzungsstelle Inklusion
CATEGORIES:Freiham,Wochenprogramm
ATTACH;FMTTYPE=image/png:https://www.kinderschutz.de/wp-content/uploads/2025/10/Cafe-Inklusion-Freiham-2025.png
END:VEVENT
BEGIN:VEVENT
DTSTART;TZID=Europe/Berlin:20270929T163000
DTEND;TZID=Europe/Berlin:20270929T183000
DTSTAMP:20260420T180815
CREATED:20250325T193426Z
LAST-MODIFIED:20250325T193426Z
UID:10012386-1822235400-1822242600@www.kinderschutz.de
SUMMARY:Unterstützung bei Formularen
DESCRIPTION:Anmeldung:e.eisner@kinderschutz.de 
URL:https://www.kinderschutz.de/veranstaltung/unterstuetzung-bei-formularen-2/2027-09-29/
LOCATION:GaleriaTreff Nachbarschaftstreff\, Lehrer-Wirth-Straße 21\, München\, Bayern\, 81829\, Germany
CATEGORIES:Messestadt Riem,Wochenprogramm
END:VEVENT
BEGIN:VEVENT
DTSTART;TZID=Europe/Berlin:20270929T160000
DTEND;TZID=Europe/Berlin:20270929T180000
DTSTAMP:20260420T180815
CREATED:20240715T210205Z
LAST-MODIFIED:20240715T210205Z
UID:10017652-1822233600-1822240800@www.kinderschutz.de
SUMMARY:Kindermalen
DESCRIPTION:
URL:https://www.kinderschutz.de/veranstaltung/kindermalen/2027-09-29/
LOCATION:Nachbarschaftstreff Heinrich trifft Böll
END:VEVENT
BEGIN:VEVENT
DTSTART;TZID=Europe/Berlin:20270929T153000
DTEND;TZID=Europe/Berlin:20270929T190000
DTSTAMP:20260420T180816
CREATED:20240715T202641Z
LAST-MODIFIED:20240715T202641Z
UID:10015644-1822231800-1822244400@www.kinderschutz.de
SUMMARY:Nachhilfe und Hausaufgabebetreuung
DESCRIPTION:
URL:https://www.kinderschutz.de/veranstaltung/nachhilfe-und-hausaufgabebetreuung/2027-09-29/
LOCATION:Nachbarschaftstreff Heinrich trifft Böll
CATEGORIES:Messestadt Riem,Wochenprogramm
END:VEVENT
BEGIN:VEVENT
DTSTART;TZID=Europe/Berlin:20270929T150000
DTEND;TZID=Europe/Berlin:20270929T163000
DTSTAMP:20260420T180816
CREATED:20240717T083515Z
LAST-MODIFIED:20250801T072150Z
UID:10018754-1822230000-1822235400@www.kinderschutz.de
SUMMARY:Elterncafé
DESCRIPTION:
URL:https://www.kinderschutz.de/veranstaltung/elterncafe-2/2027-09-29/
LOCATION:HeideTreff Familienzentrum/ Familienstützpunkt\, Karl-Köglsperger-Straße 19\, München\, 80939
CATEGORIES:Freimann,Wochenprogramm
ATTACH;FMTTYPE=image/jpeg:https://www.kinderschutz.de/wp-content/uploads/2024/08/Elterncafe.jpg
END:VEVENT
BEGIN:VEVENT
DTSTART;TZID=Europe/Berlin:20270929T140000
DTEND;TZID=Europe/Berlin:20270929T160000
DTSTAMP:20260420T180816
CREATED:20240715T205619Z
LAST-MODIFIED:20240715T205619Z
UID:10017364-1822226400-1822233600@www.kinderschutz.de
SUMMARY:Sprechstunde der Treffleitung
DESCRIPTION:
URL:https://www.kinderschutz.de/veranstaltung/sprechstunde-der-treffleitung-2/2027-09-29/
LOCATION:Nachbarschaftstreff Heinrich trifft Böll
CATEGORIES:Messestadt Riem,Wochenprogramm
END:VEVENT
BEGIN:VEVENT
DTSTART;TZID=Europe/Berlin:20270929T100000
DTEND;TZID=Europe/Berlin:20270929T130000
DTSTAMP:20260420T180816
CREATED:20260125T083216Z
LAST-MODIFIED:20260125T083216Z
UID:10060740-1822212000-1822222800@www.kinderschutz.de
SUMMARY:Café International
DESCRIPTION:
URL:https://www.kinderschutz.de/veranstaltung/cafe-international/2027-09-29/
LOCATION:Nachbarschaftstreff Heinrich trifft Böll
CATEGORIES:Messestadt Riem,Wochenprogramm
END:VEVENT
BEGIN:VEVENT
DTSTART;TZID=Europe/Berlin:20270929T100000
DTEND;TZID=Europe/Berlin:20270929T130000
DTSTAMP:20260420T180816
CREATED:20240718T090132Z
LAST-MODIFIED:20250513T090019Z
UID:10021626-1822212000-1822222800@www.kinderschutz.de
SUMMARY:Frauen für Frauen Frühstück
DESCRIPTION:Gemeinsam frühstücken\, unterstützen und sich austauschen. Bei Interesse gerne im Treff melden
URL:https://www.kinderschutz.de/veranstaltung/frauen-fuer-frauen-fruehstueck/2027-09-29/
LOCATION:HeideTreff Nachbarschaftstreff\, Karl-Köglsperger-Straße 13\, München\, Bayern\, 80939\, Germany
CATEGORIES:Freimann,Wochenprogramm
ATTACH;FMTTYPE=image/jpeg:https://www.kinderschutz.de/wp-content/uploads/2025/01/Frauen-fuer-Frauen.jpg
END:VEVENT
BEGIN:VEVENT
DTSTART;TZID=Europe/Berlin:20270929T100000
DTEND;TZID=Europe/Berlin:20270929T113000
DTSTAMP:20260420T180816
CREATED:20240703T182342Z
LAST-MODIFIED:20250801T072313Z
UID:10003331-1822212000-1822217400@www.kinderschutz.de
SUMMARY:Elterncafé
DESCRIPTION:
URL:https://www.kinderschutz.de/veranstaltung/elterncafe/2027-09-29/
LOCATION:HeideTreff Familienzentrum/ Familienstützpunkt\, Karl-Köglsperger-Straße 19\, München\, 80939
CATEGORIES:Freimann,Wochenprogramm
ATTACH;FMTTYPE=image/jpeg:https://www.kinderschutz.de/wp-content/uploads/2024/08/Elterncafe.jpg
END:VEVENT
BEGIN:VEVENT
DTSTART;TZID=Europe/Berlin:20270929T090000
DTEND;TZID=Europe/Berlin:20270929T120000
DTSTAMP:20260420T180816
CREATED:20240717T083413Z
LAST-MODIFIED:20250801T083358Z
UID:10018493-1822208400-1822219200@www.kinderschutz.de
SUMMARY:Kita-Finder Sprechstunde
DESCRIPTION:Anmeldung bei Marcela Drissi\nTel.: 0152 56 89 48 99
URL:https://www.kinderschutz.de/veranstaltung/kita-finder-sprechstunde/2027-09-29/
LOCATION:HeideTreff Familienzentrum/ Familienstützpunkt\, Karl-Köglsperger-Straße 19\, München\, 80939
CATEGORIES:Freimann,Wochenprogramm
ATTACH;FMTTYPE=image/jpeg:https://www.kinderschutz.de/wp-content/uploads/2024/08/Kita-finder.jpg
END:VEVENT
BEGIN:VEVENT
DTSTART;TZID=Europe/Berlin:20270929T090000
DTEND;TZID=Europe/Berlin:20270929T113000
DTSTAMP:20260420T180816
CREATED:20250930T124643Z
LAST-MODIFIED:20250930T124720Z
UID:10048403-1822208400-1822217400@www.kinderschutz.de
SUMMARY:Spielgruppe (mit Anmeldung)
DESCRIPTION:nur mit Anmeldung
URL:https://www.kinderschutz.de/veranstaltung/spielgruppe-2-2/2027-09-29/
LOCATION:HeideTreff Familienzentrum/ Familienstützpunkt\, Karl-Köglsperger-Straße 19\, München\, 80939
CATEGORIES:Freimann,Wochenprogramm
ATTACH;FMTTYPE=image/jpeg:https://www.kinderschutz.de/wp-content/uploads/2024/07/Spielgruppe.jpg
END:VEVENT
BEGIN:VEVENT
DTSTART;TZID=Europe/Berlin:20270929T090000
DTEND;TZID=Europe/Berlin:20270929T100000
DTSTAMP:20260420T180816
CREATED:20250704T120329Z
LAST-MODIFIED:20251027T133106Z
UID:10053148-1822208400-1822212000@www.kinderschutz.de
SUMMARY:Tritt und Fit in der Heide
DESCRIPTION:Gemeinsames Walken im Kieferngarten (Mit Voranmeldung)
URL:https://www.kinderschutz.de/veranstaltung/tritt-und-fit-in-der-heide-2/2027-09-29/
LOCATION:HeideTreff Nachbarschaftstreff\, Karl-Köglsperger-Straße 13\, München\, Bayern\, 80939\, Germany
CATEGORIES:Freimann,Wochenprogramm
ATTACH;FMTTYPE=image/jpeg:https://www.kinderschutz.de/wp-content/uploads/2025/05/Walking.jpg
END:VEVENT
BEGIN:VEVENT
DTSTART;TZID=Europe/Berlin:20270928T200000
DTEND;TZID=Europe/Berlin:20270928T210000
DTSTAMP:20260420T180816
CREATED:20250323T100932Z
LAST-MODIFIED:20250323T100932Z
UID:10037253-1822161600-1822165200@www.kinderschutz.de
SUMMARY:Pilates für Frauen:  Bewegungsangebot für türkische Community
DESCRIPTION:
URL:https://www.kinderschutz.de/veranstaltung/pilates-fuer-frauen-bewegungsangebot-fuer-tuerkische-community/2027-09-28/
LOCATION:Nachbarschaftstreff Freiham I\, Ute-Strittmatter-Straße 30\, München\, Bayern\, 81248\, Germany
CATEGORIES:Freiham,Wochenprogramm
END:VEVENT
BEGIN:VEVENT
DTSTART;TZID=Europe/Berlin:20270928T180000
DTEND;TZID=Europe/Berlin:20270928T193000
DTSTAMP:20260420T180816
CREATED:20250324T154755Z
LAST-MODIFIED:20250324T154755Z
UID:10036541-1822154400-1822159800@www.kinderschutz.de
SUMMARY:Yoga for Women
DESCRIPTION:Infos und Anmeldung (Registration) bitte per Email an:\nAndrea | andrea@hallo-yoga-freiham.de\nSteffi | steffi@hallo-yoga-freiham.de Zum Flyer: FrauenYoga NBT_Freiham2025.03.24  
URL:https://www.kinderschutz.de/veranstaltung/yoga-for-women-3-2/2027-09-28/
LOCATION:Nachbarschaftstreff Freiham I\, Ute-Strittmatter-Straße 30\, München\, Bayern\, 81248\, Germany
CATEGORIES:Freiham,Wochenprogramm
END:VEVENT
BEGIN:VEVENT
DTSTART;TZID=Europe/Berlin:20270928T170000
DTEND;TZID=Europe/Berlin:20270928T210000
DTSTAMP:20260420T180816
CREATED:20251220T163024Z
LAST-MODIFIED:20251220T163024Z
UID:10054890-1822150800-1822165200@www.kinderschutz.de
SUMMARY:Es ist OFFEN: Raum für Treffen der nachbarschaftlichen Arbeitsgruppen auf Nachfrage!
DESCRIPTION:Raum für Treffen nachbarschaftlicher Arbeitsgruppen aus Freiham – auf Anfrage.Sie haben eine Idee und möchten ein kostenfreies oder kostengünstiges Angebot von Nachbar*innen für Nachbarn*innen realisieren? Dann nutzen Sie unseren offenen Raum für Austausch\, Planung und gemeinsames Arbeiten. Wir unterstützen Sie gerne! Info zur Raumnutzung unter nbt-freiham2@kinderschutz.de 
URL:https://www.kinderschutz.de/veranstaltung/es-ist-offen-raum-fuer-treffen-der-nachbarschaftlichen-arbeitsgruppen-auf-nachfrage/2027-09-28/
LOCATION:Nachbarschaftstreff Freiham II\, Aubinger Allee 16\, München\, Bayern\, 81248\, Germany
CATEGORIES:Freiham,Wochenprogramm
END:VEVENT
BEGIN:VEVENT
DTSTART;TZID=Europe/Berlin:20270928T153000
DTEND;TZID=Europe/Berlin:20270928T190000
DTSTAMP:20260420T180816
CREATED:20240715T202641Z
LAST-MODIFIED:20240715T202641Z
UID:10015643-1822145400-1822158000@www.kinderschutz.de
SUMMARY:Nachhilfe und Hausaufgabebetreuung
DESCRIPTION:
URL:https://www.kinderschutz.de/veranstaltung/nachhilfe-und-hausaufgabebetreuung/2027-09-28/
LOCATION:Nachbarschaftstreff Heinrich trifft Böll
CATEGORIES:Messestadt Riem,Wochenprogramm
END:VEVENT
BEGIN:VEVENT
DTSTART;TZID=Europe/Berlin:20270928T150000
DTEND;TZID=Europe/Berlin:20270928T180000
DTSTAMP:20260420T180816
CREATED:20240715T204335Z
LAST-MODIFIED:20240715T204335Z
UID:10016788-1822143600-1822154400@www.kinderschutz.de
SUMMARY:Sprechstunde der Treffleitung
DESCRIPTION:
URL:https://www.kinderschutz.de/veranstaltung/sprechstunde-der-treffleitung/2027-09-28/
LOCATION:Nachbarschaftstreff Heinrich trifft Böll
CATEGORIES:Messestadt Riem,Wochenprogramm
END:VEVENT
BEGIN:VEVENT
DTSTART;TZID=Europe/Berlin:20270928T150000
DTEND;TZID=Europe/Berlin:20270928T160000
DTSTAMP:20260420T180816
CREATED:20260209T142717Z
LAST-MODIFIED:20260209T142755Z
UID:10057867-1822143600-1822147200@www.kinderschutz.de
SUMMARY:Eltern-Kind-Basteln
DESCRIPTION:
URL:https://www.kinderschutz.de/veranstaltung/eltern-kind-basteln-2-2-2/2027-09-28/
LOCATION:HeideTreff Familienzentrum/ Familienstützpunkt\, Karl-Köglsperger-Straße 19\, München\, 80939
CATEGORIES:Freimann,Wochenprogramm
ATTACH;FMTTYPE=image/png:https://www.kinderschutz.de/wp-content/uploads/2024/07/16.9_5.png
END:VEVENT
BEGIN:VEVENT
DTSTART;TZID=Europe/Berlin:20270928T140000
DTEND;TZID=Europe/Berlin:20270928T160000
DTSTAMP:20260420T180816
CREATED:20260413T121331Z
LAST-MODIFIED:20260413T121829Z
UID:10029375-1822140000-1822147200@www.kinderschutz.de
SUMMARY:Offene Sprechstunde Treffleitung
DESCRIPTION:Ihr habt ein Anliegen\, wollt an einer Gruppe teilnehmen oder im Nachbarschaftstreff aktiv werden? Kommt vorbei\, die Treffleitung Alexandra Falter hat ein offenes Ohr für euch.\nTermine nach telefonischer/persönlicher Absprache zu einem anderen Zeitpunkt sind selbstverständlich auch möglich.  
URL:https://www.kinderschutz.de/veranstaltung/offene-sprechstunde-treffleitung-2-2-3/2027-09-28/
LOCATION:HeideTreff Nachbarschaftstreff\, Karl-Köglsperger-Straße 13\, München\, Bayern\, 80939\, Germany
CATEGORIES:Freimann,Wochenprogramm
ATTACH;FMTTYPE=image/jpeg:https://www.kinderschutz.de/wp-content/uploads/2025/01/Sprechstunde.jpg
END:VEVENT
BEGIN:VEVENT
DTSTART;TZID=Europe/Berlin:20270928T133000
DTEND;TZID=Europe/Berlin:20270928T150000
DTSTAMP:20260420T180816
CREATED:20241025T152549Z
LAST-MODIFIED:20250801T094115Z
UID:10029041-1822138200-1822143600@www.kinderschutz.de
SUMMARY:Mama-Sport
DESCRIPTION:Selbstorganisiert  
URL:https://www.kinderschutz.de/veranstaltung/mama-sport/2027-09-28/
LOCATION:HeideTreff Familienzentrum/ Familienstützpunkt\, Karl-Köglsperger-Straße 19\, München\, 80939
CATEGORIES:Freimann,Wochenprogramm
ATTACH;FMTTYPE=image/jpeg:https://www.kinderschutz.de/wp-content/uploads/2024/10/Mama-Sport.jpg
END:VEVENT
BEGIN:VEVENT
DTSTART;TZID=Europe/Berlin:20270928T130000
DTEND;TZID=Europe/Berlin:20270928T170000
DTSTAMP:20260420T180816
CREATED:20260220T102413Z
LAST-MODIFIED:20260220T103240Z
UID:10061160-1822136400-1822150800@www.kinderschutz.de
SUMMARY:Freiraum Freiham
DESCRIPTION:zum Flyer: Freiraum Freiham          
URL:https://www.kinderschutz.de/veranstaltung/freiraum-freiham/2027-09-28/
LOCATION:Nachbarschaftstreff Freiham I\, Ute-Strittmatter-Straße 30\, München\, Bayern\, 81248\, Germany
CATEGORIES:Freiham,Wochenprogramm
ATTACH;FMTTYPE=image/png:https://www.kinderschutz.de/wp-content/uploads/2026/02/Freiraum-Freiham.png
END:VEVENT
BEGIN:VEVENT
DTSTART;TZID=Europe/Berlin:20270928T130000
DTEND;TZID=Europe/Berlin:20270928T170000
DTSTAMP:20260420T180816
CREATED:20260112T100948Z
LAST-MODIFIED:20260112T100948Z
UID:10057606-1822136400-1822150800@www.kinderschutz.de
SUMMARY:Migrationsberatung
DESCRIPTION:Offene Sprechstunde
URL:https://www.kinderschutz.de/veranstaltung/migrationsberatung-3/2027-09-28/
LOCATION:HeideTreff Familienzentrum/ Familienstützpunkt\, Karl-Köglsperger-Straße 19\, München\, 80939
CATEGORIES:Freimann,Wochenprogramm
ATTACH;FMTTYPE=image/png:https://www.kinderschutz.de/wp-content/uploads/2025/09/Migrationsberatung.png
END:VEVENT
BEGIN:VEVENT
DTSTART;TZID=Europe/Berlin:20270928T130000
DTEND;TZID=Europe/Berlin:20270928T160000
DTSTAMP:20260420T180816
CREATED:20251011T083107Z
LAST-MODIFIED:20251220T170439Z
UID:10049350-1822136400-1822147200@www.kinderschutz.de
SUMMARY:SWAP Freiham Kleidertausch (Abgabe größeren Mengen)
DESCRIPTION:SWAP Freiham Kleidertausch im Nachbarschaftstreff Freiham! Tausch dich glücklich – nachhaltig\, sozial & mit Spaß am Stöbern Unser neuer Tauschtag (Bringen) ist NUR: dienstags von 13:00 – 16:00 Uhr im Nachbarschaftstreff Freiham2 in der Aubinger Allee 16. Wir wollen in Freiham die Umwelt schützen. Darum nehmen wir nur Kleidung\, die noch gut ist und weitergegeben oder getauscht werden kann! Wir nehmen Kleidung an\, NUR: in sehr gutem Zustand I frisch gewaschen\, gut riechend I maximal ca. 10 Teile Das Abholen von Kleidung geht zu den Öffnungszeiten. Bei größeren Abgabemengen oder beim Interesse Kleidertauschparty oder Flohmarkt zu organisieren bitte melden bei:\nFrances Pooth: Mobil: 0151/ 67 35 65 24  I swap-freiham@kinderschutz.de zum Flyer: KleidertauschFH2
URL:https://www.kinderschutz.de/veranstaltung/swap-freiham-kleidertausch-tauschtag/2027-09-28/
LOCATION:Nachbarschaftstreff Freiham II\, Aubinger Allee 16\, München\, Bayern\, 81248\, Germany
CATEGORIES:Freiham,Wochenprogramm
ATTACH;FMTTYPE=image/png:https://www.kinderschutz.de/wp-content/uploads/2025/10/KleidertauschFH2.png
END:VEVENT
BEGIN:VEVENT
DTSTART;TZID=Europe/Berlin:20270928T114500
DTEND;TZID=Europe/Berlin:20270928T124500
DTSTAMP:20260420T180816
CREATED:20260220T131647Z
LAST-MODIFIED:20260220T131705Z
UID:10032346-1822131900-1822135500@www.kinderschutz.de
SUMMARY:Heide Sport (Anfänger)
DESCRIPTION:Offenes Bewegungsangebot für Frauen:\nDie Sportstunde richtet sich an alle Frauen*\, die durch begleitete Einheiten ihr gesundheitliches Wohlbefinden verbessern möchten. Im Anschluss an die Stunde kann man im Nachbarschaftstreff zusammenkommen und sich austauschen. Bei körperlichen Beschwerden\, bitte im Vorfeld einen Arzt oder eine Ärztin konsultieren. Dieses Treffangebot wird vom Bezirksausschuss 12 gefördert. Mit Anmeldung bei der Treffleitung\, Warteliste\n(Unkostenbeitrag 2€)  
URL:https://www.kinderschutz.de/veranstaltung/heide-sport-anfaenger-2/2027-09-28/
LOCATION:HeideTreff Nachbarschaftstreff\, Karl-Köglsperger-Straße 13\, München\, Bayern\, 80939\, Germany
CATEGORIES:Freimann,Wochenprogramm
ATTACH;FMTTYPE=image/jpeg:https://www.kinderschutz.de/wp-content/uploads/2025/01/Sport.jpg
END:VEVENT
BEGIN:VEVENT
DTSTART;TZID=Europe/Berlin:20270928T110000
DTEND;TZID=Europe/Berlin:20270928T120000
DTSTAMP:20260420T180816
CREATED:20250110T103235Z
LAST-MODIFIED:20250801T084053Z
UID:10031976-1822129200-1822132800@www.kinderschutz.de
SUMMARY:Sprechstunde Frühe Förderung
DESCRIPTION:Beratung für Eltern mit Kindern von 0-6 Jahren zu Angeboten der Frühen Förderung (Bildungs- und Freizeitangebote).\nBei Neslihan Bachlechner. Ohne Termin.
URL:https://www.kinderschutz.de/veranstaltung/sprechstunde-fruehe-foerderung/2027-09-28/
LOCATION:HeideTreff Familienzentrum/ Familienstützpunkt\, Karl-Köglsperger-Straße 19\, München\, 80939
CATEGORIES:Freimann,Wochenprogramm
ATTACH;FMTTYPE=image/jpeg:https://www.kinderschutz.de/wp-content/uploads/2025/01/Fruehe-Foerderung.jpg
END:VEVENT
BEGIN:VEVENT
DTSTART;TZID=Europe/Berlin:20270928T103000
DTEND;TZID=Europe/Berlin:20270928T113000
DTSTAMP:20260420T180816
CREATED:20260220T131921Z
LAST-MODIFIED:20260220T131927Z
UID:10028467-1822127400-1822131000@www.kinderschutz.de
SUMMARY:Heide Sport (Fortgeschrittene)
DESCRIPTION:Offenes Bewegungsangebot für Frauen:\nDie Sportstunde richtet sich an alle Frauen*\, die durch begleitete Einheiten ihr gesundheitliches Wohlbefinden verbessern möchten. Im Anschluss an die Stunde kann man im Nachbarschaftstreff zusammenkommen und sich austauschen. Bei körperlichen Beschwerden\, bitte im Vorfeld einen Arzt oder eine Ärztin konsultieren. Dieses Treffangebot wird vom Bezirksausschuss 12 gefördert. Mit Anmeldung bei der Treffleitung\, Warteliste\n(Unkostenbeitrag 2€)    
URL:https://www.kinderschutz.de/veranstaltung/heide-sport-2/2027-09-28/
LOCATION:HeideTreff Nachbarschaftstreff\, Karl-Köglsperger-Straße 13\, München\, Bayern\, 80939\, Germany
CATEGORIES:Freimann,Wochenprogramm
ATTACH;FMTTYPE=image/jpeg:https://www.kinderschutz.de/wp-content/uploads/2025/01/Sport.jpg
END:VEVENT
BEGIN:VEVENT
DTSTART;TZID=Europe/Berlin:20270928T100000
DTEND;TZID=Europe/Berlin:20270928T120000
DTSTAMP:20260420T180816
CREATED:20250930T122809Z
LAST-MODIFIED:20250930T122926Z
UID:10048030-1822125600-1822132800@www.kinderschutz.de
SUMMARY:Offenes Freispiel
DESCRIPTION:
URL:https://www.kinderschutz.de/veranstaltung/offenes-freispiel-5/2027-09-28/
LOCATION:HeideTreff Familienzentrum/ Familienstützpunkt\, Karl-Köglsperger-Straße 19\, München\, 80939
CATEGORIES:Freimann,Wochenprogramm
ATTACH;FMTTYPE=image/jpeg:https://www.kinderschutz.de/wp-content/uploads/2024/07/offenes-Freispiel.jpg
END:VEVENT
BEGIN:VEVENT
DTSTART;TZID=Europe/Berlin:20270928T100000
DTEND;TZID=Europe/Berlin:20270928T120000
DTSTAMP:20260420T180816
CREATED:20250322T210847Z
LAST-MODIFIED:20250322T211053Z
UID:10036098-1822125600-1822132800@www.kinderschutz.de
SUMMARY:Senior*innen Brunch
DESCRIPTION:Austausch\, Ausflüge und mehr für Senioren*innen und Ruheraum Suchende. Kontakt und INFO: senior-innen-netzwerk-freiham@kinderschutz.de
URL:https://www.kinderschutz.de/veranstaltung/seniorinnen-brunch-2/2027-09-28/
LOCATION:Nachbarschaftstreff Freiham I\, Ute-Strittmatter-Straße 30\, München\, Bayern\, 81248\, Germany
CATEGORIES:Freiham,Wochenprogramm
END:VEVENT
END:VCALENDAR