BEGIN:VCALENDAR
VERSION:2.0
PRODID:-//KINDERSCHUTZ MÜNCHEN - ECPv6.15.20//NONSGML v1.0//EN
CALSCALE:GREGORIAN
METHOD:PUBLISH
X-WR-CALNAME:KINDERSCHUTZ MÜNCHEN
X-ORIGINAL-URL:https://www.kinderschutz.de
X-WR-CALDESC:Veranstaltungen für KINDERSCHUTZ MÜNCHEN
REFRESH-INTERVAL;VALUE=DURATION:PT1H
X-Robots-Tag:noindex
X-PUBLISHED-TTL:PT1H
BEGIN:VTIMEZONE
TZID:Europe/Berlin
BEGIN:DAYLIGHT
TZOFFSETFROM:+0100
TZOFFSETTO:+0200
TZNAME:CEST
DTSTART:20250330T010000
END:DAYLIGHT
BEGIN:STANDARD
TZOFFSETFROM:+0200
TZOFFSETTO:+0100
TZNAME:CET
DTSTART:20251026T010000
END:STANDARD
BEGIN:DAYLIGHT
TZOFFSETFROM:+0100
TZOFFSETTO:+0200
TZNAME:CEST
DTSTART:20260329T010000
END:DAYLIGHT
BEGIN:STANDARD
TZOFFSETFROM:+0200
TZOFFSETTO:+0100
TZNAME:CET
DTSTART:20261025T010000
END:STANDARD
BEGIN:DAYLIGHT
TZOFFSETFROM:+0100
TZOFFSETTO:+0200
TZNAME:CEST
DTSTART:20270328T010000
END:DAYLIGHT
BEGIN:STANDARD
TZOFFSETFROM:+0200
TZOFFSETTO:+0100
TZNAME:CET
DTSTART:20271031T010000
END:STANDARD
END:VTIMEZONE
BEGIN:VEVENT
DTSTART;TZID=Europe/Berlin:20260424T100000
DTEND;TZID=Europe/Berlin:20260424T113000
DTSTAMP:20260421T172518
CREATED:20250527T123817Z
LAST-MODIFIED:20250801T092047Z
UID:10041786-1777024800-1777030200@www.kinderschutz.de
SUMMARY:Elterntalk
DESCRIPTION:bringt Eltern ins Gespräch
URL:https://www.kinderschutz.de/veranstaltung/elterntalk-2/2026-04-24/
LOCATION:HeideTreff Familienzentrum/ Familienstützpunkt\, Karl-Köglsperger-Straße 19\, München\, 80939
CATEGORIES:Freimann,Wochenprogramm
ATTACH;FMTTYPE=image/jpeg:https://www.kinderschutz.de/wp-content/uploads/2025/01/Fruehe-Foerderung.jpg
END:VEVENT
BEGIN:VEVENT
DTSTART;TZID=Europe/Berlin:20260424T100000
DTEND;TZID=Europe/Berlin:20260424T120000
DTSTAMP:20260421T172518
CREATED:20240718T091920Z
LAST-MODIFIED:20250131T125143Z
UID:10022337-1777024800-1777032000@www.kinderschutz.de
SUMMARY:Offene Sprechstunde Treffleitung
DESCRIPTION:Ihr habt ein Anliegen\, wollt an einer Gruppe teilnehmen oder im Nachbarschaftstreff aktiv werden? Kommt vorbei\, die Treffleitung Alexandra Falter hat ein offenes Ohr für euch. Termine nach telefonischer/persönlicher Absprache zu einem anderen Zeitpunkt sind selbstverständlich auch möglich.  
URL:https://www.kinderschutz.de/veranstaltung/offene-sprechstunde-treffleitung/2026-04-24/
LOCATION:HeideTreff Nachbarschaftstreff\, Karl-Köglsperger-Straße 13\, München\, Bayern\, 80939\, Germany
CATEGORIES:Freimann,Wochenprogramm
ATTACH;FMTTYPE=image/jpeg:https://www.kinderschutz.de/wp-content/uploads/2025/01/Sprechstunde.jpg
END:VEVENT
BEGIN:VEVENT
DTSTART;TZID=Europe/Berlin:20260424T100000
DTEND;TZID=Europe/Berlin:20260424T120000
DTSTAMP:20260421T172518
CREATED:20250323T100125Z
LAST-MODIFIED:20250323T100125Z
UID:10036937-1777024800-1777032000@www.kinderschutz.de
SUMMARY:FiBiuS  Internationaler Frauentreff
DESCRIPTION:
URL:https://www.kinderschutz.de/veranstaltung/fibius-internationaler-frauentreff-3/2026-04-24/
LOCATION:Nachbarschaftstreff Freiham I\, Ute-Strittmatter-Straße 30\, München\, Bayern\, 81248\, Germany
CATEGORIES:Freiham,Wochenprogramm
END:VEVENT
BEGIN:VEVENT
DTSTART;TZID=Europe/Berlin:20260424T110000
DTEND;TZID=Europe/Berlin:20260424T130000
DTSTAMP:20260421T172518
CREATED:20250930T121940Z
LAST-MODIFIED:20250930T121942Z
UID:10047417-1777028400-1777035600@www.kinderschutz.de
SUMMARY:Gemeinsam kochen und essen
DESCRIPTION:Mit Kinderbetreuung
URL:https://www.kinderschutz.de/veranstaltung/gemeinsam-kochen-und-essen-2-2-2/2026-04-24/
LOCATION:HeideTreff Familienzentrum/ Familienstützpunkt\, Karl-Köglsperger-Straße 19\, München\, 80939
CATEGORIES:Freimann,Wochenprogramm
ATTACH;FMTTYPE=image/jpeg:https://www.kinderschutz.de/wp-content/uploads/2024/10/Kochen.jpg
END:VEVENT
BEGIN:VEVENT
DTSTART;TZID=Europe/Berlin:20260424T130000
DTEND;TZID=Europe/Berlin:20260424T150000
DTSTAMP:20260421T172518
CREATED:20260208T155533Z
LAST-MODIFIED:20260208T155648Z
UID:10056569-1777035600-1777042800@www.kinderschutz.de
SUMMARY:Offene Bürosprechstunde der Treffleitung des Nachbarschaftstreffs Freiham2
DESCRIPTION:Erstberatung zu allen sozialen Belangen sowie Weiterleitung an geeignete Fachstellen. Zudem Informationen und Beratung zu freiwilligem Engagement im Nachbarschaftstreff Freiham. Weitere Termine auf Anfrage: Kontakt: p.pooth@kinderschutz.de oder p.marek@kinderschutz.de
URL:https://www.kinderschutz.de/veranstaltung/offene-buerosprechstunde-der-treffleitung-des-nachbarschaftstreffs-freiham-2-2/2026-04-24/
LOCATION:Nachbarschaftstreff Freiham II\, Aubinger Allee 16\, München\, Bayern\, 81248\, Germany
CATEGORIES:Freiham,Wochenprogramm
ATTACH;FMTTYPE=image/png:https://www.kinderschutz.de/wp-content/uploads/2025/12/Sprechstunde-der-Treffleitung.png
END:VEVENT
BEGIN:VEVENT
DTSTART;TZID=Europe/Berlin:20260424T140000
DTEND;TZID=Europe/Berlin:20260424T150000
DTSTAMP:20260421T172518
CREATED:20250930T125426Z
LAST-MODIFIED:20250930T125427Z
UID:10046316-1777039200-1777042800@www.kinderschutz.de
SUMMARY:Deutschkurs mit Kinderbetreuung
DESCRIPTION:nur mit Anmeldung
URL:https://www.kinderschutz.de/veranstaltung/deutschkurs-mit-kinderbetreuung-4-2/2026-04-24/
LOCATION:HeideTreff Familienzentrum/ Familienstützpunkt\, Karl-Köglsperger-Straße 19\, München\, 80939
CATEGORIES:Freimann,Wochenprogramm
ATTACH;FMTTYPE=image/jpeg:https://www.kinderschutz.de/wp-content/uploads/2024/07/Deutschkurs.jpg
END:VEVENT
BEGIN:VEVENT
DTSTART;TZID=Europe/Berlin:20260424T140000
DTEND;TZID=Europe/Berlin:20260424T170000
DTSTAMP:20260421T172518
CREATED:20240718T092233Z
LAST-MODIFIED:20250507T161521Z
UID:10023642-1777039200-1777050000@www.kinderschutz.de
SUMMARY:Heide Nähstube
DESCRIPTION:Nähen (Anfänger/Fortgeschrittene)\nKommt vorbei zum gemeinsamen Nähen\, wir freuen uns auf euch. Mit Voranmeldung Weitere Infos für Teilnehmerinnen hier Weitere Infos für Fachkräfte hier    
URL:https://www.kinderschutz.de/veranstaltung/heide-naehstube/2026-04-24/
LOCATION:HeideTreff Nachbarschaftstreff\, Karl-Köglsperger-Straße 13\, München\, Bayern\, 80939\, Germany
CATEGORIES:Freimann,Wochenprogramm
ATTACH;FMTTYPE=image/jpeg:https://www.kinderschutz.de/wp-content/uploads/2025/01/Naehen-1.jpg
END:VEVENT
BEGIN:VEVENT
DTSTART;TZID=Europe/Berlin:20260424T140000
DTEND;TZID=Europe/Berlin:20260424T180000
DTSTAMP:20260421T172518
CREATED:20250715T182511Z
LAST-MODIFIED:20250715T185141Z
UID:10043209-1777039200-1777053600@www.kinderschutz.de
SUMMARY:RuF - Hilfe zur Selbsthilfe Rund um Formulare
DESCRIPTION:Flyer RuF Rund um Formulare 2025/2026 (um zum Flyer zu gelangen bitte das Angebot in vollem Fenster ansehen) RuF Hilfe zur Selbsthilfe Rund um Formulare ist ein Angebot der kostenfreien Erstberatung für Bewohner*innen aus den Stadtteilen des 22. Stadtbezirks:  Freiham\, Neuaubing\, Westkreuz\, Aubing\, Lohhausen\, Langwied. Unterstützung erhalten Sie von qualifizierten freiwillig engagierten Kulturdolmetscher*innen in den Sprachen: Deutsch\, Englisch\, Türkisch\, Bulgarisch\, Arabisch\, Französisch\, Farsi\, Dari\, Paschtu. Um Sie gut beraten zu können bitten wir um eine Terminvereinbarung: freitags im Büro zw. 14-18 Uhr\, telefonisch oder per Mail an  nbt-fh-formularservice@kinderschutz.de Bürozeit der ehrenamtlichen RuF – Projektkoordination: NUR freitags! Hülya Selcuk Tel:  089 231716-7963   I E-Mail: nbt-fh-formularservice@kinderschutz.de Zum Termin bitte mitbringen: den Antrag bzw. Brief oder Formular\, alle Dokumente und Kopien\, die Sie dafür brauchen\,  Ihre E-Mail-Adresse und Zugangspassworte\, ID-Nummer etc. Zum Flyer: RuF_NBT_Freiham_August2025
URL:https://www.kinderschutz.de/veranstaltung/ruf-hilfe-zur-selbsthilfe-rund-um-formulare/2026-04-24/
LOCATION:Nachbarschaftstreff Freiham I\, Ute-Strittmatter-Straße 30\, München\, Bayern\, 81248\, Germany
CATEGORIES:Freiham,Wochenprogramm
END:VEVENT
BEGIN:VEVENT
DTSTART;TZID=Europe/Berlin:20260424T150000
DTEND;TZID=Europe/Berlin:20260424T160000
DTSTAMP:20260421T172518
CREATED:20251220T191930Z
LAST-MODIFIED:20251220T191930Z
UID:10055788-1777042800-1777046400@www.kinderschutz.de
SUMMARY:Bürosprechstunde private Raumnutzung Nachbarschaftstreff Freiham2
DESCRIPTION:Sie wohnen in Freiham und suchen einen Raum für Familienfeiern oder Kindergeburtstage? Dann sprechen Sie uns gerne an und vereinbaren Sie einen Termin für Raumbesichtigung mit uns. Persönliche Vorsprache:Montag: 10:00–12:00 Uhr und  Freitag: 15:00–16:00 Uhr Kontakt: nbt-fh2-raumnutzung@kinderschutz.de Die private Raumnutzung ist gebührenpflichtig und ausschließlich für Bewohner*innen aus Freiham möglich.
URL:https://www.kinderschutz.de/veranstaltung/buerosprechstunde-private-raumnutzung-nachbarschaftstreff-freiham2/2026-04-24/
LOCATION:Nachbarschaftstreff Freiham II\, Aubinger Allee 16\, München\, Bayern\, 81248\, Germany
CATEGORIES:Freiham,Wochenprogramm
END:VEVENT
BEGIN:VEVENT
DTSTART;TZID=Europe/Berlin:20260424T150000
DTEND;TZID=Europe/Berlin:20260424T180000
DTSTAMP:20260421T172518
CREATED:20260125T082445Z
LAST-MODIFIED:20260125T082447Z
UID:10060356-1777042800-1777053600@www.kinderschutz.de
SUMMARY:Elvyras Küche
DESCRIPTION:
URL:https://www.kinderschutz.de/veranstaltung/elvyras-kueche-2-2/2026-04-24/
LOCATION:Nachbarschaftstreff Heinrich trifft Böll
CATEGORIES:Messestadt Riem,Wochenprogramm
END:VEVENT
BEGIN:VEVENT
DTSTART;TZID=Europe/Berlin:20260424T150000
DTEND;TZID=Europe/Berlin:20260424T180000
DTSTAMP:20260421T172518
CREATED:20260220T101322Z
LAST-MODIFIED:20260220T101328Z
UID:10054074-1777042800-1777053600@www.kinderschutz.de
SUMMARY:Offener Gartentreff im Freihamer Freiluftgarten
DESCRIPTION:Jeden Freitag von 15–18 Uhr laden wir herzlich zum gemeinschaftlichen Gärtnern im Freihamer Freiluftgarten ein. Wir pflanzen\, tauschen Wissen aus\, schaffen insektenfreundliche Lebensräume und verarbeiten unsere Ernte. An ausgewählten Terminen finden zusätzlich Workshops statt. Im Winter werden diese im Nachbarschaftstreff Freiham2 in der Aubinger Allee 16 durchgeführt\, siehe Veranstaltungskalender. Egal\, ob mit oder ohne Vorkenntnisse – komm vorbei\, mach mit oder genieße einfach die Zeit im Grünen und lerne Menschen aus deinem Quartier kennen. Offen für alle · kostenlos  Du möchtest Teil der festen Gärtner*innengruppe werden\, dann melde dich unter: freiluftgarten-freiham@kinderschutz.de
URL:https://www.kinderschutz.de/veranstaltung/offener-gartentreff-im-freihamer-freiluftgarten-2/2026-04-24/
LOCATION:Freiluftgarten Freiham\, Freihamer Weg\, München\, Bayern\, 81249\, Germany
CATEGORIES:Freiham,Wochenprogramm
ATTACH;FMTTYPE=image/jpeg:https://www.kinderschutz.de/wp-content/uploads/2025/12/Freitag-im-Freiluftgarten_2026.jpg
END:VEVENT
BEGIN:VEVENT
DTSTART;TZID=Europe/Berlin:20260424T160000
DTEND;TZID=Europe/Berlin:20260424T200000
DTSTAMP:20260421T172518
CREATED:20250207T103050Z
LAST-MODIFIED:20250207T103051Z
UID:10034148-1777046400-1777060800@www.kinderschutz.de
SUMMARY:Familiengruppe
DESCRIPTION:
URL:https://www.kinderschutz.de/veranstaltung/familiengruppe-2/2026-04-24/
LOCATION:Nachbarschaftstreff Heinrich trifft Böll
CATEGORIES:Messestadt Riem,Wochenprogramm
END:VEVENT
BEGIN:VEVENT
DTSTART;TZID=Europe/Berlin:20260424T170000
DTEND;TZID=Europe/Berlin:20260424T200000
DTSTAMP:20260421T172518
CREATED:20250323T104137Z
LAST-MODIFIED:20250323T104137Z
UID:10037468-1777050000-1777060800@www.kinderschutz.de
SUMMARY:Somalisches Frauennetzwerk
DESCRIPTION:
URL:https://www.kinderschutz.de/veranstaltung/somalisches-frauennetzwerk-2/2026-04-24/
LOCATION:Nachbarschaftstreff Freiham I\, Ute-Strittmatter-Straße 30\, München\, Bayern\, 81248\, Germany
CATEGORIES:Freiham,Wochenprogramm
END:VEVENT
BEGIN:VEVENT
DTSTART;TZID=Europe/Berlin:20260424T170000
DTEND;TZID=Europe/Berlin:20260424T200000
DTSTAMP:20260421T172518
CREATED:20250325T194409Z
LAST-MODIFIED:20250325T194409Z
UID:10039540-1777050000-1777060800@www.kinderschutz.de
SUMMARY:Afghanischer Musikunterricht Farhang e.V.
DESCRIPTION:Afghanischer Musikunterricht Farhang e.V. FARHANG | afghanischer Kultur- und Bildungsverein e.V.
URL:https://www.kinderschutz.de/veranstaltung/afghanischer-musikunterricht-farhang-e-v/2026-04-24/
LOCATION:GaleriaTreff Nachbarschaftstreff\, Lehrer-Wirth-Straße 21\, München\, Bayern\, 81829\, Germany
CATEGORIES:Messestadt Riem,Wochenprogramm
END:VEVENT
BEGIN:VEVENT
DTSTART;TZID=Europe/Berlin:20260425T090000
DTEND;TZID=Europe/Berlin:20260425T200000
DTSTAMP:20260421T172518
CREATED:20260125T081040Z
LAST-MODIFIED:20260125T081040Z
UID:10059515-1777107600-1777147200@www.kinderschutz.de
SUMMARY:Private Raumnutzung GaleriaTreff
DESCRIPTION:Kontakt: nbt-galeriatreff-raumnutzung@kinderschutz.de I Sprechzeit für die private Raumnutzung (siehe Dienstag und Donnerstag 17-18 Uhr\n\n\n 
URL:https://www.kinderschutz.de/veranstaltung/private-raumnutzung-galeriatreff/2026-04-25/
LOCATION:GaleriaTreff Nachbarschaftstreff\, Lehrer-Wirth-Straße 21\, München\, Bayern\, 81829\, Germany
CATEGORIES:Messestadt Riem,Wochenprogramm
END:VEVENT
BEGIN:VEVENT
DTSTART;TZID=Europe/Berlin:20260425T100000
DTEND;TZID=Europe/Berlin:20260425T220000
DTSTAMP:20260421T172518
CREATED:20260125T084500Z
LAST-MODIFIED:20260125T084500Z
UID:10060963-1777111200-1777154400@www.kinderschutz.de
SUMMARY:Private Raumnutzung Heinrich trifft Böll
DESCRIPTION:kontakt: nbt-htb-raumnutzung@kinderschutz.de
URL:https://www.kinderschutz.de/veranstaltung/private-raumnutzung-heinrich-trifft-boell/2026-04-25/
LOCATION:Nachbarschaftstreff Heinrich trifft Böll
CATEGORIES:Messestadt Riem,Wochenprogramm
END:VEVENT
BEGIN:VEVENT
DTSTART;TZID=Europe/Berlin:20260425T120000
DTEND;TZID=Europe/Berlin:20260425T210000
DTSTAMP:20260421T172518
CREATED:20240718T092849Z
LAST-MODIFIED:20250131T124802Z
UID:10024164-1777118400-1777150800@www.kinderschutz.de
SUMMARY:Raumvermietung
DESCRIPTION:Zeit für Ihre privaten Feiern und Veranstaltungen. Wenden Sie sich hierfür bitte an das HeideTreff-Team! Sprechzeiten zur Raumvermietung: Dienstag 9-11 Uhr und Donnerstag 12-14 Uhr Schreiben Sie uns gerne eine Mail an info@heidetreff.de oder rufen unter 089-231716-7260 an.
URL:https://www.kinderschutz.de/veranstaltung/raumvermietung/2026-04-25/
LOCATION:HeideTreff Nachbarschaftstreff\, Karl-Köglsperger-Straße 13\, München\, Bayern\, 80939\, Germany
CATEGORIES:Freimann,Wochenprogramm
ATTACH;FMTTYPE=image/jpeg:https://www.kinderschutz.de/wp-content/uploads/2025/01/Vermietung.jpg
END:VEVENT
BEGIN:VEVENT
DTSTART;TZID=Europe/Berlin:20260426T100000
DTEND;TZID=Europe/Berlin:20260426T120000
DTSTAMP:20260421T172518
CREATED:20240714T145425Z
LAST-MODIFIED:20240714T145425Z
UID:10012955-1777197600-1777204800@www.kinderschutz.de
SUMMARY:Arabisch lesen lernen für Mädchen und Frauen
DESCRIPTION:
URL:https://www.kinderschutz.de/veranstaltung/arabisch-lesen-lernen-fuer-maedchen-und-frauen/2026-04-26/
LOCATION:GaleriaTreff Nachbarschaftstreff\, Lehrer-Wirth-Straße 21\, München\, Bayern\, 81829\, Germany
CATEGORIES:Messestadt Riem,Wochenprogramm
END:VEVENT
BEGIN:VEVENT
DTSTART;TZID=Europe/Berlin:20260426T100000
DTEND;TZID=Europe/Berlin:20260426T150000
DTSTAMP:20260421T172518
CREATED:20260125T084740Z
LAST-MODIFIED:20260125T084740Z
UID:10060993-1777197600-1777215600@www.kinderschutz.de
SUMMARY:Sprachkurs zum Erlernen der afghanischen Muttersprachen
DESCRIPTION:mit Anmeldung Tel:  0151 2225 0504 farhang@mail.de
URL:https://www.kinderschutz.de/veranstaltung/sprachkurs-zum-erlernen-der-afghanischen-muttersprachen/2026-04-26/
LOCATION:Nachbarschaftstreff Heinrich trifft Böll
CATEGORIES:Messestadt Riem,Wochenprogramm
END:VEVENT
BEGIN:VEVENT
DTSTART;TZID=Europe/Berlin:20260426T120000
DTEND;TZID=Europe/Berlin:20260426T143000
DTSTAMP:20260421T172518
CREATED:20240714T145814Z
LAST-MODIFIED:20240714T145814Z
UID:10013243-1777204800-1777213800@www.kinderschutz.de
SUMMARY:Arabisch lesen lernen für Jungen und Männer
DESCRIPTION:
URL:https://www.kinderschutz.de/veranstaltung/arabisch-lesen-lernen-fuer-jungen-und-maenner/2026-04-26/
LOCATION:GaleriaTreff Nachbarschaftstreff\, Lehrer-Wirth-Straße 21\, München\, Bayern\, 81829\, Germany
CATEGORIES:Messestadt Riem,Wochenprogramm
END:VEVENT
BEGIN:VEVENT
DTSTART;TZID=Europe/Berlin:20260426T150000
DTEND;TZID=Europe/Berlin:20260426T170000
DTSTAMP:20260421T172518
CREATED:20240718T093026Z
LAST-MODIFIED:20250131T132235Z
UID:10033367-1777215600-1777222800@www.kinderschutz.de
SUMMARY:Café Muckefuck (1*im Monat)
DESCRIPTION:Jeden ersten Sonntag im Monat.\n(aktuelle Infos auch auf nebenan.de)
URL:https://www.kinderschutz.de/veranstaltung/cafe-muckefuck-1im-monat/2026-04-26/
LOCATION:HeideTreff Nachbarschaftstreff\, Karl-Köglsperger-Straße 13\, München\, Bayern\, 80939\, Germany
CATEGORIES:Freimann,Wochenprogramm
ATTACH;FMTTYPE=image/jpeg:https://www.kinderschutz.de/wp-content/uploads/2025/01/cafe-Muckefuck.jpg
END:VEVENT
BEGIN:VEVENT
DTSTART;TZID=Europe/Berlin:20260426T150000
DTEND;TZID=Europe/Berlin:20260426T210000
DTSTAMP:20260421T172518
CREATED:20260125T081211Z
LAST-MODIFIED:20260125T081211Z
UID:10060045-1777215600-1777237200@www.kinderschutz.de
SUMMARY:Private Raumnutzung GaleriaTreff
DESCRIPTION:Kontakt: nbt-galeriatreff-raumnutzung@kinderschutz.de I Sprechzeit für die private Raumnutzung (siehe Dienstag und Donnerstag 17-18 Uhr\n\n\n 
URL:https://www.kinderschutz.de/veranstaltung/private-raumnutzung-galeriatreff-2/2026-04-26/
LOCATION:GaleriaTreff Nachbarschaftstreff\, Lehrer-Wirth-Straße 21\, München\, Bayern\, 81829\, Germany
CATEGORIES:Messestadt Riem,Wochenprogramm
END:VEVENT
BEGIN:VEVENT
DTSTART;TZID=Europe/Berlin:20260427T083000
DTEND;TZID=Europe/Berlin:20260427T093000
DTSTAMP:20260421T172518
CREATED:20260125T083926Z
LAST-MODIFIED:20260125T083926Z
UID:10060903-1777278600-1777282200@www.kinderschutz.de
SUMMARY:Yoga für alle
DESCRIPTION:Kontakt: info@yoga-hannaboye.de
URL:https://www.kinderschutz.de/veranstaltung/yoga-fuer-alle/2026-04-27/
LOCATION:Nachbarschaftstreff Heinrich trifft Böll
CATEGORIES:Messestadt Riem,Wochenprogramm
END:VEVENT
BEGIN:VEVENT
DTSTART;TZID=Europe/Berlin:20260427T090000
DTEND;TZID=Europe/Berlin:20260427T110000
DTSTAMP:20260421T172518
CREATED:20260413T120344Z
LAST-MODIFIED:20260413T120416Z
UID:10061416-1777280400-1777287600@www.kinderschutz.de
SUMMARY:Offenes Treffen zum Deutsch sprechen (Anfänger*innen)
DESCRIPTION:mit Anmeldung bei der Treffleitung
URL:https://www.kinderschutz.de/veranstaltung/offenes-treffen-zum-deutsch-sprechen-anfaengerinnen-2-2/2026-04-27/
LOCATION:HeideTreff Nachbarschaftstreff\, Karl-Köglsperger-Straße 13\, München\, Bayern\, 80939\, Germany
CATEGORIES:Freimann,Wochenprogramm
ATTACH;FMTTYPE=image/jpeg:https://www.kinderschutz.de/wp-content/uploads/2025/01/Deutsch.jpg
END:VEVENT
BEGIN:VEVENT
DTSTART;TZID=Europe/Berlin:20260427T090000
DTEND;TZID=Europe/Berlin:20260427T113000
DTSTAMP:20260421T172518
CREATED:20250930T124643Z
LAST-MODIFIED:20250930T124720Z
UID:10048254-1777280400-1777289400@www.kinderschutz.de
SUMMARY:Spielgruppe (mit Anmeldung)
DESCRIPTION:nur mit Anmeldung
URL:https://www.kinderschutz.de/veranstaltung/spielgruppe-2-2/2026-04-27/
LOCATION:HeideTreff Familienzentrum/ Familienstützpunkt\, Karl-Köglsperger-Straße 19\, München\, 80939
CATEGORIES:Freimann,Wochenprogramm
ATTACH;FMTTYPE=image/jpeg:https://www.kinderschutz.de/wp-content/uploads/2024/07/Spielgruppe.jpg
END:VEVENT
BEGIN:VEVENT
DTSTART;TZID=Europe/Berlin:20260427T093000
DTEND;TZID=Europe/Berlin:20260427T110000
DTSTAMP:20260421T172518
CREATED:20250527T123654Z
LAST-MODIFIED:20250801T092148Z
UID:10041525-1777282200-1777287600@www.kinderschutz.de
SUMMARY:Elterntalk
DESCRIPTION:bringt Eltern ins Gespräch
URL:https://www.kinderschutz.de/veranstaltung/elterntalk/2026-04-27/
LOCATION:HeideTreff Familienzentrum/ Familienstützpunkt\, Karl-Köglsperger-Straße 19\, München\, 80939
CATEGORIES:Freimann,Wochenprogramm
ATTACH;FMTTYPE=image/jpeg:https://www.kinderschutz.de/wp-content/uploads/2025/01/Fruehe-Foerderung.jpg
END:VEVENT
BEGIN:VEVENT
DTSTART;TZID=Europe/Berlin:20260427T093000
DTEND;TZID=Europe/Berlin:20260427T113000
DTSTAMP:20260421T172518
CREATED:20251027T132649Z
LAST-MODIFIED:20251027T132650Z
UID:10052538-1777282200-1777289400@www.kinderschutz.de
SUMMARY:Offenes Treffen zum Deutsch sprechen (Anfänger*innen)
DESCRIPTION:mit Anmeldung bei der Treffleitung
URL:https://www.kinderschutz.de/veranstaltung/offenes-treffen-zum-deutsch-sprechen-2-2/2026-04-27/
LOCATION:HeideTreff Nachbarschaftstreff\, Karl-Köglsperger-Straße 13\, München\, Bayern\, 80939\, Germany
CATEGORIES:Freimann,Wochenprogramm
ATTACH;FMTTYPE=image/jpeg:https://www.kinderschutz.de/wp-content/uploads/2025/01/Deutsch.jpg
END:VEVENT
BEGIN:VEVENT
DTSTART;TZID=Europe/Berlin:20260427T093000
DTEND;TZID=Europe/Berlin:20260427T120000
DTSTAMP:20260421T172518
CREATED:20240714T133439Z
LAST-MODIFIED:20240714T133439Z
UID:10010613-1777282200-1777291200@www.kinderschutz.de
SUMMARY:Migrationsberatung für erwachsene Zuwanderer (MBE)
DESCRIPTION:
URL:https://www.kinderschutz.de/veranstaltung/migrationsberatung-fuer-erwachsene-zuwanderer-mbe/2026-04-27/
LOCATION:GaleriaTreff Nachbarschaftstreff\, Lehrer-Wirth-Straße 21\, München\, Bayern\, 81829\, Germany
CATEGORIES:Messestadt Riem,Wochenprogramm
END:VEVENT
BEGIN:VEVENT
DTSTART;TZID=Europe/Berlin:20260427T100000
DTEND;TZID=Europe/Berlin:20260427T120000
DTSTAMP:20260421T172518
CREATED:20251220T191300Z
LAST-MODIFIED:20251220T191455Z
UID:10055273-1777284000-1777291200@www.kinderschutz.de
SUMMARY:Bürosprechstunde private Raumnutzung Nachbarschaftstreff Freiham2
DESCRIPTION:Sie wohnen in Freiham und suchen einen Raum für Familienfeiern oder Kindergeburtstage? Dann sprechen Sie uns gerne an und vereinbaren Sie einen Termin für Raumbesichtigung mit uns. Persönliche Vorsprache:Montag: 10:00–12:00 Uhr und  Freitag: 15:00–16:00 Uhr Kontakt: nbt-fh2-raumnutzung@kinderschutz.de Die private Raumnutzung ist gebührenpflichtig und ausschließlich für Bewohner*innen aus Freiham möglich.
URL:https://www.kinderschutz.de/veranstaltung/sprechstunde-private-raumnutzung-nachbarschaftstreff-freiham2/2026-04-27/
LOCATION:Nachbarschaftstreff Freiham II\, Aubinger Allee 16\, München\, Bayern\, 81248\, Germany
CATEGORIES:Freiham,Wochenprogramm
END:VEVENT
BEGIN:VEVENT
DTSTART;TZID=Europe/Berlin:20260427T100000
DTEND;TZID=Europe/Berlin:20260427T130000
DTSTAMP:20260421T172518
CREATED:20251220T145905Z
LAST-MODIFIED:20251220T145949Z
UID:10054460-1777284000-1777294800@www.kinderschutz.de
SUMMARY:Es ist OFFEN! Meet People & Co-Working Space Freiham
DESCRIPTION:Unser Meet People & Co-Working Space lädt alle Nachbarinnen ein: arbeiten\, lesen\, Brett- und Kartenspiele spielen oder einfach ins Gespräch kommen und sich vernetzen. Tee und Kaffee sind vorhanden – für entspannte Stunden in der Gemeinschaft. Uhrzeit: 10:00–13:00 Uhr\nOrt: Nachbarschaftstreff Freiham2 I Aubinger Allee 16\,  81248 München Info: nachbarschaftstreff-freiham2@kinderschutz.de Wir suchen noch engagierte Begleiter*innen\, die das Format unterstützen und mitgestalten möchten.
URL:https://www.kinderschutz.de/veranstaltung/es-ist-offen-meet-people-co-working-space-freiham/2026-04-27/
LOCATION:Nachbarschaftstreff Freiham II\, Aubinger Allee 16\, München\, Bayern\, 81248\, Germany
CATEGORIES:Freiham,Wochenprogramm
END:VEVENT
END:VCALENDAR