BEGIN:VCALENDAR
VERSION:2.0
PRODID:-//KINDERSCHUTZ MÜNCHEN - ECPv6.15.20//NONSGML v1.0//EN
CALSCALE:GREGORIAN
METHOD:PUBLISH
X-WR-CALNAME:KINDERSCHUTZ MÜNCHEN
X-ORIGINAL-URL:https://www.kinderschutz.de
X-WR-CALDESC:Veranstaltungen für KINDERSCHUTZ MÜNCHEN
REFRESH-INTERVAL;VALUE=DURATION:PT1H
X-Robots-Tag:noindex
X-PUBLISHED-TTL:PT1H
BEGIN:VTIMEZONE
TZID:Europe/Berlin
BEGIN:DAYLIGHT
TZOFFSETFROM:+0100
TZOFFSETTO:+0200
TZNAME:CEST
DTSTART:20250330T010000
END:DAYLIGHT
BEGIN:STANDARD
TZOFFSETFROM:+0200
TZOFFSETTO:+0100
TZNAME:CET
DTSTART:20251026T010000
END:STANDARD
BEGIN:DAYLIGHT
TZOFFSETFROM:+0100
TZOFFSETTO:+0200
TZNAME:CEST
DTSTART:20260329T010000
END:DAYLIGHT
BEGIN:STANDARD
TZOFFSETFROM:+0200
TZOFFSETTO:+0100
TZNAME:CET
DTSTART:20261025T010000
END:STANDARD
BEGIN:DAYLIGHT
TZOFFSETFROM:+0100
TZOFFSETTO:+0200
TZNAME:CEST
DTSTART:20270328T010000
END:DAYLIGHT
BEGIN:STANDARD
TZOFFSETFROM:+0200
TZOFFSETTO:+0100
TZNAME:CET
DTSTART:20271031T010000
END:STANDARD
END:VTIMEZONE
BEGIN:VEVENT
DTSTART;TZID=Europe/Berlin:20260428T100000
DTEND;TZID=Europe/Berlin:20260428T120000
DTSTAMP:20260422T010823
CREATED:20251011T101236Z
LAST-MODIFIED:20251011T105805Z
UID:10052174-1777370400-1777377600@www.kinderschutz.de
SUMMARY:Anlauf- und Vernetzungsstelle Inklusion Nachbarschaftstreff Freiham
DESCRIPTION:Die Anlauf- und Vernetzungsstelle Inklusion Freiham ist in ihrem Stadtviertel Ansprechstelle\, Impulsgeber und „Kümmerer“ für das Thema Inklusion. Die Anlaufstellen Inklusion LHM sind kombiniert mit einer niederschwelligen individuellen Beratung zu allen Alltagsfragen. \nWir stehen allen Stadtteilbewohner und Bewohnerinnen mit Erstberatung rund um Themen der Inklusion zur Verfügung.\nWir achten auf Barrierefreiheit und Inklusion im Stadtviertel und bringen unsere Beobachtungen in die REGSAM Facharbeitskreise und andere Gremien ein\, wie der Bezirksausschuss BA 22 und halten Kontakt mit den zentralen Institutionen (Behindertenbeirat LHM\, Städtische Beraterkreis LHM\, Koordinierungsbüro zur Umsetzung der UN-BRK).\nWir beraten Vereine\, Projekte\, Einrichtungen bei spezifischen Fragen oder Vermitteln sie an kompetente Stellen weiter\, damit die Stadtteile\, die aufgebauten Strukturen und die Angebote so gut angepasst sind\, dass alle Menschen bei den Angeboten mitmachen können.\nHier können Sie:\nandere Menschen mit Behinderung bzw. mit einer sichtbaren oder unsichtbaren Beeinträchtigung kennenlernen \nsich über unterschiedliche Themen informieren\,\nBedarfe melden\,\neigenes Wissen und Können anderen Menschen zur Verfügung stellen und so zur mehr Barrierefreiheit beitragen\nZum Flyer: Anlaufstelle Inklusion Freiham – Infoblatt2025 Anlauf- und Vernetzungsstelle Inklusion Freiham\nund REGSAM FAK Runder Tisch Inklusion im 22.StadtbezirkPatrycja Marek Tel: 089 2317 7901 I +4915153855216\nE-Mail: p.marek@kinderschutz.de Beratung nach Vereinbarung\nSprechstunde der Anlaufstelle AVI und Café Inklusion mit Terminvereinbarung Mobilitätsberatung:Denizay Selcuk Tel: 089 2317 7991 I +491756245590\nmittwochs 16-19 Uhr und nach Vereinbarung\nE-Mail: anlaufstelle-inklusion-freiham@kinderschutz.de
URL:https://www.kinderschutz.de/veranstaltung/anlauf-und-vernetzungsstelle-inklusion-nachbarschaftstreff-freiham-2-2/2026-04-28/
LOCATION:Anlauf- und Vernetzungsstelle Inklusion
CATEGORIES:Freiham,Wochenprogramm
ATTACH;FMTTYPE=image/png:https://www.kinderschutz.de/wp-content/uploads/2025/10/Anlaufstelle-Inklusion-Freiham-Infoblatt2025.png
END:VEVENT
BEGIN:VEVENT
DTSTART;TZID=Europe/Berlin:20260428T100000
DTEND;TZID=Europe/Berlin:20260428T130000
DTSTAMP:20260422T010823
CREATED:20260203T220156Z
LAST-MODIFIED:20260203T220312Z
UID:10054716-1777370400-1777381200@www.kinderschutz.de
SUMMARY:MotherSchools I Parenting for Piece: Trainingskurs für Frauen
DESCRIPTION:MotherSchools | Parenting for Peace ist ein international anerkanntes Präventionsprogramm\, das von Women without Borders entwickelt wurde. Es richtet sich an Mütter (und in der erweiterten Version auch an Väter) und unterstützt sie dabei\, ihre Erziehungsfähigkeiten zu stärken und eine sichere\, geborgene Umgebung für ihre Kinder zu schaffen. Der Kurs umfasst 10 Termine und vermittelt praxisnahe Methoden und Tipps\, darunter: \n\nSelbstvertrauen stärken: Eltern werden ermutigt\, ihre eigenen Fähigkeiten zu erkennen und zu nutzen. \n\n\nBeziehung zum Kind festigen: Strategien für eine liebevolle und stabile Bindung. \n\n\nKlar kommunizieren – auch mit Teenagern: Hilfen für klare\, respektvolle Kommunikation in allen Altersstufen. \n\n\nKinder sicher aufwachsen lassen: Förderung von Sicherheit\, Geborgenheit und emotionaler Stabilität. \n\nDas Programm kombiniert theoretisches Wissen mit praktischen Übungen\, Gruppenarbeit und Erfahrungsaustausch. Es unterstützt Eltern darin\, Konflikte konstruktiv zu lösen\, den Alltag stressfreier zu gestalten und eine positive familiäre Atmosphäre zu fördern. Ziel: Eltern zu befähigen\, ihre Kinder gesund\, sicher und selbstbewusst aufwachsen zu lassen – in einem Umfeld\, das Respekt\, Vertrauen und Frieden fördert. Anmeldung: Özge Könür | Mobil: 0157 580 444 22 | o.koenuer@smf-verband.deVeranstalter: Sozialdienst muslimischer Frauen Kempten e.V.
URL:https://www.kinderschutz.de/veranstaltung/motherschools-i-parenting-for-piece-trainingskurs-fuer-frauen-2/2026-04-28/
LOCATION:Nachbarschaftstreff Freiham II\, Aubinger Allee 16\, München\, Bayern\, 81248\, Germany
CATEGORIES:Freiham,Wochenprogramm
ATTACH;FMTTYPE=image/png:https://www.kinderschutz.de/wp-content/uploads/2025/12/Motherschools-Flyer2026.pdf.png
END:VEVENT
BEGIN:VEVENT
DTSTART;TZID=Europe/Berlin:20260428T103000
DTEND;TZID=Europe/Berlin:20260428T113000
DTSTAMP:20260422T010823
CREATED:20260220T131921Z
LAST-MODIFIED:20260220T131927Z
UID:10028393-1777372200-1777375800@www.kinderschutz.de
SUMMARY:Heide Sport (Fortgeschrittene)
DESCRIPTION:Offenes Bewegungsangebot für Frauen:\nDie Sportstunde richtet sich an alle Frauen*\, die durch begleitete Einheiten ihr gesundheitliches Wohlbefinden verbessern möchten. Im Anschluss an die Stunde kann man im Nachbarschaftstreff zusammenkommen und sich austauschen. Bei körperlichen Beschwerden\, bitte im Vorfeld einen Arzt oder eine Ärztin konsultieren. Dieses Treffangebot wird vom Bezirksausschuss 12 gefördert. Mit Anmeldung bei der Treffleitung\, Warteliste\n(Unkostenbeitrag 2€)    
URL:https://www.kinderschutz.de/veranstaltung/heide-sport-2/2026-04-28/
LOCATION:HeideTreff Nachbarschaftstreff\, Karl-Köglsperger-Straße 13\, München\, Bayern\, 80939\, Germany
CATEGORIES:Freimann,Wochenprogramm
ATTACH;FMTTYPE=image/jpeg:https://www.kinderschutz.de/wp-content/uploads/2025/01/Sport.jpg
END:VEVENT
BEGIN:VEVENT
DTSTART;TZID=Europe/Berlin:20260428T110000
DTEND;TZID=Europe/Berlin:20260428T120000
DTSTAMP:20260422T010823
CREATED:20250110T103235Z
LAST-MODIFIED:20250801T084053Z
UID:10031902-1777374000-1777377600@www.kinderschutz.de
SUMMARY:Sprechstunde Frühe Förderung
DESCRIPTION:Beratung für Eltern mit Kindern von 0-6 Jahren zu Angeboten der Frühen Förderung (Bildungs- und Freizeitangebote).\nBei Neslihan Bachlechner. Ohne Termin.
URL:https://www.kinderschutz.de/veranstaltung/sprechstunde-fruehe-foerderung/2026-04-28/
LOCATION:HeideTreff Familienzentrum/ Familienstützpunkt\, Karl-Köglsperger-Straße 19\, München\, 80939
CATEGORIES:Freimann,Wochenprogramm
ATTACH;FMTTYPE=image/jpeg:https://www.kinderschutz.de/wp-content/uploads/2025/01/Fruehe-Foerderung.jpg
END:VEVENT
BEGIN:VEVENT
DTSTART;TZID=Europe/Berlin:20260428T114500
DTEND;TZID=Europe/Berlin:20260428T124500
DTSTAMP:20260422T010823
CREATED:20260220T131647Z
LAST-MODIFIED:20260220T131705Z
UID:10032272-1777376700-1777380300@www.kinderschutz.de
SUMMARY:Heide Sport (Anfänger)
DESCRIPTION:Offenes Bewegungsangebot für Frauen:\nDie Sportstunde richtet sich an alle Frauen*\, die durch begleitete Einheiten ihr gesundheitliches Wohlbefinden verbessern möchten. Im Anschluss an die Stunde kann man im Nachbarschaftstreff zusammenkommen und sich austauschen. Bei körperlichen Beschwerden\, bitte im Vorfeld einen Arzt oder eine Ärztin konsultieren. Dieses Treffangebot wird vom Bezirksausschuss 12 gefördert. Mit Anmeldung bei der Treffleitung\, Warteliste\n(Unkostenbeitrag 2€)  
URL:https://www.kinderschutz.de/veranstaltung/heide-sport-anfaenger-2/2026-04-28/
LOCATION:HeideTreff Nachbarschaftstreff\, Karl-Köglsperger-Straße 13\, München\, Bayern\, 80939\, Germany
CATEGORIES:Freimann,Wochenprogramm
ATTACH;FMTTYPE=image/jpeg:https://www.kinderschutz.de/wp-content/uploads/2025/01/Sport.jpg
END:VEVENT
BEGIN:VEVENT
DTSTART;TZID=Europe/Berlin:20260428T130000
DTEND;TZID=Europe/Berlin:20260428T160000
DTSTAMP:20260422T010823
CREATED:20251011T083107Z
LAST-MODIFIED:20251220T170439Z
UID:10049276-1777381200-1777392000@www.kinderschutz.de
SUMMARY:SWAP Freiham Kleidertausch (Abgabe größeren Mengen)
DESCRIPTION:SWAP Freiham Kleidertausch im Nachbarschaftstreff Freiham! Tausch dich glücklich – nachhaltig\, sozial & mit Spaß am Stöbern Unser neuer Tauschtag (Bringen) ist NUR: dienstags von 13:00 – 16:00 Uhr im Nachbarschaftstreff Freiham2 in der Aubinger Allee 16. Wir wollen in Freiham die Umwelt schützen. Darum nehmen wir nur Kleidung\, die noch gut ist und weitergegeben oder getauscht werden kann! Wir nehmen Kleidung an\, NUR: in sehr gutem Zustand I frisch gewaschen\, gut riechend I maximal ca. 10 Teile Das Abholen von Kleidung geht zu den Öffnungszeiten. Bei größeren Abgabemengen oder beim Interesse Kleidertauschparty oder Flohmarkt zu organisieren bitte melden bei:\nFrances Pooth: Mobil: 0151/ 67 35 65 24  I swap-freiham@kinderschutz.de zum Flyer: KleidertauschFH2
URL:https://www.kinderschutz.de/veranstaltung/swap-freiham-kleidertausch-tauschtag/2026-04-28/
LOCATION:Nachbarschaftstreff Freiham II\, Aubinger Allee 16\, München\, Bayern\, 81248\, Germany
CATEGORIES:Freiham,Wochenprogramm
ATTACH;FMTTYPE=image/png:https://www.kinderschutz.de/wp-content/uploads/2025/10/KleidertauschFH2.png
END:VEVENT
BEGIN:VEVENT
DTSTART;TZID=Europe/Berlin:20260428T130000
DTEND;TZID=Europe/Berlin:20260428T170000
DTSTAMP:20260422T010823
CREATED:20260112T100948Z
LAST-MODIFIED:20260112T100948Z
UID:10057532-1777381200-1777395600@www.kinderschutz.de
SUMMARY:Migrationsberatung
DESCRIPTION:Offene Sprechstunde
URL:https://www.kinderschutz.de/veranstaltung/migrationsberatung-3/2026-04-28/
LOCATION:HeideTreff Familienzentrum/ Familienstützpunkt\, Karl-Köglsperger-Straße 19\, München\, 80939
CATEGORIES:Freimann,Wochenprogramm
ATTACH;FMTTYPE=image/png:https://www.kinderschutz.de/wp-content/uploads/2025/09/Migrationsberatung.png
END:VEVENT
BEGIN:VEVENT
DTSTART;TZID=Europe/Berlin:20260428T130000
DTEND;TZID=Europe/Berlin:20260428T170000
DTSTAMP:20260422T010823
CREATED:20260220T102413Z
LAST-MODIFIED:20260220T103240Z
UID:10061086-1777381200-1777395600@www.kinderschutz.de
SUMMARY:Freiraum Freiham
DESCRIPTION:zum Flyer: Freiraum Freiham          
URL:https://www.kinderschutz.de/veranstaltung/freiraum-freiham/2026-04-28/
LOCATION:Nachbarschaftstreff Freiham I\, Ute-Strittmatter-Straße 30\, München\, Bayern\, 81248\, Germany
CATEGORIES:Freiham,Wochenprogramm
ATTACH;FMTTYPE=image/png:https://www.kinderschutz.de/wp-content/uploads/2026/02/Freiraum-Freiham.png
END:VEVENT
BEGIN:VEVENT
DTSTART;TZID=Europe/Berlin:20260428T133000
DTEND;TZID=Europe/Berlin:20260428T150000
DTSTAMP:20260422T010823
CREATED:20241025T152549Z
LAST-MODIFIED:20250801T094115Z
UID:10028967-1777383000-1777388400@www.kinderschutz.de
SUMMARY:Mama-Sport
DESCRIPTION:Selbstorganisiert  
URL:https://www.kinderschutz.de/veranstaltung/mama-sport/2026-04-28/
LOCATION:HeideTreff Familienzentrum/ Familienstützpunkt\, Karl-Köglsperger-Straße 19\, München\, 80939
CATEGORIES:Freimann,Wochenprogramm
ATTACH;FMTTYPE=image/jpeg:https://www.kinderschutz.de/wp-content/uploads/2024/10/Mama-Sport.jpg
END:VEVENT
BEGIN:VEVENT
DTSTART;TZID=Europe/Berlin:20260428T140000
DTEND;TZID=Europe/Berlin:20260428T160000
DTSTAMP:20260422T010823
CREATED:20260413T121331Z
LAST-MODIFIED:20260413T121829Z
UID:10029301-1777384800-1777392000@www.kinderschutz.de
SUMMARY:Offene Sprechstunde Treffleitung
DESCRIPTION:Ihr habt ein Anliegen\, wollt an einer Gruppe teilnehmen oder im Nachbarschaftstreff aktiv werden? Kommt vorbei\, die Treffleitung Alexandra Falter hat ein offenes Ohr für euch.\nTermine nach telefonischer/persönlicher Absprache zu einem anderen Zeitpunkt sind selbstverständlich auch möglich.  
URL:https://www.kinderschutz.de/veranstaltung/offene-sprechstunde-treffleitung-2-2-3/2026-04-28/
LOCATION:HeideTreff Nachbarschaftstreff\, Karl-Köglsperger-Straße 13\, München\, Bayern\, 80939\, Germany
CATEGORIES:Freimann,Wochenprogramm
ATTACH;FMTTYPE=image/jpeg:https://www.kinderschutz.de/wp-content/uploads/2025/01/Sprechstunde.jpg
END:VEVENT
BEGIN:VEVENT
DTSTART;TZID=Europe/Berlin:20260428T150000
DTEND;TZID=Europe/Berlin:20260428T160000
DTSTAMP:20260422T010823
CREATED:20260209T142717Z
LAST-MODIFIED:20260209T142755Z
UID:10057793-1777388400-1777392000@www.kinderschutz.de
SUMMARY:Eltern-Kind-Basteln
DESCRIPTION:
URL:https://www.kinderschutz.de/veranstaltung/eltern-kind-basteln-2-2-2/2026-04-28/
LOCATION:HeideTreff Familienzentrum/ Familienstützpunkt\, Karl-Köglsperger-Straße 19\, München\, 80939
CATEGORIES:Freimann,Wochenprogramm
ATTACH;FMTTYPE=image/png:https://www.kinderschutz.de/wp-content/uploads/2024/07/16.9_5.png
END:VEVENT
BEGIN:VEVENT
DTSTART;TZID=Europe/Berlin:20260428T150000
DTEND;TZID=Europe/Berlin:20260428T170000
DTSTAMP:20260422T010823
CREATED:20240715T205024Z
LAST-MODIFIED:20260125T085210Z
UID:10017002-1777388400-1777395600@www.kinderschutz.de
SUMMARY:Formularunterstützung
DESCRIPTION:
URL:https://www.kinderschutz.de/veranstaltung/formular-service/2026-04-28/
LOCATION:Nachbarschaftstreff Heinrich trifft Böll
CATEGORIES:Messestadt Riem,Wochenprogramm
END:VEVENT
BEGIN:VEVENT
DTSTART;TZID=Europe/Berlin:20260428T150000
DTEND;TZID=Europe/Berlin:20260428T180000
DTSTAMP:20260422T010823
CREATED:20240715T204335Z
LAST-MODIFIED:20240715T204335Z
UID:10016714-1777388400-1777399200@www.kinderschutz.de
SUMMARY:Sprechstunde der Treffleitung
DESCRIPTION:
URL:https://www.kinderschutz.de/veranstaltung/sprechstunde-der-treffleitung/2026-04-28/
LOCATION:Nachbarschaftstreff Heinrich trifft Böll
CATEGORIES:Messestadt Riem,Wochenprogramm
END:VEVENT
BEGIN:VEVENT
DTSTART;TZID=Europe/Berlin:20260428T153000
DTEND;TZID=Europe/Berlin:20260428T190000
DTSTAMP:20260422T010823
CREATED:20240715T202641Z
LAST-MODIFIED:20240715T202641Z
UID:10015347-1777390200-1777402800@www.kinderschutz.de
SUMMARY:Nachhilfe und Hausaufgabebetreuung
DESCRIPTION:
URL:https://www.kinderschutz.de/veranstaltung/nachhilfe-und-hausaufgabebetreuung/2026-04-28/
LOCATION:Nachbarschaftstreff Heinrich trifft Böll
CATEGORIES:Messestadt Riem,Wochenprogramm
END:VEVENT
BEGIN:VEVENT
DTSTART;TZID=Europe/Berlin:20260428T170000
DTEND;TZID=Europe/Berlin:20260428T180000
DTSTAMP:20260422T010823
CREATED:20260124T193531Z
LAST-MODIFIED:20260124T193531Z
UID:10058620-1777395600-1777399200@www.kinderschutz.de
SUMMARY:Sprechzeit für private Raumnutzung GaleriaTreff
DESCRIPTION:
URL:https://www.kinderschutz.de/veranstaltung/sprechzeit-fuer-private-raumnutzung-galeriatreff/2026-04-28/
LOCATION:GaleriaTreff Nachbarschaftstreff\, Lehrer-Wirth-Straße 21\, München\, Bayern\, 81829\, Germany
CATEGORIES:Messestadt Riem,Wochenprogramm
END:VEVENT
BEGIN:VEVENT
DTSTART;TZID=Europe/Berlin:20260428T170000
DTEND;TZID=Europe/Berlin:20260428T210000
DTSTAMP:20260422T010823
CREATED:20251220T163024Z
LAST-MODIFIED:20251220T163024Z
UID:10054816-1777395600-1777410000@www.kinderschutz.de
SUMMARY:Es ist OFFEN: Raum für Treffen der nachbarschaftlichen Arbeitsgruppen auf Nachfrage!
DESCRIPTION:Raum für Treffen nachbarschaftlicher Arbeitsgruppen aus Freiham – auf Anfrage.Sie haben eine Idee und möchten ein kostenfreies oder kostengünstiges Angebot von Nachbar*innen für Nachbarn*innen realisieren? Dann nutzen Sie unseren offenen Raum für Austausch\, Planung und gemeinsames Arbeiten. Wir unterstützen Sie gerne! Info zur Raumnutzung unter nbt-freiham2@kinderschutz.de 
URL:https://www.kinderschutz.de/veranstaltung/es-ist-offen-raum-fuer-treffen-der-nachbarschaftlichen-arbeitsgruppen-auf-nachfrage/2026-04-28/
LOCATION:Nachbarschaftstreff Freiham II\, Aubinger Allee 16\, München\, Bayern\, 81248\, Germany
CATEGORIES:Freiham,Wochenprogramm
END:VEVENT
BEGIN:VEVENT
DTSTART;TZID=Europe/Berlin:20260428T180000
DTEND;TZID=Europe/Berlin:20260428T193000
DTSTAMP:20260422T010823
CREATED:20250324T154755Z
LAST-MODIFIED:20250324T154755Z
UID:10036467-1777399200-1777404600@www.kinderschutz.de
SUMMARY:Yoga for Women
DESCRIPTION:Infos und Anmeldung (Registration) bitte per Email an:\nAndrea | andrea@hallo-yoga-freiham.de\nSteffi | steffi@hallo-yoga-freiham.de Zum Flyer: FrauenYoga NBT_Freiham2025.03.24  
URL:https://www.kinderschutz.de/veranstaltung/yoga-for-women-3-2/2026-04-28/
LOCATION:Nachbarschaftstreff Freiham I\, Ute-Strittmatter-Straße 30\, München\, Bayern\, 81248\, Germany
CATEGORIES:Freiham,Wochenprogramm
END:VEVENT
BEGIN:VEVENT
DTSTART;TZID=Europe/Berlin:20260428T200000
DTEND;TZID=Europe/Berlin:20260428T210000
DTSTAMP:20260422T010823
CREATED:20250323T100932Z
LAST-MODIFIED:20250323T100932Z
UID:10037179-1777406400-1777410000@www.kinderschutz.de
SUMMARY:Pilates für Frauen:  Bewegungsangebot für türkische Community
DESCRIPTION:
URL:https://www.kinderschutz.de/veranstaltung/pilates-fuer-frauen-bewegungsangebot-fuer-tuerkische-community/2026-04-28/
LOCATION:Nachbarschaftstreff Freiham I\, Ute-Strittmatter-Straße 30\, München\, Bayern\, 81248\, Germany
CATEGORIES:Freiham,Wochenprogramm
END:VEVENT
BEGIN:VEVENT
DTSTART;TZID=Europe/Berlin:20260429T090000
DTEND;TZID=Europe/Berlin:20260429T100000
DTSTAMP:20260422T010823
CREATED:20250704T120329Z
LAST-MODIFIED:20251027T133106Z
UID:10053074-1777453200-1777456800@www.kinderschutz.de
SUMMARY:Tritt und Fit in der Heide
DESCRIPTION:Gemeinsames Walken im Kieferngarten (Mit Voranmeldung)
URL:https://www.kinderschutz.de/veranstaltung/tritt-und-fit-in-der-heide-2/2026-04-29/
LOCATION:HeideTreff Nachbarschaftstreff\, Karl-Köglsperger-Straße 13\, München\, Bayern\, 80939\, Germany
CATEGORIES:Freimann,Wochenprogramm
ATTACH;FMTTYPE=image/jpeg:https://www.kinderschutz.de/wp-content/uploads/2025/05/Walking.jpg
END:VEVENT
BEGIN:VEVENT
DTSTART;TZID=Europe/Berlin:20260429T090000
DTEND;TZID=Europe/Berlin:20260429T113000
DTSTAMP:20260422T010823
CREATED:20250930T124643Z
LAST-MODIFIED:20250930T124720Z
UID:10048255-1777453200-1777462200@www.kinderschutz.de
SUMMARY:Spielgruppe (mit Anmeldung)
DESCRIPTION:nur mit Anmeldung
URL:https://www.kinderschutz.de/veranstaltung/spielgruppe-2-2/2026-04-29/
LOCATION:HeideTreff Familienzentrum/ Familienstützpunkt\, Karl-Köglsperger-Straße 19\, München\, 80939
CATEGORIES:Freimann,Wochenprogramm
ATTACH;FMTTYPE=image/jpeg:https://www.kinderschutz.de/wp-content/uploads/2024/07/Spielgruppe.jpg
END:VEVENT
BEGIN:VEVENT
DTSTART;TZID=Europe/Berlin:20260429T090000
DTEND;TZID=Europe/Berlin:20260429T120000
DTSTAMP:20260422T010823
CREATED:20240717T083413Z
LAST-MODIFIED:20250801T083358Z
UID:10018419-1777453200-1777464000@www.kinderschutz.de
SUMMARY:Kita-Finder Sprechstunde
DESCRIPTION:Anmeldung bei Marcela Drissi\nTel.: 0152 56 89 48 99
URL:https://www.kinderschutz.de/veranstaltung/kita-finder-sprechstunde/2026-04-29/
LOCATION:HeideTreff Familienzentrum/ Familienstützpunkt\, Karl-Köglsperger-Straße 19\, München\, 80939
CATEGORIES:Freimann,Wochenprogramm
ATTACH;FMTTYPE=image/jpeg:https://www.kinderschutz.de/wp-content/uploads/2024/08/Kita-finder.jpg
END:VEVENT
BEGIN:VEVENT
DTSTART;TZID=Europe/Berlin:20260429T093000
DTEND;TZID=Europe/Berlin:20260429T103000
DTSTAMP:20260422T010823
CREATED:20260124T222419Z
LAST-MODIFIED:20260124T222419Z
UID:10058807-1777455000-1777458600@www.kinderschutz.de
SUMMARY:Eltern-Kind-Frühstück
DESCRIPTION:
URL:https://www.kinderschutz.de/veranstaltung/eltern-kind-fruehstueck/2026-04-29/
LOCATION:GaleriaTreff Nachbarschaftstreff\, Lehrer-Wirth-Straße 21\, München\, Bayern\, 81829\, Germany
CATEGORIES:Messestadt Riem,Wochenprogramm
END:VEVENT
BEGIN:VEVENT
DTSTART;TZID=Europe/Berlin:20260429T100000
DTEND;TZID=Europe/Berlin:20260429T113000
DTSTAMP:20260422T010823
CREATED:20240703T182342Z
LAST-MODIFIED:20250801T072313Z
UID:10003257-1777456800-1777462200@www.kinderschutz.de
SUMMARY:Elterncafé
DESCRIPTION:
URL:https://www.kinderschutz.de/veranstaltung/elterncafe/2026-04-29/
LOCATION:HeideTreff Familienzentrum/ Familienstützpunkt\, Karl-Köglsperger-Straße 19\, München\, 80939
CATEGORIES:Freimann,Wochenprogramm
ATTACH;FMTTYPE=image/jpeg:https://www.kinderschutz.de/wp-content/uploads/2024/08/Elterncafe.jpg
END:VEVENT
BEGIN:VEVENT
DTSTART;TZID=Europe/Berlin:20260429T100000
DTEND;TZID=Europe/Berlin:20260429T113000
DTSTAMP:20260422T010823
CREATED:20260125T083403Z
LAST-MODIFIED:20260125T083403Z
UID:10060843-1777456800-1777462200@www.kinderschutz.de
SUMMARY:Conversacion libre Spanisch/Deutsch
DESCRIPTION:
URL:https://www.kinderschutz.de/veranstaltung/conversacion-libre-spanisch-deutsch/2026-04-29/
LOCATION:Bayern
CATEGORIES:Messestadt Riem,Wochenprogramm
END:VEVENT
BEGIN:VEVENT
DTSTART;TZID=Europe/Berlin:20260429T100000
DTEND;TZID=Europe/Berlin:20260429T130000
DTSTAMP:20260422T010823
CREATED:20240718T090132Z
LAST-MODIFIED:20250513T090019Z
UID:10021552-1777456800-1777467600@www.kinderschutz.de
SUMMARY:Frauen für Frauen Frühstück
DESCRIPTION:Gemeinsam frühstücken\, unterstützen und sich austauschen. Bei Interesse gerne im Treff melden
URL:https://www.kinderschutz.de/veranstaltung/frauen-fuer-frauen-fruehstueck/2026-04-29/
LOCATION:HeideTreff Nachbarschaftstreff\, Karl-Köglsperger-Straße 13\, München\, Bayern\, 80939\, Germany
CATEGORIES:Freimann,Wochenprogramm
ATTACH;FMTTYPE=image/jpeg:https://www.kinderschutz.de/wp-content/uploads/2025/01/Frauen-fuer-Frauen.jpg
END:VEVENT
BEGIN:VEVENT
DTSTART;TZID=Europe/Berlin:20260429T100000
DTEND;TZID=Europe/Berlin:20260429T130000
DTSTAMP:20260422T010823
CREATED:20260125T083216Z
LAST-MODIFIED:20260125T083216Z
UID:10060703-1777456800-1777467600@www.kinderschutz.de
SUMMARY:Café International
DESCRIPTION:
URL:https://www.kinderschutz.de/veranstaltung/cafe-international/2026-04-29/
LOCATION:Nachbarschaftstreff Heinrich trifft Böll
CATEGORIES:Messestadt Riem,Wochenprogramm
END:VEVENT
BEGIN:VEVENT
DTSTART;TZID=Europe/Berlin:20260429T140000
DTEND;TZID=Europe/Berlin:20260429T160000
DTSTAMP:20260422T010823
CREATED:20240715T205619Z
LAST-MODIFIED:20240715T205619Z
UID:10017290-1777471200-1777478400@www.kinderschutz.de
SUMMARY:Sprechstunde der Treffleitung
DESCRIPTION:
URL:https://www.kinderschutz.de/veranstaltung/sprechstunde-der-treffleitung-2/2026-04-29/
LOCATION:Nachbarschaftstreff Heinrich trifft Böll
CATEGORIES:Messestadt Riem,Wochenprogramm
END:VEVENT
BEGIN:VEVENT
DTSTART;TZID=Europe/Berlin:20260429T150000
DTEND;TZID=Europe/Berlin:20260429T163000
DTSTAMP:20260422T010823
CREATED:20240717T083515Z
LAST-MODIFIED:20250801T072150Z
UID:10018680-1777474800-1777480200@www.kinderschutz.de
SUMMARY:Elterncafé
DESCRIPTION:
URL:https://www.kinderschutz.de/veranstaltung/elterncafe-2/2026-04-29/
LOCATION:HeideTreff Familienzentrum/ Familienstützpunkt\, Karl-Köglsperger-Straße 19\, München\, 80939
CATEGORIES:Freimann,Wochenprogramm
ATTACH;FMTTYPE=image/jpeg:https://www.kinderschutz.de/wp-content/uploads/2024/08/Elterncafe.jpg
END:VEVENT
BEGIN:VEVENT
DTSTART;TZID=Europe/Berlin:20260429T153000
DTEND;TZID=Europe/Berlin:20260429T190000
DTSTAMP:20260422T010823
CREATED:20240715T202641Z
LAST-MODIFIED:20240715T202641Z
UID:10015348-1777476600-1777489200@www.kinderschutz.de
SUMMARY:Nachhilfe und Hausaufgabebetreuung
DESCRIPTION:
URL:https://www.kinderschutz.de/veranstaltung/nachhilfe-und-hausaufgabebetreuung/2026-04-29/
LOCATION:Nachbarschaftstreff Heinrich trifft Böll
CATEGORIES:Messestadt Riem,Wochenprogramm
END:VEVENT
BEGIN:VEVENT
DTSTART;TZID=Europe/Berlin:20260429T160000
DTEND;TZID=Europe/Berlin:20260429T180000
DTSTAMP:20260422T010823
CREATED:20240715T210205Z
LAST-MODIFIED:20240715T210205Z
UID:10017578-1777478400-1777485600@www.kinderschutz.de
SUMMARY:Kindermalen
DESCRIPTION:
URL:https://www.kinderschutz.de/veranstaltung/kindermalen/2026-04-29/
LOCATION:Nachbarschaftstreff Heinrich trifft Böll
END:VEVENT
END:VCALENDAR