BEGIN:VCALENDAR
VERSION:2.0
PRODID:-//KINDERSCHUTZ MÜNCHEN - ECPv6.15.20//NONSGML v1.0//EN
CALSCALE:GREGORIAN
METHOD:PUBLISH
X-ORIGINAL-URL:https://www.kinderschutz.de
X-WR-CALDESC:Veranstaltungen für KINDERSCHUTZ MÜNCHEN
REFRESH-INTERVAL;VALUE=DURATION:PT1H
X-Robots-Tag:noindex
X-PUBLISHED-TTL:PT1H
BEGIN:VTIMEZONE
TZID:Europe/Berlin
BEGIN:DAYLIGHT
TZOFFSETFROM:+0100
TZOFFSETTO:+0200
TZNAME:CEST
DTSTART:20280326T010000
END:DAYLIGHT
BEGIN:STANDARD
TZOFFSETFROM:+0200
TZOFFSETTO:+0100
TZNAME:CET
DTSTART:20281029T010000
END:STANDARD
BEGIN:DAYLIGHT
TZOFFSETFROM:+0100
TZOFFSETTO:+0200
TZNAME:CEST
DTSTART:20290325T010000
END:DAYLIGHT
BEGIN:STANDARD
TZOFFSETFROM:+0200
TZOFFSETTO:+0100
TZNAME:CET
DTSTART:20291028T010000
END:STANDARD
BEGIN:DAYLIGHT
TZOFFSETFROM:+0100
TZOFFSETTO:+0200
TZNAME:CEST
DTSTART:20300331T010000
END:DAYLIGHT
BEGIN:STANDARD
TZOFFSETFROM:+0200
TZOFFSETTO:+0100
TZNAME:CET
DTSTART:20301027T010000
END:STANDARD
END:VTIMEZONE
BEGIN:VEVENT
DTSTART;TZID=Europe/Berlin:20291201T090000
DTEND;TZID=Europe/Berlin:20291201T200000
DTSTAMP:20260422T165102
CREATED:20260125T081040Z
LAST-MODIFIED:20260125T081040Z
UID:10059703-1890810000-1890849600@www.kinderschutz.de
SUMMARY:Private Raumnutzung GaleriaTreff
DESCRIPTION:Kontakt: nbt-galeriatreff-raumnutzung@kinderschutz.de I Sprechzeit für die private Raumnutzung (siehe Dienstag und Donnerstag 17-18 Uhr\n\n\n 
URL:https://www.kinderschutz.de/veranstaltung/private-raumnutzung-galeriatreff/2029-12-01/
LOCATION:GaleriaTreff Nachbarschaftstreff\, Lehrer-Wirth-Straße 21\, München\, Bayern\, 81829\, Germany
CATEGORIES:Messestadt Riem,Wochenprogramm
END:VEVENT
BEGIN:VEVENT
DTSTART;TZID=Europe/Berlin:20291201T120000
DTEND;TZID=Europe/Berlin:20291201T210000
DTSTAMP:20260422T165102
CREATED:20240718T092849Z
LAST-MODIFIED:20250131T124802Z
UID:10031799-1890820800-1890853200@www.kinderschutz.de
SUMMARY:Raumvermietung
DESCRIPTION:Zeit für Ihre privaten Feiern und Veranstaltungen. Wenden Sie sich hierfür bitte an das HeideTreff-Team! Sprechzeiten zur Raumvermietung: Dienstag 9-11 Uhr und Donnerstag 12-14 Uhr Schreiben Sie uns gerne eine Mail an info@heidetreff.de oder rufen unter 089-231716-7260 an.
URL:https://www.kinderschutz.de/veranstaltung/raumvermietung/2029-12-01/
LOCATION:HeideTreff Nachbarschaftstreff\, Karl-Köglsperger-Straße 13\, München\, Bayern\, 80939\, Germany
CATEGORIES:Freimann,Wochenprogramm
ATTACH;FMTTYPE=image/jpeg:https://www.kinderschutz.de/wp-content/uploads/2025/01/Vermietung.jpg
END:VEVENT
BEGIN:VEVENT
DTSTART;TZID=Europe/Berlin:20291202T150000
DTEND;TZID=Europe/Berlin:20291202T170000
DTSTAMP:20260422T165102
CREATED:20240718T093026Z
LAST-MODIFIED:20250131T132235Z
UID:10033555-1890918000-1890925200@www.kinderschutz.de
SUMMARY:Café Muckefuck (1*im Monat)
DESCRIPTION:Jeden ersten Sonntag im Monat.\n(aktuelle Infos auch auf nebenan.de)
URL:https://www.kinderschutz.de/veranstaltung/cafe-muckefuck-1im-monat/2029-12-02/
LOCATION:HeideTreff Nachbarschaftstreff\, Karl-Köglsperger-Straße 13\, München\, Bayern\, 80939\, Germany
CATEGORIES:Freimann,Wochenprogramm
ATTACH;FMTTYPE=image/jpeg:https://www.kinderschutz.de/wp-content/uploads/2025/01/cafe-Muckefuck.jpg
END:VEVENT
BEGIN:VEVENT
DTSTART;TZID=Europe/Berlin:20291202T150000
DTEND;TZID=Europe/Berlin:20291202T210000
DTSTAMP:20260422T165102
CREATED:20260125T081211Z
LAST-MODIFIED:20260125T081211Z
UID:10060233-1890918000-1890939600@www.kinderschutz.de
SUMMARY:Private Raumnutzung GaleriaTreff
DESCRIPTION:Kontakt: nbt-galeriatreff-raumnutzung@kinderschutz.de I Sprechzeit für die private Raumnutzung (siehe Dienstag und Donnerstag 17-18 Uhr\n\n\n 
URL:https://www.kinderschutz.de/veranstaltung/private-raumnutzung-galeriatreff-2/2029-12-02/
LOCATION:GaleriaTreff Nachbarschaftstreff\, Lehrer-Wirth-Straße 21\, München\, Bayern\, 81829\, Germany
CATEGORIES:Messestadt Riem,Wochenprogramm
END:VEVENT
BEGIN:VEVENT
DTSTART;TZID=Europe/Berlin:20291203T090000
DTEND;TZID=Europe/Berlin:20291203T110000
DTSTAMP:20260422T165102
CREATED:20260413T120344Z
LAST-MODIFIED:20260413T120416Z
UID:10061602-1890982800-1890990000@www.kinderschutz.de
SUMMARY:Offenes Treffen zum Deutsch sprechen (Anfänger*innen)
DESCRIPTION:mit Anmeldung bei der Treffleitung
URL:https://www.kinderschutz.de/veranstaltung/offenes-treffen-zum-deutsch-sprechen-anfaengerinnen-2-2/2029-12-03/
LOCATION:HeideTreff Nachbarschaftstreff\, Karl-Köglsperger-Straße 13\, München\, Bayern\, 80939\, Germany
CATEGORIES:Freimann,Wochenprogramm
ATTACH;FMTTYPE=image/jpeg:https://www.kinderschutz.de/wp-content/uploads/2025/01/Deutsch.jpg
END:VEVENT
BEGIN:VEVENT
DTSTART;TZID=Europe/Berlin:20291203T090000
DTEND;TZID=Europe/Berlin:20291203T113000
DTSTAMP:20260422T165102
CREATED:20250930T124643Z
LAST-MODIFIED:20250930T124720Z
UID:10048630-1890982800-1890991800@www.kinderschutz.de
SUMMARY:Spielgruppe (mit Anmeldung)
DESCRIPTION:nur mit Anmeldung
URL:https://www.kinderschutz.de/veranstaltung/spielgruppe-2-2/2029-12-03/
LOCATION:HeideTreff Familienzentrum/ Familienstützpunkt\, Karl-Köglsperger-Straße 19\, München\, 80939
CATEGORIES:Freimann,Wochenprogramm
ATTACH;FMTTYPE=image/jpeg:https://www.kinderschutz.de/wp-content/uploads/2024/07/Spielgruppe.jpg
END:VEVENT
BEGIN:VEVENT
DTSTART;TZID=Europe/Berlin:20291203T093000
DTEND;TZID=Europe/Berlin:20291203T110000
DTSTAMP:20260422T165102
CREATED:20250527T123654Z
LAST-MODIFIED:20250801T092148Z
UID:10041713-1890984600-1890990000@www.kinderschutz.de
SUMMARY:Elterntalk
DESCRIPTION:bringt Eltern ins Gespräch
URL:https://www.kinderschutz.de/veranstaltung/elterntalk/2029-12-03/
LOCATION:HeideTreff Familienzentrum/ Familienstützpunkt\, Karl-Köglsperger-Straße 19\, München\, 80939
CATEGORIES:Freimann,Wochenprogramm
ATTACH;FMTTYPE=image/jpeg:https://www.kinderschutz.de/wp-content/uploads/2025/01/Fruehe-Foerderung.jpg
END:VEVENT
BEGIN:VEVENT
DTSTART;TZID=Europe/Berlin:20291203T093000
DTEND;TZID=Europe/Berlin:20291203T113000
DTSTAMP:20260422T165102
CREATED:20251027T132649Z
LAST-MODIFIED:20251027T132650Z
UID:10052726-1890984600-1890991800@www.kinderschutz.de
SUMMARY:Offenes Treffen zum Deutsch sprechen (Anfänger*innen)
DESCRIPTION:mit Anmeldung bei der Treffleitung
URL:https://www.kinderschutz.de/veranstaltung/offenes-treffen-zum-deutsch-sprechen-2-2/2029-12-03/
LOCATION:HeideTreff Nachbarschaftstreff\, Karl-Köglsperger-Straße 13\, München\, Bayern\, 80939\, Germany
CATEGORIES:Freimann,Wochenprogramm
ATTACH;FMTTYPE=image/jpeg:https://www.kinderschutz.de/wp-content/uploads/2025/01/Deutsch.jpg
END:VEVENT
BEGIN:VEVENT
DTSTART;TZID=Europe/Berlin:20291203T100000
DTEND;TZID=Europe/Berlin:20291203T120000
DTSTAMP:20260422T165102
CREATED:20251220T191300Z
LAST-MODIFIED:20251220T191455Z
UID:10055461-1890986400-1890993600@www.kinderschutz.de
SUMMARY:Bürosprechstunde private Raumnutzung Nachbarschaftstreff Freiham2
DESCRIPTION:Sie wohnen in Freiham und suchen einen Raum für Familienfeiern oder Kindergeburtstage? Dann sprechen Sie uns gerne an und vereinbaren Sie einen Termin für Raumbesichtigung mit uns. Persönliche Vorsprache:Montag: 10:00–12:00 Uhr und  Freitag: 15:00–16:00 Uhr Kontakt: nbt-fh2-raumnutzung@kinderschutz.de Die private Raumnutzung ist gebührenpflichtig und ausschließlich für Bewohner*innen aus Freiham möglich.
URL:https://www.kinderschutz.de/veranstaltung/sprechstunde-private-raumnutzung-nachbarschaftstreff-freiham2/2029-12-03/
LOCATION:Nachbarschaftstreff Freiham II\, Aubinger Allee 16\, München\, Bayern\, 81248\, Germany
CATEGORIES:Freiham,Wochenprogramm
END:VEVENT
BEGIN:VEVENT
DTSTART;TZID=Europe/Berlin:20291203T100000
DTEND;TZID=Europe/Berlin:20291203T130000
DTSTAMP:20260422T165102
CREATED:20251220T145905Z
LAST-MODIFIED:20251220T145949Z
UID:10054648-1890986400-1890997200@www.kinderschutz.de
SUMMARY:Es ist OFFEN! Meet People & Co-Working Space Freiham
DESCRIPTION:Unser Meet People & Co-Working Space lädt alle Nachbarinnen ein: arbeiten\, lesen\, Brett- und Kartenspiele spielen oder einfach ins Gespräch kommen und sich vernetzen. Tee und Kaffee sind vorhanden – für entspannte Stunden in der Gemeinschaft. Uhrzeit: 10:00–13:00 Uhr\nOrt: Nachbarschaftstreff Freiham2 I Aubinger Allee 16\,  81248 München Info: nachbarschaftstreff-freiham2@kinderschutz.de Wir suchen noch engagierte Begleiter*innen\, die das Format unterstützen und mitgestalten möchten.
URL:https://www.kinderschutz.de/veranstaltung/es-ist-offen-meet-people-co-working-space-freiham/2029-12-03/
LOCATION:Nachbarschaftstreff Freiham II\, Aubinger Allee 16\, München\, Bayern\, 81248\, Germany
CATEGORIES:Freiham,Wochenprogramm
END:VEVENT
BEGIN:VEVENT
DTSTART;TZID=Europe/Berlin:20291203T111500
DTEND;TZID=Europe/Berlin:20291203T123000
DTSTAMP:20260422T165102
CREATED:20260413T120534Z
LAST-MODIFIED:20260413T120909Z
UID:10061859-1890990900-1890995400@www.kinderschutz.de
SUMMARY:Sprechstunde
DESCRIPTION:mit Anmeldung bei der Treffleitung
URL:https://www.kinderschutz.de/veranstaltung/offenes-treffen-zum-deutsch-sprechen-fortgeschrittene-3-2-2/2029-12-03/
LOCATION:HeideTreff Nachbarschaftstreff\, Karl-Köglsperger-Straße 13\, München\, Bayern\, 80939\, Germany
CATEGORIES:Freimann,Wochenprogramm
ATTACH;FMTTYPE=image/jpeg:https://www.kinderschutz.de/wp-content/uploads/2025/01/Deutsch.jpg
END:VEVENT
BEGIN:VEVENT
DTSTART;TZID=Europe/Berlin:20291203T113000
DTEND;TZID=Europe/Berlin:20291203T133000
DTSTAMP:20260422T165102
CREATED:20260208T161934Z
LAST-MODIFIED:20260208T161945Z
UID:10056242-1890991800-1890999000@www.kinderschutz.de
SUMMARY:Offene Bürosprechstunde der Treffleitung des Nachbarschaftstreffs Freiham2
DESCRIPTION:Erstberatung zu allen sozialen Belangen sowie Weiterleitung an geeignete Fachstellen. Zudem Informationen und Beratung zu freiwilligem Engagement im Nachbarschaftstreff Freiham. Weitere Termine auf Anfrage: Kontakt: p.pooth@kinderschutz.de oder p.marek@kinderschutz.de
URL:https://www.kinderschutz.de/veranstaltung/offene-buerosprechstunde-der-treffleitung-des-nachbarschaftstreffs-freiham-3/2029-12-03/
LOCATION:Nachbarschaftstreff Freiham II\, Aubinger Allee 16\, München\, Bayern\, 81248\, Germany
CATEGORIES:Freiham,Wochenprogramm
ATTACH;FMTTYPE=image/png:https://www.kinderschutz.de/wp-content/uploads/2025/12/Sprechstunde-der-Treffleitung.png
END:VEVENT
BEGIN:VEVENT
DTSTART;TZID=Europe/Berlin:20291203T133000
DTEND;TZID=Europe/Berlin:20291203T150000
DTSTAMP:20260422T165102
CREATED:20240718T085306Z
LAST-MODIFIED:20250131T161135Z
UID:10031724-1890999000-1891004400@www.kinderschutz.de
SUMMARY:Pontis Freimann Sprechstunde und Jobcenter offene Sprechstunde
DESCRIPTION:Pontis Formularservice mit Voranmeldung\nTel.: 089 452 235 184 Weitere Infos zu Pontis
URL:https://www.kinderschutz.de/veranstaltung/pontis-freimann-sprechstunde-und-offene-sprechstunde-jobcenter/2029-12-03/
LOCATION:HeideTreff Nachbarschaftstreff\, Karl-Köglsperger-Straße 13\, München\, Bayern\, 80939\, Germany
CATEGORIES:Freimann,Wochenprogramm
ATTACH;FMTTYPE=image/jpeg:https://www.kinderschutz.de/wp-content/uploads/2025/01/Pontis2.jpg
END:VEVENT
BEGIN:VEVENT
DTSTART;TZID=Europe/Berlin:20291203T140000
DTEND;TZID=Europe/Berlin:20291203T150000
DTSTAMP:20260422T165102
CREATED:20250930T115606Z
LAST-MODIFIED:20250930T131029Z
UID:10045982-1891000800-1891004400@www.kinderschutz.de
SUMMARY:Deutschkurs mit Kinderbetreuung
DESCRIPTION:nur mit Anmeldung
URL:https://www.kinderschutz.de/veranstaltung/deutschkurs-mit-kinderbetreuung-3/2029-12-03/
LOCATION:HeideTreff Familienzentrum/ Familienstützpunkt\, Karl-Köglsperger-Straße 19\, München\, 80939
CATEGORIES:Freimann,Wochenprogramm
ATTACH;FMTTYPE=image/jpeg:https://www.kinderschutz.de/wp-content/uploads/2024/07/Deutschkurs.jpg
END:VEVENT
BEGIN:VEVENT
DTSTART;TZID=Europe/Berlin:20291203T140000
DTEND;TZID=Europe/Berlin:20291203T160000
DTSTAMP:20260422T165102
CREATED:20250930T121601Z
LAST-MODIFIED:20250930T121601Z
UID:10047079-1891000800-1891008000@www.kinderschutz.de
SUMMARY:Ausgabe von Kinderkleidung
DESCRIPTION:
URL:https://www.kinderschutz.de/veranstaltung/ausgabe-von-kinderkleidung-2/2029-12-03/
LOCATION:HeideTreff Familienzentrum/ Familienstützpunkt\, Karl-Köglsperger-Straße 19\, München\, 80939
CATEGORIES:Freimann,Wochenprogramm
ATTACH;FMTTYPE=image/jpeg:https://www.kinderschutz.de/wp-content/uploads/2024/07/Kleiderkammer.jpg
END:VEVENT
BEGIN:VEVENT
DTSTART;TZID=Europe/Berlin:20291204T090000
DTEND;TZID=Europe/Berlin:20291204T110000
DTSTAMP:20260422T165102
CREATED:20251118T144849Z
LAST-MODIFIED:20251118T145847Z
UID:10031727-1891069200-1891076400@www.kinderschutz.de
SUMMARY:Sprechzeit zur Raumvermietung
DESCRIPTION:Komm vorbei\, schreib eine Mail oder ruf an\, wenn du einen Raum für deine private Feier (z.B. Kindergeburtstag\, max. 25 Personen\, inkl. Kinder) suchst.  
URL:https://www.kinderschutz.de/veranstaltung/sprechzeit-zur-raumvermietung-2/2029-12-04/
LOCATION:HeideTreff Nachbarschaftstreff\, Karl-Köglsperger-Straße 13\, München\, Bayern\, 80939\, Germany
CATEGORIES:Freimann,Wochenprogramm
ATTACH;FMTTYPE=image/jpeg:https://www.kinderschutz.de/wp-content/uploads/2025/01/Sprechstunde-Vermietung.jpg
END:VEVENT
BEGIN:VEVENT
DTSTART;TZID=Europe/Berlin:20291204T100000
DTEND;TZID=Europe/Berlin:20291204T120000
DTSTAMP:20260422T165102
CREATED:20250322T210847Z
LAST-MODIFIED:20250322T211053Z
UID:10036212-1891072800-1891080000@www.kinderschutz.de
SUMMARY:Senior*innen Brunch
DESCRIPTION:Austausch\, Ausflüge und mehr für Senioren*innen und Ruheraum Suchende. Kontakt und INFO: senior-innen-netzwerk-freiham@kinderschutz.de
URL:https://www.kinderschutz.de/veranstaltung/seniorinnen-brunch-2/2029-12-04/
LOCATION:Nachbarschaftstreff Freiham I\, Ute-Strittmatter-Straße 30\, München\, Bayern\, 81248\, Germany
CATEGORIES:Freiham,Wochenprogramm
END:VEVENT
BEGIN:VEVENT
DTSTART;TZID=Europe/Berlin:20291204T100000
DTEND;TZID=Europe/Berlin:20291204T120000
DTSTAMP:20260422T165103
CREATED:20250930T122809Z
LAST-MODIFIED:20250930T122926Z
UID:10048144-1891072800-1891080000@www.kinderschutz.de
SUMMARY:Offenes Freispiel
DESCRIPTION:
URL:https://www.kinderschutz.de/veranstaltung/offenes-freispiel-5/2029-12-04/
LOCATION:HeideTreff Familienzentrum/ Familienstützpunkt\, Karl-Köglsperger-Straße 19\, München\, 80939
CATEGORIES:Freimann,Wochenprogramm
ATTACH;FMTTYPE=image/jpeg:https://www.kinderschutz.de/wp-content/uploads/2024/07/offenes-Freispiel.jpg
END:VEVENT
BEGIN:VEVENT
DTSTART;TZID=Europe/Berlin:20291204T103000
DTEND;TZID=Europe/Berlin:20291204T113000
DTSTAMP:20260422T165103
CREATED:20260220T131921Z
LAST-MODIFIED:20260220T131927Z
UID:10031736-1891074600-1891078200@www.kinderschutz.de
SUMMARY:Heide Sport (Fortgeschrittene)
DESCRIPTION:Offenes Bewegungsangebot für Frauen:\nDie Sportstunde richtet sich an alle Frauen*\, die durch begleitete Einheiten ihr gesundheitliches Wohlbefinden verbessern möchten. Im Anschluss an die Stunde kann man im Nachbarschaftstreff zusammenkommen und sich austauschen. Bei körperlichen Beschwerden\, bitte im Vorfeld einen Arzt oder eine Ärztin konsultieren. Dieses Treffangebot wird vom Bezirksausschuss 12 gefördert. Mit Anmeldung bei der Treffleitung\, Warteliste\n(Unkostenbeitrag 2€)    
URL:https://www.kinderschutz.de/veranstaltung/heide-sport-2/2029-12-04/
LOCATION:HeideTreff Nachbarschaftstreff\, Karl-Köglsperger-Straße 13\, München\, Bayern\, 80939\, Germany
CATEGORIES:Freimann,Wochenprogramm
ATTACH;FMTTYPE=image/jpeg:https://www.kinderschutz.de/wp-content/uploads/2025/01/Sport.jpg
END:VEVENT
BEGIN:VEVENT
DTSTART;TZID=Europe/Berlin:20291204T110000
DTEND;TZID=Europe/Berlin:20291204T120000
DTSTAMP:20260422T165103
CREATED:20250110T103235Z
LAST-MODIFIED:20250801T084053Z
UID:10032090-1891076400-1891080000@www.kinderschutz.de
SUMMARY:Sprechstunde Frühe Förderung
DESCRIPTION:Beratung für Eltern mit Kindern von 0-6 Jahren zu Angeboten der Frühen Förderung (Bildungs- und Freizeitangebote).\nBei Neslihan Bachlechner. Ohne Termin.
URL:https://www.kinderschutz.de/veranstaltung/sprechstunde-fruehe-foerderung/2029-12-04/
LOCATION:HeideTreff Familienzentrum/ Familienstützpunkt\, Karl-Köglsperger-Straße 19\, München\, 80939
CATEGORIES:Freimann,Wochenprogramm
ATTACH;FMTTYPE=image/jpeg:https://www.kinderschutz.de/wp-content/uploads/2025/01/Fruehe-Foerderung.jpg
END:VEVENT
BEGIN:VEVENT
DTSTART;TZID=Europe/Berlin:20291204T114500
DTEND;TZID=Europe/Berlin:20291204T124500
DTSTAMP:20260422T165103
CREATED:20260220T131647Z
LAST-MODIFIED:20260220T131705Z
UID:10032460-1891079100-1891082700@www.kinderschutz.de
SUMMARY:Heide Sport (Anfänger)
DESCRIPTION:Offenes Bewegungsangebot für Frauen:\nDie Sportstunde richtet sich an alle Frauen*\, die durch begleitete Einheiten ihr gesundheitliches Wohlbefinden verbessern möchten. Im Anschluss an die Stunde kann man im Nachbarschaftstreff zusammenkommen und sich austauschen. Bei körperlichen Beschwerden\, bitte im Vorfeld einen Arzt oder eine Ärztin konsultieren. Dieses Treffangebot wird vom Bezirksausschuss 12 gefördert. Mit Anmeldung bei der Treffleitung\, Warteliste\n(Unkostenbeitrag 2€)  
URL:https://www.kinderschutz.de/veranstaltung/heide-sport-anfaenger-2/2029-12-04/
LOCATION:HeideTreff Nachbarschaftstreff\, Karl-Köglsperger-Straße 13\, München\, Bayern\, 80939\, Germany
CATEGORIES:Freimann,Wochenprogramm
ATTACH;FMTTYPE=image/jpeg:https://www.kinderschutz.de/wp-content/uploads/2025/01/Sport.jpg
END:VEVENT
BEGIN:VEVENT
DTSTART;TZID=Europe/Berlin:20291204T130000
DTEND;TZID=Europe/Berlin:20291204T160000
DTSTAMP:20260422T165103
CREATED:20251011T083107Z
LAST-MODIFIED:20251220T170439Z
UID:10049464-1891083600-1891094400@www.kinderschutz.de
SUMMARY:SWAP Freiham Kleidertausch (Abgabe größeren Mengen)
DESCRIPTION:SWAP Freiham Kleidertausch im Nachbarschaftstreff Freiham! Tausch dich glücklich – nachhaltig\, sozial & mit Spaß am Stöbern Unser neuer Tauschtag (Bringen) ist NUR: dienstags von 13:00 – 16:00 Uhr im Nachbarschaftstreff Freiham2 in der Aubinger Allee 16. Wir wollen in Freiham die Umwelt schützen. Darum nehmen wir nur Kleidung\, die noch gut ist und weitergegeben oder getauscht werden kann! Wir nehmen Kleidung an\, NUR: in sehr gutem Zustand I frisch gewaschen\, gut riechend I maximal ca. 10 Teile Das Abholen von Kleidung geht zu den Öffnungszeiten. Bei größeren Abgabemengen oder beim Interesse Kleidertauschparty oder Flohmarkt zu organisieren bitte melden bei:\nFrances Pooth: Mobil: 0151/ 67 35 65 24  I swap-freiham@kinderschutz.de zum Flyer: KleidertauschFH2
URL:https://www.kinderschutz.de/veranstaltung/swap-freiham-kleidertausch-tauschtag/2029-12-04/
LOCATION:Nachbarschaftstreff Freiham II\, Aubinger Allee 16\, München\, Bayern\, 81248\, Germany
CATEGORIES:Freiham,Wochenprogramm
ATTACH;FMTTYPE=image/png:https://www.kinderschutz.de/wp-content/uploads/2025/10/KleidertauschFH2.png
END:VEVENT
BEGIN:VEVENT
DTSTART;TZID=Europe/Berlin:20291204T130000
DTEND;TZID=Europe/Berlin:20291204T170000
DTSTAMP:20260422T165103
CREATED:20260112T100948Z
LAST-MODIFIED:20260112T100948Z
UID:10057720-1891083600-1891098000@www.kinderschutz.de
SUMMARY:Migrationsberatung
DESCRIPTION:Offene Sprechstunde
URL:https://www.kinderschutz.de/veranstaltung/migrationsberatung-3/2029-12-04/
LOCATION:HeideTreff Familienzentrum/ Familienstützpunkt\, Karl-Köglsperger-Straße 19\, München\, 80939
CATEGORIES:Freimann,Wochenprogramm
ATTACH;FMTTYPE=image/png:https://www.kinderschutz.de/wp-content/uploads/2025/09/Migrationsberatung.png
END:VEVENT
BEGIN:VEVENT
DTSTART;TZID=Europe/Berlin:20291204T133000
DTEND;TZID=Europe/Berlin:20291204T150000
DTSTAMP:20260422T165103
CREATED:20241025T152549Z
LAST-MODIFIED:20250801T094115Z
UID:10031650-1891085400-1891090800@www.kinderschutz.de
SUMMARY:Mama-Sport
DESCRIPTION:Selbstorganisiert  
URL:https://www.kinderschutz.de/veranstaltung/mama-sport/2029-12-04/
LOCATION:HeideTreff Familienzentrum/ Familienstützpunkt\, Karl-Köglsperger-Straße 19\, München\, 80939
CATEGORIES:Freimann,Wochenprogramm
ATTACH;FMTTYPE=image/jpeg:https://www.kinderschutz.de/wp-content/uploads/2024/10/Mama-Sport.jpg
END:VEVENT
BEGIN:VEVENT
DTSTART;TZID=Europe/Berlin:20291204T140000
DTEND;TZID=Europe/Berlin:20291204T160000
DTSTAMP:20260422T165103
CREATED:20260413T121331Z
LAST-MODIFIED:20260413T121829Z
UID:10031739-1891087200-1891094400@www.kinderschutz.de
SUMMARY:Offene Sprechstunde Treffleitung
DESCRIPTION:Ihr habt ein Anliegen\, wollt an einer Gruppe teilnehmen oder im Nachbarschaftstreff aktiv werden? Kommt vorbei\, die Treffleitung Alexandra Falter hat ein offenes Ohr für euch.\nTermine nach telefonischer/persönlicher Absprache zu einem anderen Zeitpunkt sind selbstverständlich auch möglich.  
URL:https://www.kinderschutz.de/veranstaltung/offene-sprechstunde-treffleitung-2-2-3/2029-12-04/
LOCATION:HeideTreff Nachbarschaftstreff\, Karl-Köglsperger-Straße 13\, München\, Bayern\, 80939\, Germany
CATEGORIES:Freimann,Wochenprogramm
ATTACH;FMTTYPE=image/jpeg:https://www.kinderschutz.de/wp-content/uploads/2025/01/Sprechstunde.jpg
END:VEVENT
BEGIN:VEVENT
DTSTART;TZID=Europe/Berlin:20291204T150000
DTEND;TZID=Europe/Berlin:20291204T160000
DTSTAMP:20260422T165103
CREATED:20260209T142717Z
LAST-MODIFIED:20260209T142755Z
UID:10057981-1891090800-1891094400@www.kinderschutz.de
SUMMARY:Eltern-Kind-Basteln
DESCRIPTION:
URL:https://www.kinderschutz.de/veranstaltung/eltern-kind-basteln-2-2-2/2029-12-04/
LOCATION:HeideTreff Familienzentrum/ Familienstützpunkt\, Karl-Köglsperger-Straße 19\, München\, 80939
CATEGORIES:Freimann,Wochenprogramm
ATTACH;FMTTYPE=image/png:https://www.kinderschutz.de/wp-content/uploads/2024/07/16.9_5.png
END:VEVENT
BEGIN:VEVENT
DTSTART;TZID=Europe/Berlin:20291204T170000
DTEND;TZID=Europe/Berlin:20291204T210000
DTSTAMP:20260422T165103
CREATED:20251220T163024Z
LAST-MODIFIED:20251220T163024Z
UID:10055004-1891098000-1891112400@www.kinderschutz.de
SUMMARY:Es ist OFFEN: Raum für Treffen der nachbarschaftlichen Arbeitsgruppen auf Nachfrage!
DESCRIPTION:Raum für Treffen nachbarschaftlicher Arbeitsgruppen aus Freiham – auf Anfrage.Sie haben eine Idee und möchten ein kostenfreies oder kostengünstiges Angebot von Nachbar*innen für Nachbarn*innen realisieren? Dann nutzen Sie unseren offenen Raum für Austausch\, Planung und gemeinsames Arbeiten. Wir unterstützen Sie gerne! Info zur Raumnutzung unter nbt-freiham2@kinderschutz.de 
URL:https://www.kinderschutz.de/veranstaltung/es-ist-offen-raum-fuer-treffen-der-nachbarschaftlichen-arbeitsgruppen-auf-nachfrage/2029-12-04/
LOCATION:Nachbarschaftstreff Freiham II\, Aubinger Allee 16\, München\, Bayern\, 81248\, Germany
CATEGORIES:Freiham,Wochenprogramm
END:VEVENT
BEGIN:VEVENT
DTSTART;TZID=Europe/Berlin:20291204T180000
DTEND;TZID=Europe/Berlin:20291204T193000
DTSTAMP:20260422T165103
CREATED:20250324T154755Z
LAST-MODIFIED:20250324T154755Z
UID:10036655-1891101600-1891107000@www.kinderschutz.de
SUMMARY:Yoga for Women
DESCRIPTION:Infos und Anmeldung (Registration) bitte per Email an:\nAndrea | andrea@hallo-yoga-freiham.de\nSteffi | steffi@hallo-yoga-freiham.de Zum Flyer: FrauenYoga NBT_Freiham2025.03.24  
URL:https://www.kinderschutz.de/veranstaltung/yoga-for-women-3-2/2029-12-04/
LOCATION:Nachbarschaftstreff Freiham I\, Ute-Strittmatter-Straße 30\, München\, Bayern\, 81248\, Germany
CATEGORIES:Freiham,Wochenprogramm
END:VEVENT
BEGIN:VEVENT
DTSTART;TZID=Europe/Berlin:20291204T200000
DTEND;TZID=Europe/Berlin:20291204T210000
DTSTAMP:20260422T165103
CREATED:20250323T100932Z
LAST-MODIFIED:20250323T100932Z
UID:10037367-1891108800-1891112400@www.kinderschutz.de
SUMMARY:Pilates für Frauen:  Bewegungsangebot für türkische Community
DESCRIPTION:
URL:https://www.kinderschutz.de/veranstaltung/pilates-fuer-frauen-bewegungsangebot-fuer-tuerkische-community/2029-12-04/
LOCATION:Nachbarschaftstreff Freiham I\, Ute-Strittmatter-Straße 30\, München\, Bayern\, 81248\, Germany
CATEGORIES:Freiham,Wochenprogramm
END:VEVENT
BEGIN:VEVENT
DTSTART;TZID=Europe/Berlin:20291205T090000
DTEND;TZID=Europe/Berlin:20291205T100000
DTSTAMP:20260422T165103
CREATED:20250704T120329Z
LAST-MODIFIED:20251027T133106Z
UID:10053262-1891155600-1891159200@www.kinderschutz.de
SUMMARY:Tritt und Fit in der Heide
DESCRIPTION:Gemeinsames Walken im Kieferngarten (Mit Voranmeldung)
URL:https://www.kinderschutz.de/veranstaltung/tritt-und-fit-in-der-heide-2/2029-12-05/
LOCATION:HeideTreff Nachbarschaftstreff\, Karl-Köglsperger-Straße 13\, München\, Bayern\, 80939\, Germany
CATEGORIES:Freimann,Wochenprogramm
ATTACH;FMTTYPE=image/jpeg:https://www.kinderschutz.de/wp-content/uploads/2025/05/Walking.jpg
END:VEVENT
END:VCALENDAR