BEGIN:VCALENDAR
VERSION:2.0
PRODID:-//KINDERSCHUTZ MÜNCHEN - ECPv6.15.20//NONSGML v1.0//EN
CALSCALE:GREGORIAN
METHOD:PUBLISH
X-ORIGINAL-URL:https://www.kinderschutz.de
X-WR-CALDESC:Veranstaltungen für KINDERSCHUTZ MÜNCHEN
REFRESH-INTERVAL;VALUE=DURATION:PT1H
X-Robots-Tag:noindex
X-PUBLISHED-TTL:PT1H
BEGIN:VTIMEZONE
TZID:Europe/Berlin
BEGIN:DAYLIGHT
TZOFFSETFROM:+0100
TZOFFSETTO:+0200
TZNAME:CEST
DTSTART:20250330T010000
END:DAYLIGHT
BEGIN:STANDARD
TZOFFSETFROM:+0200
TZOFFSETTO:+0100
TZNAME:CET
DTSTART:20251026T010000
END:STANDARD
BEGIN:DAYLIGHT
TZOFFSETFROM:+0100
TZOFFSETTO:+0200
TZNAME:CEST
DTSTART:20260329T010000
END:DAYLIGHT
BEGIN:STANDARD
TZOFFSETFROM:+0200
TZOFFSETTO:+0100
TZNAME:CET
DTSTART:20261025T010000
END:STANDARD
BEGIN:DAYLIGHT
TZOFFSETFROM:+0100
TZOFFSETTO:+0200
TZNAME:CEST
DTSTART:20270328T010000
END:DAYLIGHT
BEGIN:STANDARD
TZOFFSETFROM:+0200
TZOFFSETTO:+0100
TZNAME:CET
DTSTART:20271031T010000
END:STANDARD
END:VTIMEZONE
BEGIN:VEVENT
DTSTART;TZID=Europe/Berlin:20260306T110000
DTEND;TZID=Europe/Berlin:20260306T130000
DTSTAMP:20260419T230723
CREATED:20250930T121940Z
LAST-MODIFIED:20250930T121942Z
UID:10047410-1772794800-1772802000@www.kinderschutz.de
SUMMARY:Gemeinsam kochen und essen
DESCRIPTION:Mit Kinderbetreuung
URL:https://www.kinderschutz.de/veranstaltung/gemeinsam-kochen-und-essen-2-2-2/2026-03-06/
LOCATION:HeideTreff Familienzentrum/ Familienstützpunkt\, Karl-Köglsperger-Straße 19\, München\, 80939
CATEGORIES:Freimann,Wochenprogramm
ATTACH;FMTTYPE=image/jpeg:https://www.kinderschutz.de/wp-content/uploads/2024/10/Kochen.jpg
END:VEVENT
BEGIN:VEVENT
DTSTART;TZID=Europe/Berlin:20260306T100000
DTEND;TZID=Europe/Berlin:20260306T113000
DTSTAMP:20260419T230723
CREATED:20250527T123817Z
LAST-MODIFIED:20250801T092047Z
UID:10041779-1772791200-1772796600@www.kinderschutz.de
SUMMARY:Elterntalk
DESCRIPTION:bringt Eltern ins Gespräch
URL:https://www.kinderschutz.de/veranstaltung/elterntalk-2/2026-03-06/
LOCATION:HeideTreff Familienzentrum/ Familienstützpunkt\, Karl-Köglsperger-Straße 19\, München\, 80939
CATEGORIES:Freimann,Wochenprogramm
ATTACH;FMTTYPE=image/jpeg:https://www.kinderschutz.de/wp-content/uploads/2025/01/Fruehe-Foerderung.jpg
END:VEVENT
BEGIN:VEVENT
DTSTART;TZID=Europe/Berlin:20260305T150000
DTEND;TZID=Europe/Berlin:20260305T160000
DTSTAMP:20260419T230724
CREATED:20240712T112513Z
LAST-MODIFIED:20250801T094628Z
UID:10004809-1772722800-1772726400@www.kinderschutz.de
SUMMARY:Eltern-Kind-Turnen
DESCRIPTION:
URL:https://www.kinderschutz.de/veranstaltung/eltern-kind-turnen/2026-03-05/
LOCATION:HeideTreff Familienzentrum/ Familienstützpunkt\, Karl-Köglsperger-Straße 19\, München\, 80939
CATEGORIES:Freimann,Wochenprogramm
ATTACH;FMTTYPE=image/jpeg:https://www.kinderschutz.de/wp-content/uploads/2024/08/Kinderturnen.jpg
END:VEVENT
BEGIN:VEVENT
DTSTART;TZID=Europe/Berlin:20260305T140000
DTEND;TZID=Europe/Berlin:20260305T160000
DTSTAMP:20260419T230724
CREATED:20240712T111448Z
LAST-MODIFIED:20250801T091820Z
UID:10004542-1772719200-1772726400@www.kinderschutz.de
SUMMARY:Offenes Freispiel
DESCRIPTION:
URL:https://www.kinderschutz.de/veranstaltung/offenes-freispiel-2/2026-03-05/
LOCATION:HeideTreff Familienzentrum/ Familienstützpunkt\, Karl-Köglsperger-Straße 19\, München\, 80939
CATEGORIES:Freimann,Wochenprogramm
ATTACH;FMTTYPE=image/jpeg:https://www.kinderschutz.de/wp-content/uploads/2024/07/offenes-Freispiel.jpg
END:VEVENT
BEGIN:VEVENT
DTSTART;TZID=Europe/Berlin:20260305T100000
DTEND;TZID=Europe/Berlin:20260305T113000
DTSTAMP:20260419T230724
CREATED:20240916T143818Z
LAST-MODIFIED:20250801T091940Z
UID:10025507-1772704800-1772710200@www.kinderschutz.de
SUMMARY:Baby Club
DESCRIPTION:
URL:https://www.kinderschutz.de/veranstaltung/baby-club/2026-03-05/
LOCATION:HeideTreff Familienzentrum/ Familienstützpunkt\, Karl-Köglsperger-Straße 19\, München\, 80939
CATEGORIES:Freimann,Wochenprogramm
ATTACH;FMTTYPE=image/jpeg:https://www.kinderschutz.de/wp-content/uploads/2024/09/Babyclub.jpg
END:VEVENT
BEGIN:VEVENT
DTSTART;TZID=Europe/Berlin:20260304T150000
DTEND;TZID=Europe/Berlin:20260304T163000
DTSTAMP:20260419T230724
CREATED:20240717T083515Z
LAST-MODIFIED:20250801T072150Z
UID:10018672-1772636400-1772641800@www.kinderschutz.de
SUMMARY:Elterncafé
DESCRIPTION:
URL:https://www.kinderschutz.de/veranstaltung/elterncafe-2/2026-03-04/
LOCATION:HeideTreff Familienzentrum/ Familienstützpunkt\, Karl-Köglsperger-Straße 19\, München\, 80939
CATEGORIES:Freimann,Wochenprogramm
ATTACH;FMTTYPE=image/jpeg:https://www.kinderschutz.de/wp-content/uploads/2024/08/Elterncafe.jpg
END:VEVENT
BEGIN:VEVENT
DTSTART;TZID=Europe/Berlin:20260304T100000
DTEND;TZID=Europe/Berlin:20260304T113000
DTSTAMP:20260419T230724
CREATED:20240703T182342Z
LAST-MODIFIED:20250801T072313Z
UID:10003249-1772618400-1772623800@www.kinderschutz.de
SUMMARY:Elterncafé
DESCRIPTION:
URL:https://www.kinderschutz.de/veranstaltung/elterncafe/2026-03-04/
LOCATION:HeideTreff Familienzentrum/ Familienstützpunkt\, Karl-Köglsperger-Straße 19\, München\, 80939
CATEGORIES:Freimann,Wochenprogramm
ATTACH;FMTTYPE=image/jpeg:https://www.kinderschutz.de/wp-content/uploads/2024/08/Elterncafe.jpg
END:VEVENT
BEGIN:VEVENT
DTSTART;TZID=Europe/Berlin:20260304T090000
DTEND;TZID=Europe/Berlin:20260304T120000
DTSTAMP:20260419T230724
CREATED:20240717T083413Z
LAST-MODIFIED:20250801T083358Z
UID:10018411-1772614800-1772625600@www.kinderschutz.de
SUMMARY:Kita-Finder Sprechstunde
DESCRIPTION:Anmeldung bei Marcela Drissi\nTel.: 0152 56 89 48 99
URL:https://www.kinderschutz.de/veranstaltung/kita-finder-sprechstunde/2026-03-04/
LOCATION:HeideTreff Familienzentrum/ Familienstützpunkt\, Karl-Köglsperger-Straße 19\, München\, 80939
CATEGORIES:Freimann,Wochenprogramm
ATTACH;FMTTYPE=image/jpeg:https://www.kinderschutz.de/wp-content/uploads/2024/08/Kita-finder.jpg
END:VEVENT
BEGIN:VEVENT
DTSTART;TZID=Europe/Berlin:20260304T090000
DTEND;TZID=Europe/Berlin:20260304T113000
DTSTAMP:20260419T230724
CREATED:20250930T124643Z
LAST-MODIFIED:20250930T124720Z
UID:10048239-1772614800-1772623800@www.kinderschutz.de
SUMMARY:Spielgruppe (mit Anmeldung)
DESCRIPTION:nur mit Anmeldung
URL:https://www.kinderschutz.de/veranstaltung/spielgruppe-2-2/2026-03-04/
LOCATION:HeideTreff Familienzentrum/ Familienstützpunkt\, Karl-Köglsperger-Straße 19\, München\, 80939
CATEGORIES:Freimann,Wochenprogramm
ATTACH;FMTTYPE=image/jpeg:https://www.kinderschutz.de/wp-content/uploads/2024/07/Spielgruppe.jpg
END:VEVENT
BEGIN:VEVENT
DTSTART;TZID=Europe/Berlin:20260303T150000
DTEND;TZID=Europe/Berlin:20260303T160000
DTSTAMP:20260419T230724
CREATED:20260209T142717Z
LAST-MODIFIED:20260209T142755Z
UID:10057785-1772550000-1772553600@www.kinderschutz.de
SUMMARY:Eltern-Kind-Basteln
DESCRIPTION:
URL:https://www.kinderschutz.de/veranstaltung/eltern-kind-basteln-2-2-2/2026-03-03/
LOCATION:HeideTreff Familienzentrum/ Familienstützpunkt\, Karl-Köglsperger-Straße 19\, München\, 80939
CATEGORIES:Freimann,Wochenprogramm
ATTACH;FMTTYPE=image/png:https://www.kinderschutz.de/wp-content/uploads/2024/07/16.9_5.png
END:VEVENT
BEGIN:VEVENT
DTSTART;TZID=Europe/Berlin:20260303T133000
DTEND;TZID=Europe/Berlin:20260303T150000
DTSTAMP:20260419T230724
CREATED:20241025T152549Z
LAST-MODIFIED:20250801T094115Z
UID:10028959-1772544600-1772550000@www.kinderschutz.de
SUMMARY:Mama-Sport
DESCRIPTION:Selbstorganisiert  
URL:https://www.kinderschutz.de/veranstaltung/mama-sport/2026-03-03/
LOCATION:HeideTreff Familienzentrum/ Familienstützpunkt\, Karl-Köglsperger-Straße 19\, München\, 80939
CATEGORIES:Freimann,Wochenprogramm
ATTACH;FMTTYPE=image/jpeg:https://www.kinderschutz.de/wp-content/uploads/2024/10/Mama-Sport.jpg
END:VEVENT
BEGIN:VEVENT
DTSTART;TZID=Europe/Berlin:20260303T130000
DTEND;TZID=Europe/Berlin:20260303T170000
DTSTAMP:20260419T230724
CREATED:20260112T100948Z
LAST-MODIFIED:20260112T100948Z
UID:10057524-1772542800-1772557200@www.kinderschutz.de
SUMMARY:Migrationsberatung
DESCRIPTION:Offene Sprechstunde
URL:https://www.kinderschutz.de/veranstaltung/migrationsberatung-3/2026-03-03/
LOCATION:HeideTreff Familienzentrum/ Familienstützpunkt\, Karl-Köglsperger-Straße 19\, München\, 80939
CATEGORIES:Freimann,Wochenprogramm
ATTACH;FMTTYPE=image/png:https://www.kinderschutz.de/wp-content/uploads/2025/09/Migrationsberatung.png
END:VEVENT
BEGIN:VEVENT
DTSTART;TZID=Europe/Berlin:20260303T110000
DTEND;TZID=Europe/Berlin:20260303T120000
DTSTAMP:20260419T230724
CREATED:20250110T103235Z
LAST-MODIFIED:20250801T084053Z
UID:10031894-1772535600-1772539200@www.kinderschutz.de
SUMMARY:Sprechstunde Frühe Förderung
DESCRIPTION:Beratung für Eltern mit Kindern von 0-6 Jahren zu Angeboten der Frühen Förderung (Bildungs- und Freizeitangebote).\nBei Neslihan Bachlechner. Ohne Termin.
URL:https://www.kinderschutz.de/veranstaltung/sprechstunde-fruehe-foerderung/2026-03-03/
LOCATION:HeideTreff Familienzentrum/ Familienstützpunkt\, Karl-Köglsperger-Straße 19\, München\, 80939
CATEGORIES:Freimann,Wochenprogramm
ATTACH;FMTTYPE=image/jpeg:https://www.kinderschutz.de/wp-content/uploads/2025/01/Fruehe-Foerderung.jpg
END:VEVENT
BEGIN:VEVENT
DTSTART;TZID=Europe/Berlin:20260303T100000
DTEND;TZID=Europe/Berlin:20260303T120000
DTSTAMP:20260419T230724
CREATED:20250930T122809Z
LAST-MODIFIED:20250930T122926Z
UID:10047948-1772532000-1772539200@www.kinderschutz.de
SUMMARY:Offenes Freispiel
DESCRIPTION:
URL:https://www.kinderschutz.de/veranstaltung/offenes-freispiel-5/2026-03-03/
LOCATION:HeideTreff Familienzentrum/ Familienstützpunkt\, Karl-Köglsperger-Straße 19\, München\, 80939
CATEGORIES:Freimann,Wochenprogramm
ATTACH;FMTTYPE=image/jpeg:https://www.kinderschutz.de/wp-content/uploads/2024/07/offenes-Freispiel.jpg
END:VEVENT
BEGIN:VEVENT
DTSTART;TZID=Europe/Berlin:20260302T140000
DTEND;TZID=Europe/Berlin:20260302T160000
DTSTAMP:20260419T230724
CREATED:20250930T121601Z
LAST-MODIFIED:20250930T121601Z
UID:10046883-1772460000-1772467200@www.kinderschutz.de
SUMMARY:Ausgabe von Kinderkleidung
DESCRIPTION:
URL:https://www.kinderschutz.de/veranstaltung/ausgabe-von-kinderkleidung-2/2026-03-02/
LOCATION:HeideTreff Familienzentrum/ Familienstützpunkt\, Karl-Köglsperger-Straße 19\, München\, 80939
CATEGORIES:Freimann,Wochenprogramm
ATTACH;FMTTYPE=image/jpeg:https://www.kinderschutz.de/wp-content/uploads/2024/07/Kleiderkammer.jpg
END:VEVENT
BEGIN:VEVENT
DTSTART;TZID=Europe/Berlin:20260302T140000
DTEND;TZID=Europe/Berlin:20260302T150000
DTSTAMP:20260419T230724
CREATED:20250930T115606Z
LAST-MODIFIED:20250930T131029Z
UID:10045786-1772460000-1772463600@www.kinderschutz.de
SUMMARY:Deutschkurs mit Kinderbetreuung
DESCRIPTION:nur mit Anmeldung
URL:https://www.kinderschutz.de/veranstaltung/deutschkurs-mit-kinderbetreuung-3/2026-03-02/
LOCATION:HeideTreff Familienzentrum/ Familienstützpunkt\, Karl-Köglsperger-Straße 19\, München\, 80939
CATEGORIES:Freimann,Wochenprogramm
ATTACH;FMTTYPE=image/jpeg:https://www.kinderschutz.de/wp-content/uploads/2024/07/Deutschkurs.jpg
END:VEVENT
BEGIN:VEVENT
DTSTART;TZID=Europe/Berlin:20260302T093000
DTEND;TZID=Europe/Berlin:20260302T110000
DTSTAMP:20260419T230724
CREATED:20250527T123654Z
LAST-MODIFIED:20250801T092148Z
UID:10041517-1772443800-1772449200@www.kinderschutz.de
SUMMARY:Elterntalk
DESCRIPTION:bringt Eltern ins Gespräch
URL:https://www.kinderschutz.de/veranstaltung/elterntalk/2026-03-02/
LOCATION:HeideTreff Familienzentrum/ Familienstützpunkt\, Karl-Köglsperger-Straße 19\, München\, 80939
CATEGORIES:Freimann,Wochenprogramm
ATTACH;FMTTYPE=image/jpeg:https://www.kinderschutz.de/wp-content/uploads/2025/01/Fruehe-Foerderung.jpg
END:VEVENT
BEGIN:VEVENT
DTSTART;TZID=Europe/Berlin:20260302T090000
DTEND;TZID=Europe/Berlin:20260302T113000
DTSTAMP:20260419T230724
CREATED:20250930T124643Z
LAST-MODIFIED:20250930T124720Z
UID:10048238-1772442000-1772451000@www.kinderschutz.de
SUMMARY:Spielgruppe (mit Anmeldung)
DESCRIPTION:nur mit Anmeldung
URL:https://www.kinderschutz.de/veranstaltung/spielgruppe-2-2/2026-03-02/
LOCATION:HeideTreff Familienzentrum/ Familienstützpunkt\, Karl-Köglsperger-Straße 19\, München\, 80939
CATEGORIES:Freimann,Wochenprogramm
ATTACH;FMTTYPE=image/jpeg:https://www.kinderschutz.de/wp-content/uploads/2024/07/Spielgruppe.jpg
END:VEVENT
BEGIN:VEVENT
DTSTART;TZID=Europe/Berlin:20260227T140000
DTEND;TZID=Europe/Berlin:20260227T150000
DTSTAMP:20260419T230724
CREATED:20250930T125426Z
LAST-MODIFIED:20250930T125427Z
UID:10046308-1772200800-1772204400@www.kinderschutz.de
SUMMARY:Deutschkurs mit Kinderbetreuung
DESCRIPTION:nur mit Anmeldung
URL:https://www.kinderschutz.de/veranstaltung/deutschkurs-mit-kinderbetreuung-4-2/2026-02-27/
LOCATION:HeideTreff Familienzentrum/ Familienstützpunkt\, Karl-Köglsperger-Straße 19\, München\, 80939
CATEGORIES:Freimann,Wochenprogramm
ATTACH;FMTTYPE=image/jpeg:https://www.kinderschutz.de/wp-content/uploads/2024/07/Deutschkurs.jpg
END:VEVENT
BEGIN:VEVENT
DTSTART;TZID=Europe/Berlin:20260227T110000
DTEND;TZID=Europe/Berlin:20260227T130000
DTSTAMP:20260419T230724
CREATED:20250930T121940Z
LAST-MODIFIED:20250930T121942Z
UID:10047409-1772190000-1772197200@www.kinderschutz.de
SUMMARY:Gemeinsam kochen und essen
DESCRIPTION:Mit Kinderbetreuung
URL:https://www.kinderschutz.de/veranstaltung/gemeinsam-kochen-und-essen-2-2-2/2026-02-27/
LOCATION:HeideTreff Familienzentrum/ Familienstützpunkt\, Karl-Köglsperger-Straße 19\, München\, 80939
CATEGORIES:Freimann,Wochenprogramm
ATTACH;FMTTYPE=image/jpeg:https://www.kinderschutz.de/wp-content/uploads/2024/10/Kochen.jpg
END:VEVENT
BEGIN:VEVENT
DTSTART;TZID=Europe/Berlin:20260227T100000
DTEND;TZID=Europe/Berlin:20260227T113000
DTSTAMP:20260419T230724
CREATED:20250527T123817Z
LAST-MODIFIED:20250801T092047Z
UID:10041778-1772186400-1772191800@www.kinderschutz.de
SUMMARY:Elterntalk
DESCRIPTION:bringt Eltern ins Gespräch
URL:https://www.kinderschutz.de/veranstaltung/elterntalk-2/2026-02-27/
LOCATION:HeideTreff Familienzentrum/ Familienstützpunkt\, Karl-Köglsperger-Straße 19\, München\, 80939
CATEGORIES:Freimann,Wochenprogramm
ATTACH;FMTTYPE=image/jpeg:https://www.kinderschutz.de/wp-content/uploads/2025/01/Fruehe-Foerderung.jpg
END:VEVENT
BEGIN:VEVENT
DTSTART;TZID=Europe/Berlin:20260226T150000
DTEND;TZID=Europe/Berlin:20260226T160000
DTSTAMP:20260419T230724
CREATED:20240712T112513Z
LAST-MODIFIED:20250801T094628Z
UID:10004808-1772118000-1772121600@www.kinderschutz.de
SUMMARY:Eltern-Kind-Turnen
DESCRIPTION:
URL:https://www.kinderschutz.de/veranstaltung/eltern-kind-turnen/2026-02-26/
LOCATION:HeideTreff Familienzentrum/ Familienstützpunkt\, Karl-Köglsperger-Straße 19\, München\, 80939
CATEGORIES:Freimann,Wochenprogramm
ATTACH;FMTTYPE=image/jpeg:https://www.kinderschutz.de/wp-content/uploads/2024/08/Kinderturnen.jpg
END:VEVENT
BEGIN:VEVENT
DTSTART;TZID=Europe/Berlin:20260226T140000
DTEND;TZID=Europe/Berlin:20260226T160000
DTSTAMP:20260419T230724
CREATED:20240712T111448Z
LAST-MODIFIED:20250801T091820Z
UID:10004541-1772114400-1772121600@www.kinderschutz.de
SUMMARY:Offenes Freispiel
DESCRIPTION:
URL:https://www.kinderschutz.de/veranstaltung/offenes-freispiel-2/2026-02-26/
LOCATION:HeideTreff Familienzentrum/ Familienstützpunkt\, Karl-Köglsperger-Straße 19\, München\, 80939
CATEGORIES:Freimann,Wochenprogramm
ATTACH;FMTTYPE=image/jpeg:https://www.kinderschutz.de/wp-content/uploads/2024/07/offenes-Freispiel.jpg
END:VEVENT
BEGIN:VEVENT
DTSTART;TZID=Europe/Berlin:20260226T100000
DTEND;TZID=Europe/Berlin:20260226T120000
DTSTAMP:20260419T230724
CREATED:20240916T145722Z
LAST-MODIFIED:20250801T113541Z
UID:10025736-1772100000-1772107200@www.kinderschutz.de
SUMMARY:e:du-Gruppentreffen
DESCRIPTION:Nur für e:du Familien. Weitere Infos zum e:du Spiel- und Lernprogramm für Kleinkinder im Heidetreff Familienzentrum/Familienstützpunkt.
URL:https://www.kinderschutz.de/veranstaltung/edu-gruppentreffen/2026-02-26/
LOCATION:HeideTreff Familienzentrum/ Familienstützpunkt\, Karl-Köglsperger-Straße 19\, München\, 80939
CATEGORIES:Freimann,Wochenprogramm
ATTACH;FMTTYPE=image/jpeg:https://www.kinderschutz.de/wp-content/uploads/2024/10/EDu.jpg
END:VEVENT
BEGIN:VEVENT
DTSTART;TZID=Europe/Berlin:20260226T100000
DTEND;TZID=Europe/Berlin:20260226T113000
DTSTAMP:20260419T230724
CREATED:20240916T143818Z
LAST-MODIFIED:20250801T091940Z
UID:10025506-1772100000-1772105400@www.kinderschutz.de
SUMMARY:Baby Club
DESCRIPTION:
URL:https://www.kinderschutz.de/veranstaltung/baby-club/2026-02-26/
LOCATION:HeideTreff Familienzentrum/ Familienstützpunkt\, Karl-Köglsperger-Straße 19\, München\, 80939
CATEGORIES:Freimann,Wochenprogramm
ATTACH;FMTTYPE=image/jpeg:https://www.kinderschutz.de/wp-content/uploads/2024/09/Babyclub.jpg
END:VEVENT
BEGIN:VEVENT
DTSTART;TZID=Europe/Berlin:20260225T150000
DTEND;TZID=Europe/Berlin:20260225T163000
DTSTAMP:20260419T230724
CREATED:20240717T083515Z
LAST-MODIFIED:20250801T072150Z
UID:10018671-1772031600-1772037000@www.kinderschutz.de
SUMMARY:Elterncafé
DESCRIPTION:
URL:https://www.kinderschutz.de/veranstaltung/elterncafe-2/2026-02-25/
LOCATION:HeideTreff Familienzentrum/ Familienstützpunkt\, Karl-Köglsperger-Straße 19\, München\, 80939
CATEGORIES:Freimann,Wochenprogramm
ATTACH;FMTTYPE=image/jpeg:https://www.kinderschutz.de/wp-content/uploads/2024/08/Elterncafe.jpg
END:VEVENT
BEGIN:VEVENT
DTSTART;TZID=Europe/Berlin:20260225T100000
DTEND;TZID=Europe/Berlin:20260225T113000
DTSTAMP:20260419T230724
CREATED:20240703T182342Z
LAST-MODIFIED:20250801T072313Z
UID:10003248-1772013600-1772019000@www.kinderschutz.de
SUMMARY:Elterncafé
DESCRIPTION:
URL:https://www.kinderschutz.de/veranstaltung/elterncafe/2026-02-25/
LOCATION:HeideTreff Familienzentrum/ Familienstützpunkt\, Karl-Köglsperger-Straße 19\, München\, 80939
CATEGORIES:Freimann,Wochenprogramm
ATTACH;FMTTYPE=image/jpeg:https://www.kinderschutz.de/wp-content/uploads/2024/08/Elterncafe.jpg
END:VEVENT
BEGIN:VEVENT
DTSTART;TZID=Europe/Berlin:20260225T090000
DTEND;TZID=Europe/Berlin:20260225T120000
DTSTAMP:20260419T230724
CREATED:20240717T083413Z
LAST-MODIFIED:20250801T083358Z
UID:10018410-1772010000-1772020800@www.kinderschutz.de
SUMMARY:Kita-Finder Sprechstunde
DESCRIPTION:Anmeldung bei Marcela Drissi\nTel.: 0152 56 89 48 99
URL:https://www.kinderschutz.de/veranstaltung/kita-finder-sprechstunde/2026-02-25/
LOCATION:HeideTreff Familienzentrum/ Familienstützpunkt\, Karl-Köglsperger-Straße 19\, München\, 80939
CATEGORIES:Freimann,Wochenprogramm
ATTACH;FMTTYPE=image/jpeg:https://www.kinderschutz.de/wp-content/uploads/2024/08/Kita-finder.jpg
END:VEVENT
BEGIN:VEVENT
DTSTART;TZID=Europe/Berlin:20260225T090000
DTEND;TZID=Europe/Berlin:20260225T113000
DTSTAMP:20260419T230724
CREATED:20250930T124643Z
LAST-MODIFIED:20250930T124720Z
UID:10048237-1772010000-1772019000@www.kinderschutz.de
SUMMARY:Spielgruppe (mit Anmeldung)
DESCRIPTION:nur mit Anmeldung
URL:https://www.kinderschutz.de/veranstaltung/spielgruppe-2-2/2026-02-25/
LOCATION:HeideTreff Familienzentrum/ Familienstützpunkt\, Karl-Köglsperger-Straße 19\, München\, 80939
CATEGORIES:Freimann,Wochenprogramm
ATTACH;FMTTYPE=image/jpeg:https://www.kinderschutz.de/wp-content/uploads/2024/07/Spielgruppe.jpg
END:VEVENT
BEGIN:VEVENT
DTSTART;TZID=Europe/Berlin:20260224T150000
DTEND;TZID=Europe/Berlin:20260224T160000
DTSTAMP:20260419T230724
CREATED:20260209T142717Z
LAST-MODIFIED:20260209T142755Z
UID:10057784-1771945200-1771948800@www.kinderschutz.de
SUMMARY:Eltern-Kind-Basteln
DESCRIPTION:
URL:https://www.kinderschutz.de/veranstaltung/eltern-kind-basteln-2-2-2/2026-02-24/
LOCATION:HeideTreff Familienzentrum/ Familienstützpunkt\, Karl-Köglsperger-Straße 19\, München\, 80939
CATEGORIES:Freimann,Wochenprogramm
ATTACH;FMTTYPE=image/png:https://www.kinderschutz.de/wp-content/uploads/2024/07/16.9_5.png
END:VEVENT
END:VCALENDAR