BEGIN:VCALENDAR
VERSION:2.0
PRODID:-//KINDERSCHUTZ MÜNCHEN - ECPv6.15.20//NONSGML v1.0//EN
CALSCALE:GREGORIAN
METHOD:PUBLISH
X-ORIGINAL-URL:https://www.kinderschutz.de
X-WR-CALDESC:Veranstaltungen für KINDERSCHUTZ MÜNCHEN
REFRESH-INTERVAL;VALUE=DURATION:PT1H
X-Robots-Tag:noindex
X-PUBLISHED-TTL:PT1H
BEGIN:VTIMEZONE
TZID:Europe/Berlin
BEGIN:DAYLIGHT
TZOFFSETFROM:+0100
TZOFFSETTO:+0200
TZNAME:CEST
DTSTART:20250330T010000
END:DAYLIGHT
BEGIN:STANDARD
TZOFFSETFROM:+0200
TZOFFSETTO:+0100
TZNAME:CET
DTSTART:20251026T010000
END:STANDARD
BEGIN:DAYLIGHT
TZOFFSETFROM:+0100
TZOFFSETTO:+0200
TZNAME:CEST
DTSTART:20260329T010000
END:DAYLIGHT
BEGIN:STANDARD
TZOFFSETFROM:+0200
TZOFFSETTO:+0100
TZNAME:CET
DTSTART:20261025T010000
END:STANDARD
BEGIN:DAYLIGHT
TZOFFSETFROM:+0100
TZOFFSETTO:+0200
TZNAME:CEST
DTSTART:20270328T010000
END:DAYLIGHT
BEGIN:STANDARD
TZOFFSETFROM:+0200
TZOFFSETTO:+0100
TZNAME:CET
DTSTART:20271031T010000
END:STANDARD
END:VTIMEZONE
BEGIN:VEVENT
DTSTART;TZID=Europe/Berlin:20260319T100000
DTEND;TZID=Europe/Berlin:20260319T113000
DTSTAMP:20260419T180255
CREATED:20240916T143818Z
LAST-MODIFIED:20250801T091940Z
UID:10025509-1773914400-1773919800@www.kinderschutz.de
SUMMARY:Baby Club
DESCRIPTION:
URL:https://www.kinderschutz.de/veranstaltung/baby-club/2026-03-19/
LOCATION:HeideTreff Familienzentrum/ Familienstützpunkt\, Karl-Köglsperger-Straße 19\, München\, 80939
CATEGORIES:Freimann,Wochenprogramm
ATTACH;FMTTYPE=image/jpeg:https://www.kinderschutz.de/wp-content/uploads/2024/09/Babyclub.jpg
END:VEVENT
BEGIN:VEVENT
DTSTART;TZID=Europe/Berlin:20260318T150000
DTEND;TZID=Europe/Berlin:20260318T163000
DTSTAMP:20260419T180255
CREATED:20240717T083515Z
LAST-MODIFIED:20250801T072150Z
UID:10018674-1773846000-1773851400@www.kinderschutz.de
SUMMARY:Elterncafé
DESCRIPTION:
URL:https://www.kinderschutz.de/veranstaltung/elterncafe-2/2026-03-18/
LOCATION:HeideTreff Familienzentrum/ Familienstützpunkt\, Karl-Köglsperger-Straße 19\, München\, 80939
CATEGORIES:Freimann,Wochenprogramm
ATTACH;FMTTYPE=image/jpeg:https://www.kinderschutz.de/wp-content/uploads/2024/08/Elterncafe.jpg
END:VEVENT
BEGIN:VEVENT
DTSTART;TZID=Europe/Berlin:20260318T100000
DTEND;TZID=Europe/Berlin:20260318T113000
DTSTAMP:20260419T180255
CREATED:20240703T182342Z
LAST-MODIFIED:20250801T072313Z
UID:10003251-1773828000-1773833400@www.kinderschutz.de
SUMMARY:Elterncafé
DESCRIPTION:
URL:https://www.kinderschutz.de/veranstaltung/elterncafe/2026-03-18/
LOCATION:HeideTreff Familienzentrum/ Familienstützpunkt\, Karl-Köglsperger-Straße 19\, München\, 80939
CATEGORIES:Freimann,Wochenprogramm
ATTACH;FMTTYPE=image/jpeg:https://www.kinderschutz.de/wp-content/uploads/2024/08/Elterncafe.jpg
END:VEVENT
BEGIN:VEVENT
DTSTART;TZID=Europe/Berlin:20260318T090000
DTEND;TZID=Europe/Berlin:20260318T120000
DTSTAMP:20260419T180255
CREATED:20240717T083413Z
LAST-MODIFIED:20250801T083358Z
UID:10018413-1773824400-1773835200@www.kinderschutz.de
SUMMARY:Kita-Finder Sprechstunde
DESCRIPTION:Anmeldung bei Marcela Drissi\nTel.: 0152 56 89 48 99
URL:https://www.kinderschutz.de/veranstaltung/kita-finder-sprechstunde/2026-03-18/
LOCATION:HeideTreff Familienzentrum/ Familienstützpunkt\, Karl-Köglsperger-Straße 19\, München\, 80939
CATEGORIES:Freimann,Wochenprogramm
ATTACH;FMTTYPE=image/jpeg:https://www.kinderschutz.de/wp-content/uploads/2024/08/Kita-finder.jpg
END:VEVENT
BEGIN:VEVENT
DTSTART;TZID=Europe/Berlin:20260318T090000
DTEND;TZID=Europe/Berlin:20260318T113000
DTSTAMP:20260419T180255
CREATED:20250930T124643Z
LAST-MODIFIED:20250930T124720Z
UID:10048243-1773824400-1773833400@www.kinderschutz.de
SUMMARY:Spielgruppe (mit Anmeldung)
DESCRIPTION:nur mit Anmeldung
URL:https://www.kinderschutz.de/veranstaltung/spielgruppe-2-2/2026-03-18/
LOCATION:HeideTreff Familienzentrum/ Familienstützpunkt\, Karl-Köglsperger-Straße 19\, München\, 80939
CATEGORIES:Freimann,Wochenprogramm
ATTACH;FMTTYPE=image/jpeg:https://www.kinderschutz.de/wp-content/uploads/2024/07/Spielgruppe.jpg
END:VEVENT
BEGIN:VEVENT
DTSTART;TZID=Europe/Berlin:20260317T150000
DTEND;TZID=Europe/Berlin:20260317T160000
DTSTAMP:20260419T180255
CREATED:20260209T142717Z
LAST-MODIFIED:20260209T142755Z
UID:10057787-1773759600-1773763200@www.kinderschutz.de
SUMMARY:Eltern-Kind-Basteln
DESCRIPTION:
URL:https://www.kinderschutz.de/veranstaltung/eltern-kind-basteln-2-2-2/2026-03-17/
LOCATION:HeideTreff Familienzentrum/ Familienstützpunkt\, Karl-Köglsperger-Straße 19\, München\, 80939
CATEGORIES:Freimann,Wochenprogramm
ATTACH;FMTTYPE=image/png:https://www.kinderschutz.de/wp-content/uploads/2024/07/16.9_5.png
END:VEVENT
BEGIN:VEVENT
DTSTART;TZID=Europe/Berlin:20260317T133000
DTEND;TZID=Europe/Berlin:20260317T150000
DTSTAMP:20260419T180255
CREATED:20241025T152549Z
LAST-MODIFIED:20250801T094115Z
UID:10028961-1773754200-1773759600@www.kinderschutz.de
SUMMARY:Mama-Sport
DESCRIPTION:Selbstorganisiert  
URL:https://www.kinderschutz.de/veranstaltung/mama-sport/2026-03-17/
LOCATION:HeideTreff Familienzentrum/ Familienstützpunkt\, Karl-Köglsperger-Straße 19\, München\, 80939
CATEGORIES:Freimann,Wochenprogramm
ATTACH;FMTTYPE=image/jpeg:https://www.kinderschutz.de/wp-content/uploads/2024/10/Mama-Sport.jpg
END:VEVENT
BEGIN:VEVENT
DTSTART;TZID=Europe/Berlin:20260317T130000
DTEND;TZID=Europe/Berlin:20260317T170000
DTSTAMP:20260419T180255
CREATED:20260112T100948Z
LAST-MODIFIED:20260112T100948Z
UID:10057526-1773752400-1773766800@www.kinderschutz.de
SUMMARY:Migrationsberatung
DESCRIPTION:Offene Sprechstunde
URL:https://www.kinderschutz.de/veranstaltung/migrationsberatung-3/2026-03-17/
LOCATION:HeideTreff Familienzentrum/ Familienstützpunkt\, Karl-Köglsperger-Straße 19\, München\, 80939
CATEGORIES:Freimann,Wochenprogramm
ATTACH;FMTTYPE=image/png:https://www.kinderschutz.de/wp-content/uploads/2025/09/Migrationsberatung.png
END:VEVENT
BEGIN:VEVENT
DTSTART;TZID=Europe/Berlin:20260317T110000
DTEND;TZID=Europe/Berlin:20260317T120000
DTSTAMP:20260419T180255
CREATED:20250110T103235Z
LAST-MODIFIED:20250801T084053Z
UID:10031896-1773745200-1773748800@www.kinderschutz.de
SUMMARY:Sprechstunde Frühe Förderung
DESCRIPTION:Beratung für Eltern mit Kindern von 0-6 Jahren zu Angeboten der Frühen Förderung (Bildungs- und Freizeitangebote).\nBei Neslihan Bachlechner. Ohne Termin.
URL:https://www.kinderschutz.de/veranstaltung/sprechstunde-fruehe-foerderung/2026-03-17/
LOCATION:HeideTreff Familienzentrum/ Familienstützpunkt\, Karl-Köglsperger-Straße 19\, München\, 80939
CATEGORIES:Freimann,Wochenprogramm
ATTACH;FMTTYPE=image/jpeg:https://www.kinderschutz.de/wp-content/uploads/2025/01/Fruehe-Foerderung.jpg
END:VEVENT
BEGIN:VEVENT
DTSTART;TZID=Europe/Berlin:20260317T100000
DTEND;TZID=Europe/Berlin:20260317T120000
DTSTAMP:20260419T180255
CREATED:20250930T122809Z
LAST-MODIFIED:20250930T122926Z
UID:10047950-1773741600-1773748800@www.kinderschutz.de
SUMMARY:Offenes Freispiel
DESCRIPTION:
URL:https://www.kinderschutz.de/veranstaltung/offenes-freispiel-5/2026-03-17/
LOCATION:HeideTreff Familienzentrum/ Familienstützpunkt\, Karl-Köglsperger-Straße 19\, München\, 80939
CATEGORIES:Freimann,Wochenprogramm
ATTACH;FMTTYPE=image/jpeg:https://www.kinderschutz.de/wp-content/uploads/2024/07/offenes-Freispiel.jpg
END:VEVENT
BEGIN:VEVENT
DTSTART;TZID=Europe/Berlin:20260316T140000
DTEND;TZID=Europe/Berlin:20260316T160000
DTSTAMP:20260419T180255
CREATED:20250930T121601Z
LAST-MODIFIED:20250930T121601Z
UID:10046885-1773669600-1773676800@www.kinderschutz.de
SUMMARY:Ausgabe von Kinderkleidung
DESCRIPTION:
URL:https://www.kinderschutz.de/veranstaltung/ausgabe-von-kinderkleidung-2/2026-03-16/
LOCATION:HeideTreff Familienzentrum/ Familienstützpunkt\, Karl-Köglsperger-Straße 19\, München\, 80939
CATEGORIES:Freimann,Wochenprogramm
ATTACH;FMTTYPE=image/jpeg:https://www.kinderschutz.de/wp-content/uploads/2024/07/Kleiderkammer.jpg
END:VEVENT
BEGIN:VEVENT
DTSTART;TZID=Europe/Berlin:20260316T140000
DTEND;TZID=Europe/Berlin:20260316T150000
DTSTAMP:20260419T180255
CREATED:20250930T115606Z
LAST-MODIFIED:20250930T131029Z
UID:10045788-1773669600-1773673200@www.kinderschutz.de
SUMMARY:Deutschkurs mit Kinderbetreuung
DESCRIPTION:nur mit Anmeldung
URL:https://www.kinderschutz.de/veranstaltung/deutschkurs-mit-kinderbetreuung-3/2026-03-16/
LOCATION:HeideTreff Familienzentrum/ Familienstützpunkt\, Karl-Köglsperger-Straße 19\, München\, 80939
CATEGORIES:Freimann,Wochenprogramm
ATTACH;FMTTYPE=image/jpeg:https://www.kinderschutz.de/wp-content/uploads/2024/07/Deutschkurs.jpg
END:VEVENT
BEGIN:VEVENT
DTSTART;TZID=Europe/Berlin:20260316T093000
DTEND;TZID=Europe/Berlin:20260316T110000
DTSTAMP:20260419T180255
CREATED:20250527T123654Z
LAST-MODIFIED:20250801T092148Z
UID:10041519-1773653400-1773658800@www.kinderschutz.de
SUMMARY:Elterntalk
DESCRIPTION:bringt Eltern ins Gespräch
URL:https://www.kinderschutz.de/veranstaltung/elterntalk/2026-03-16/
LOCATION:HeideTreff Familienzentrum/ Familienstützpunkt\, Karl-Köglsperger-Straße 19\, München\, 80939
CATEGORIES:Freimann,Wochenprogramm
ATTACH;FMTTYPE=image/jpeg:https://www.kinderschutz.de/wp-content/uploads/2025/01/Fruehe-Foerderung.jpg
END:VEVENT
BEGIN:VEVENT
DTSTART;TZID=Europe/Berlin:20260316T090000
DTEND;TZID=Europe/Berlin:20260316T113000
DTSTAMP:20260419T180255
CREATED:20250930T124643Z
LAST-MODIFIED:20250930T124720Z
UID:10048242-1773651600-1773660600@www.kinderschutz.de
SUMMARY:Spielgruppe (mit Anmeldung)
DESCRIPTION:nur mit Anmeldung
URL:https://www.kinderschutz.de/veranstaltung/spielgruppe-2-2/2026-03-16/
LOCATION:HeideTreff Familienzentrum/ Familienstützpunkt\, Karl-Köglsperger-Straße 19\, München\, 80939
CATEGORIES:Freimann,Wochenprogramm
ATTACH;FMTTYPE=image/jpeg:https://www.kinderschutz.de/wp-content/uploads/2024/07/Spielgruppe.jpg
END:VEVENT
BEGIN:VEVENT
DTSTART;TZID=Europe/Berlin:20260313T140000
DTEND;TZID=Europe/Berlin:20260313T150000
DTSTAMP:20260419T180255
CREATED:20250930T125426Z
LAST-MODIFIED:20250930T125427Z
UID:10046310-1773410400-1773414000@www.kinderschutz.de
SUMMARY:Deutschkurs mit Kinderbetreuung
DESCRIPTION:nur mit Anmeldung
URL:https://www.kinderschutz.de/veranstaltung/deutschkurs-mit-kinderbetreuung-4-2/2026-03-13/
LOCATION:HeideTreff Familienzentrum/ Familienstützpunkt\, Karl-Köglsperger-Straße 19\, München\, 80939
CATEGORIES:Freimann,Wochenprogramm
ATTACH;FMTTYPE=image/jpeg:https://www.kinderschutz.de/wp-content/uploads/2024/07/Deutschkurs.jpg
END:VEVENT
BEGIN:VEVENT
DTSTART;TZID=Europe/Berlin:20260313T110000
DTEND;TZID=Europe/Berlin:20260313T130000
DTSTAMP:20260419T180255
CREATED:20250930T121940Z
LAST-MODIFIED:20250930T121942Z
UID:10047411-1773399600-1773406800@www.kinderschutz.de
SUMMARY:Gemeinsam kochen und essen
DESCRIPTION:Mit Kinderbetreuung
URL:https://www.kinderschutz.de/veranstaltung/gemeinsam-kochen-und-essen-2-2-2/2026-03-13/
LOCATION:HeideTreff Familienzentrum/ Familienstützpunkt\, Karl-Köglsperger-Straße 19\, München\, 80939
CATEGORIES:Freimann,Wochenprogramm
ATTACH;FMTTYPE=image/jpeg:https://www.kinderschutz.de/wp-content/uploads/2024/10/Kochen.jpg
END:VEVENT
BEGIN:VEVENT
DTSTART;TZID=Europe/Berlin:20260313T100000
DTEND;TZID=Europe/Berlin:20260313T113000
DTSTAMP:20260419T180255
CREATED:20250527T123817Z
LAST-MODIFIED:20250801T092047Z
UID:10041780-1773396000-1773401400@www.kinderschutz.de
SUMMARY:Elterntalk
DESCRIPTION:bringt Eltern ins Gespräch
URL:https://www.kinderschutz.de/veranstaltung/elterntalk-2/2026-03-13/
LOCATION:HeideTreff Familienzentrum/ Familienstützpunkt\, Karl-Köglsperger-Straße 19\, München\, 80939
CATEGORIES:Freimann,Wochenprogramm
ATTACH;FMTTYPE=image/jpeg:https://www.kinderschutz.de/wp-content/uploads/2025/01/Fruehe-Foerderung.jpg
END:VEVENT
BEGIN:VEVENT
DTSTART;TZID=Europe/Berlin:20260312T150000
DTEND;TZID=Europe/Berlin:20260312T160000
DTSTAMP:20260419T180255
CREATED:20240712T112513Z
LAST-MODIFIED:20250801T094628Z
UID:10004810-1773327600-1773331200@www.kinderschutz.de
SUMMARY:Eltern-Kind-Turnen
DESCRIPTION:
URL:https://www.kinderschutz.de/veranstaltung/eltern-kind-turnen/2026-03-12/
LOCATION:HeideTreff Familienzentrum/ Familienstützpunkt\, Karl-Köglsperger-Straße 19\, München\, 80939
CATEGORIES:Freimann,Wochenprogramm
ATTACH;FMTTYPE=image/jpeg:https://www.kinderschutz.de/wp-content/uploads/2024/08/Kinderturnen.jpg
END:VEVENT
BEGIN:VEVENT
DTSTART;TZID=Europe/Berlin:20260312T140000
DTEND;TZID=Europe/Berlin:20260312T160000
DTSTAMP:20260419T180255
CREATED:20240712T111448Z
LAST-MODIFIED:20250801T091820Z
UID:10004543-1773324000-1773331200@www.kinderschutz.de
SUMMARY:Offenes Freispiel
DESCRIPTION:
URL:https://www.kinderschutz.de/veranstaltung/offenes-freispiel-2/2026-03-12/
LOCATION:HeideTreff Familienzentrum/ Familienstützpunkt\, Karl-Köglsperger-Straße 19\, München\, 80939
CATEGORIES:Freimann,Wochenprogramm
ATTACH;FMTTYPE=image/jpeg:https://www.kinderschutz.de/wp-content/uploads/2024/07/offenes-Freispiel.jpg
END:VEVENT
BEGIN:VEVENT
DTSTART;TZID=Europe/Berlin:20260312T100000
DTEND;TZID=Europe/Berlin:20260312T120000
DTSTAMP:20260419T180255
CREATED:20240916T145722Z
LAST-MODIFIED:20250801T113541Z
UID:10025737-1773309600-1773316800@www.kinderschutz.de
SUMMARY:e:du-Gruppentreffen
DESCRIPTION:Nur für e:du Familien. Weitere Infos zum e:du Spiel- und Lernprogramm für Kleinkinder im Heidetreff Familienzentrum/Familienstützpunkt.
URL:https://www.kinderschutz.de/veranstaltung/edu-gruppentreffen/2026-03-12/
LOCATION:HeideTreff Familienzentrum/ Familienstützpunkt\, Karl-Köglsperger-Straße 19\, München\, 80939
CATEGORIES:Freimann,Wochenprogramm
ATTACH;FMTTYPE=image/jpeg:https://www.kinderschutz.de/wp-content/uploads/2024/10/EDu.jpg
END:VEVENT
BEGIN:VEVENT
DTSTART;TZID=Europe/Berlin:20260312T100000
DTEND;TZID=Europe/Berlin:20260312T113000
DTSTAMP:20260419T180255
CREATED:20240916T143818Z
LAST-MODIFIED:20250801T091940Z
UID:10025508-1773309600-1773315000@www.kinderschutz.de
SUMMARY:Baby Club
DESCRIPTION:
URL:https://www.kinderschutz.de/veranstaltung/baby-club/2026-03-12/
LOCATION:HeideTreff Familienzentrum/ Familienstützpunkt\, Karl-Köglsperger-Straße 19\, München\, 80939
CATEGORIES:Freimann,Wochenprogramm
ATTACH;FMTTYPE=image/jpeg:https://www.kinderschutz.de/wp-content/uploads/2024/09/Babyclub.jpg
END:VEVENT
BEGIN:VEVENT
DTSTART;TZID=Europe/Berlin:20260311T150000
DTEND;TZID=Europe/Berlin:20260311T163000
DTSTAMP:20260419T180255
CREATED:20240717T083515Z
LAST-MODIFIED:20250801T072150Z
UID:10018673-1773241200-1773246600@www.kinderschutz.de
SUMMARY:Elterncafé
DESCRIPTION:
URL:https://www.kinderschutz.de/veranstaltung/elterncafe-2/2026-03-11/
LOCATION:HeideTreff Familienzentrum/ Familienstützpunkt\, Karl-Köglsperger-Straße 19\, München\, 80939
CATEGORIES:Freimann,Wochenprogramm
ATTACH;FMTTYPE=image/jpeg:https://www.kinderschutz.de/wp-content/uploads/2024/08/Elterncafe.jpg
END:VEVENT
BEGIN:VEVENT
DTSTART;TZID=Europe/Berlin:20260311T100000
DTEND;TZID=Europe/Berlin:20260311T113000
DTSTAMP:20260419T180255
CREATED:20240703T182342Z
LAST-MODIFIED:20250801T072313Z
UID:10003250-1773223200-1773228600@www.kinderschutz.de
SUMMARY:Elterncafé
DESCRIPTION:
URL:https://www.kinderschutz.de/veranstaltung/elterncafe/2026-03-11/
LOCATION:HeideTreff Familienzentrum/ Familienstützpunkt\, Karl-Köglsperger-Straße 19\, München\, 80939
CATEGORIES:Freimann,Wochenprogramm
ATTACH;FMTTYPE=image/jpeg:https://www.kinderschutz.de/wp-content/uploads/2024/08/Elterncafe.jpg
END:VEVENT
BEGIN:VEVENT
DTSTART;TZID=Europe/Berlin:20260311T090000
DTEND;TZID=Europe/Berlin:20260311T120000
DTSTAMP:20260419T180255
CREATED:20240717T083413Z
LAST-MODIFIED:20250801T083358Z
UID:10018412-1773219600-1773230400@www.kinderschutz.de
SUMMARY:Kita-Finder Sprechstunde
DESCRIPTION:Anmeldung bei Marcela Drissi\nTel.: 0152 56 89 48 99
URL:https://www.kinderschutz.de/veranstaltung/kita-finder-sprechstunde/2026-03-11/
LOCATION:HeideTreff Familienzentrum/ Familienstützpunkt\, Karl-Köglsperger-Straße 19\, München\, 80939
CATEGORIES:Freimann,Wochenprogramm
ATTACH;FMTTYPE=image/jpeg:https://www.kinderschutz.de/wp-content/uploads/2024/08/Kita-finder.jpg
END:VEVENT
BEGIN:VEVENT
DTSTART;TZID=Europe/Berlin:20260311T090000
DTEND;TZID=Europe/Berlin:20260311T113000
DTSTAMP:20260419T180255
CREATED:20250930T124643Z
LAST-MODIFIED:20250930T124720Z
UID:10048241-1773219600-1773228600@www.kinderschutz.de
SUMMARY:Spielgruppe (mit Anmeldung)
DESCRIPTION:nur mit Anmeldung
URL:https://www.kinderschutz.de/veranstaltung/spielgruppe-2-2/2026-03-11/
LOCATION:HeideTreff Familienzentrum/ Familienstützpunkt\, Karl-Köglsperger-Straße 19\, München\, 80939
CATEGORIES:Freimann,Wochenprogramm
ATTACH;FMTTYPE=image/jpeg:https://www.kinderschutz.de/wp-content/uploads/2024/07/Spielgruppe.jpg
END:VEVENT
BEGIN:VEVENT
DTSTART;TZID=Europe/Berlin:20260310T150000
DTEND;TZID=Europe/Berlin:20260310T160000
DTSTAMP:20260419T180255
CREATED:20260209T142717Z
LAST-MODIFIED:20260209T142755Z
UID:10057786-1773154800-1773158400@www.kinderschutz.de
SUMMARY:Eltern-Kind-Basteln
DESCRIPTION:
URL:https://www.kinderschutz.de/veranstaltung/eltern-kind-basteln-2-2-2/2026-03-10/
LOCATION:HeideTreff Familienzentrum/ Familienstützpunkt\, Karl-Köglsperger-Straße 19\, München\, 80939
CATEGORIES:Freimann,Wochenprogramm
ATTACH;FMTTYPE=image/png:https://www.kinderschutz.de/wp-content/uploads/2024/07/16.9_5.png
END:VEVENT
BEGIN:VEVENT
DTSTART;TZID=Europe/Berlin:20260310T133000
DTEND;TZID=Europe/Berlin:20260310T150000
DTSTAMP:20260419T180255
CREATED:20241025T152549Z
LAST-MODIFIED:20250801T094115Z
UID:10028960-1773149400-1773154800@www.kinderschutz.de
SUMMARY:Mama-Sport
DESCRIPTION:Selbstorganisiert  
URL:https://www.kinderschutz.de/veranstaltung/mama-sport/2026-03-10/
LOCATION:HeideTreff Familienzentrum/ Familienstützpunkt\, Karl-Köglsperger-Straße 19\, München\, 80939
CATEGORIES:Freimann,Wochenprogramm
ATTACH;FMTTYPE=image/jpeg:https://www.kinderschutz.de/wp-content/uploads/2024/10/Mama-Sport.jpg
END:VEVENT
BEGIN:VEVENT
DTSTART;TZID=Europe/Berlin:20260310T130000
DTEND;TZID=Europe/Berlin:20260310T170000
DTSTAMP:20260419T180255
CREATED:20260112T100948Z
LAST-MODIFIED:20260112T100948Z
UID:10057525-1773147600-1773162000@www.kinderschutz.de
SUMMARY:Migrationsberatung
DESCRIPTION:Offene Sprechstunde
URL:https://www.kinderschutz.de/veranstaltung/migrationsberatung-3/2026-03-10/
LOCATION:HeideTreff Familienzentrum/ Familienstützpunkt\, Karl-Köglsperger-Straße 19\, München\, 80939
CATEGORIES:Freimann,Wochenprogramm
ATTACH;FMTTYPE=image/png:https://www.kinderschutz.de/wp-content/uploads/2025/09/Migrationsberatung.png
END:VEVENT
BEGIN:VEVENT
DTSTART;TZID=Europe/Berlin:20260310T110000
DTEND;TZID=Europe/Berlin:20260310T120000
DTSTAMP:20260419T180255
CREATED:20250110T103235Z
LAST-MODIFIED:20250801T084053Z
UID:10031895-1773140400-1773144000@www.kinderschutz.de
SUMMARY:Sprechstunde Frühe Förderung
DESCRIPTION:Beratung für Eltern mit Kindern von 0-6 Jahren zu Angeboten der Frühen Förderung (Bildungs- und Freizeitangebote).\nBei Neslihan Bachlechner. Ohne Termin.
URL:https://www.kinderschutz.de/veranstaltung/sprechstunde-fruehe-foerderung/2026-03-10/
LOCATION:HeideTreff Familienzentrum/ Familienstützpunkt\, Karl-Köglsperger-Straße 19\, München\, 80939
CATEGORIES:Freimann,Wochenprogramm
ATTACH;FMTTYPE=image/jpeg:https://www.kinderschutz.de/wp-content/uploads/2025/01/Fruehe-Foerderung.jpg
END:VEVENT
BEGIN:VEVENT
DTSTART;TZID=Europe/Berlin:20260310T100000
DTEND;TZID=Europe/Berlin:20260310T120000
DTSTAMP:20260419T180255
CREATED:20250930T122809Z
LAST-MODIFIED:20250930T122926Z
UID:10047949-1773136800-1773144000@www.kinderschutz.de
SUMMARY:Offenes Freispiel
DESCRIPTION:
URL:https://www.kinderschutz.de/veranstaltung/offenes-freispiel-5/2026-03-10/
LOCATION:HeideTreff Familienzentrum/ Familienstützpunkt\, Karl-Köglsperger-Straße 19\, München\, 80939
CATEGORIES:Freimann,Wochenprogramm
ATTACH;FMTTYPE=image/jpeg:https://www.kinderschutz.de/wp-content/uploads/2024/07/offenes-Freispiel.jpg
END:VEVENT
END:VCALENDAR